From mboxrd@z Thu Jan 1 00:00:00 1970 Return-Path: Received: from mails.dpdk.org (mails.dpdk.org [217.70.189.124]) by inbox.dpdk.org (Postfix) with ESMTP id 7AAD448ACB for ; Mon, 10 Nov 2025 12:40:21 +0100 (CET) Received: from mails.dpdk.org (localhost [127.0.0.1]) by mails.dpdk.org (Postfix) with ESMTP id 6EAA1400D6; Mon, 10 Nov 2025 12:40:21 +0100 (CET) Received: from mail-pl1-f227.google.com (mail-pl1-f227.google.com [209.85.214.227]) by mails.dpdk.org (Postfix) with ESMTP id 7F526400D6 for ; Mon, 10 Nov 2025 12:40:20 +0100 (CET) Received: by mail-pl1-f227.google.com with SMTP id d9443c01a7336-2953ad5517dso27748715ad.0 for ; Mon, 10 Nov 2025 03:40:20 -0800 (PST) DKIM-Signature: v=1; a=rsa-sha256; c=relaxed/relaxed; d=iol.unh.edu; s=unh-iol; t=1762774819; x=1763379619; darn=dpdk.org; h=references:in-reply-to:cc:to:from:subject:message-id:date:from:to :cc:subject:date:message-id:reply-to; bh=qgJKiwfRB2j59iVd+PbzPWS+J+bhhkdCri1sK3E2WmY=; b=CziNlTxutiTQe82smjMe/iiX9Gf94kymwJwmLVxE1OZicNnqh3gr1NAy5wI7kXjLSJ OIFgi1mW7wiXjSi5lwvULg3PQUIGucf9S+rfsd7e7dn1sokhVRvkAhforhDKlWLptdfd qbbvng2Anck/ZLcyyBNoef5ZOBiPpaNKIUbcI= X-Google-DKIM-Signature: v=1; a=rsa-sha256; c=relaxed/relaxed; d=1e100.net; s=20230601; t=1762774819; x=1763379619; h=references:in-reply-to:cc:to:from:subject:message-id:date:x-gm-gg :x-gm-message-state:from:to:cc:subject:date:message-id:reply-to; bh=qgJKiwfRB2j59iVd+PbzPWS+J+bhhkdCri1sK3E2WmY=; b=mpe4hZYJMxWSdwHeXuEipDP+sJzjtFvXqeD3GI0KpDCKItsPJyF9LR4RDdkNp8FBce ETa5Mt2Gvj2L/gGT0GD3669RrpcR0WhrJ6IkkPS/mYJXfU0fpnYQsmBjLhwD+OhayxZB XpCzOwdC8GJ+n6Hkjj+KAnrj7YebnpW2CkuxMc6dcHdEVTFpjZNaBP86NrwQoIiUMm2w zemfm4Z/h0nx5+EbTX7TSoo6MPadWHkwoOHvh7uv3kut1W2BrloBmT2wterltO8iFGkO 8MdIsI0vNrCUBWmaMXJAgTI6mOQ+9IJvvRxrq5U6tEnxjBrktr0Ms3x3abWCMJf3444C SNPw== X-Gm-Message-State: AOJu0YzmmH+7wdqWHZ0U1pGx9amNN+JqNJKt59NMRf6ulmlvRJzQuHnB mIxrxNjNLQq1X3EUsX7GWZ3E0aGVacNuBcyIuIIcc1V2UrokveNJGKY8iZJPijPdw5/4lfORE/U 3FVFYm9IGXmgw74SgLhspt7Q2XfNj2QmpoAneLa64O9QY X-Gm-Gg: ASbGnctO4EenF7kWk8OxL09RWOnBbWSashapU2rjrpgoU8oHynCU2P4/BFd/MXgjJXj IJBmyKJQJzn5YHwAh2IZK/uNFXFFRUg2XM9GCzRd0MvP+8rbQWXftCUEcvnbZBnHUQeYQZpzrkI mz4AKixpyZEgb05kXPepjVdMkO5tauDPkzNd0ppxEr7tQL4wx+Auh/PJizc/GCaprQfDWXAgnZA Er82E0Sry886hcRhM6MmtDM6TFpGLXzWPuTlhpXv4by6rtcUhsALeJnbLZfWyA14gEk4eKi2mgf lpKMnf+BkkqBLZtxGLynRO72N31VBENF8pxyQWab5YYoTSbHLJBRGaVhgiZu3+UOAtc3hjJAQJf oKNvk5z+RfS+OkVWb1GY0pPYq2IUYErM= X-Google-Smtp-Source: AGHT+IEkIlL0EZSzxS3Q+G7IjWO0l3yTV9t2QbSi2UP3m+h43P2udPUd7Z3NhiFu2fnNwnQVzpG+3h9Jp7lB X-Received: by 2002:a17:903:244a:b0:295:bba8:3c4d with SMTP id d9443c01a7336-297e56ada4fmr94888485ad.35.1762774819607; Mon, 10 Nov 2025 03:40:19 -0800 (PST) Received: from postal.iol.unh.edu (postal.iol.unh.edu. [132.177.123.84]) by smtp-relay.gmail.com with ESMTPS id d9443c01a7336-2965104dddbsm13528225ad.29.2025.11.10.03.40.19 (version=TLS1_2 cipher=ECDHE-ECDSA-AES128-GCM-SHA256 bits=128/128); Mon, 10 Nov 2025 03:40:19 -0800 (PST) X-Relaying-Domain: iol.unh.edu Date: Mon, 10 Nov 2025 03:40:19 -0800 (PST) Message-ID: <6911cf23.170a0220.505bd.47ebSMTPIN_ADDED_MISSING@mx.google.com> Received: from [172.21.0.3] (unknown [172.18.0.240]) by postal.iol.unh.edu (Postfix) with ESMTP id 20DFC6051830; Mon, 10 Nov 2025 06:40:19 -0500 (EST) Subject: |SUCCESS| pw158627 [PATCH] [v2] net/ice: fix statistics read error From: dpdklab@iol.unh.edu To: Test Report Cc: dpdk-test-reports@iol.unh.edu, Bruce Richardson In-Reply-To: <20251110080514.2506769-1-zhichaox.zeng@intel.com> References: <20251110080514.2506769-1-zhichaox.zeng@intel.com> Content-Type: text/plain X-BeenThere: test-report@dpdk.org X-Mailman-Version: 2.1.29 Precedence: list List-Id: automatic DPDK test reports List-Unsubscribe: , List-Archive: List-Post: List-Help: List-Subscribe: , Errors-To: test-report-bounces@dpdk.org Test-Label: iol-compile-arm64-testing Test-Status: SUCCESS http://dpdk.org/patch/158627 _Testing PASS_ Submitter: Zhichao Zeng Date: Monday, November 10 2025 08:05:14 DPDK git baseline: Repo:dpdk-next-net-intel Branch: master CommitID:1655dc989bc95fa85fc76d32912d2e46c0851148 158627 --> testing pass Upstream job id: Generic-DPDK-Compile-Meson#442515 Test environment and result as below: +------------------------------+--------------------+ | Environment | dpdk_meson_compile | +==============================+====================+ | Red Hat Enterprise Linux 9.5 | PASS | +------------------------------+--------------------+ | Ubuntu 20.04 | PASS | +------------------------------+--------------------+ | Debian GNU/Linux 12 | PASS | +------------------------------+--------------------+ | Fedora Linux 42 | PASS | +------------------------------+--------------------+ | Ubuntu 24.04 | PASS | +------------------------------+--------------------+ | CentOS Stream 9 | PASS | +------------------------------+--------------------+ | Ubuntu 22.04 | PASS | +------------------------------+--------------------+ | CentOS Stream 10 | PASS | +------------------------------+--------------------+ Red Hat Enterprise Linux 9.5 Kernel: 5.4 Compiler: gcc gcc (GCC) 11.5.0 20240719 (Red Hat 11.5.0-2) Ubuntu 20.04 Kernel: 5.15 Compiler: aarch64-linux-gnu-gcc gcc (Ubuntu 9.4.0-1ubuntu1~20.04.2) 9.4.0 Debian GNU/Linux 12 Kernel: 5.4 Compiler: gcc gcc (Debian 12.2.0-14+deb12u1) 12.2.0 Fedora Linux 42 Kernel: 5.4 Compiler: gcc gcc (GCC) 15.2.1 20250808 (Red Hat 15.2.1-1) Ubuntu 24.04 Kernel: 5.4 Compiler: gcc gcc (Ubuntu 13.3.0-6ubuntu2~24.04) 13.3.0 CentOS Stream 9 Kernel: 5.4 Compiler: gcc gcc (GCC) 11.5.0 20240719 (Red Hat 11.5.0-11) Ubuntu 22.04 Kernel: 5.4 Compiler: gcc gcc (Ubuntu 11.4.0-1ubuntu1~22.04) 11.4.0 CentOS Stream 10 Kernel: 5.4 Compiler: gcc gcc (GCC) 14.2.1 20250110 (Red Hat 14.2.1-8) To view detailed results, visit: https://lab.dpdk.org/results/dashboard/patchsets/34517/ UNH-IOL DPDK Community Lab To manage your email subscriptions, visit: https://lab.dpdk.org/results/dashboard/preferences/subscriptions/