From mboxrd@z Thu Jan 1 00:00:00 1970 Return-Path: Received: from mails.dpdk.org (mails.dpdk.org [217.70.189.124]) by inbox.dpdk.org (Postfix) with ESMTP id CF6DC48ACB for ; Mon, 10 Nov 2025 13:42:16 +0100 (CET) Received: from mails.dpdk.org (localhost [127.0.0.1]) by mails.dpdk.org (Postfix) with ESMTP id B2C14400D6; Mon, 10 Nov 2025 13:42:16 +0100 (CET) Received: from mail-pl1-f228.google.com (mail-pl1-f228.google.com [209.85.214.228]) by mails.dpdk.org (Postfix) with ESMTP id 262E8400D6 for ; Mon, 10 Nov 2025 13:42:16 +0100 (CET) Received: by mail-pl1-f228.google.com with SMTP id d9443c01a7336-2956d816c10so31853025ad.1 for ; Mon, 10 Nov 2025 04:42:16 -0800 (PST) DKIM-Signature: v=1; a=rsa-sha256; c=relaxed/relaxed; d=iol.unh.edu; s=unh-iol; t=1762778535; x=1763383335; darn=dpdk.org; h=references:in-reply-to:cc:to:from:subject:message-id:date:from:to :cc:subject:date:message-id:reply-to; bh=YY9ClssMIHcdgS0+vQPboGeFVe5YoONYoRubkWY8atg=; b=P/FjgCJyhAX+aTRx38bovMGPH+uspTJD66hd8wE8ZVkYyhxCnY0w823H99XSQBM8ez 33QKKqYiU3RdpvAY38hGz+bMttFYSQ/SHPtEgM26p2UYbCsjKG3KK9FQoL0s4jSNavUh bVCQGOKxk+nqyixKXjeyzlEgiqD2BSa0/hrVk= X-Google-DKIM-Signature: v=1; a=rsa-sha256; c=relaxed/relaxed; d=1e100.net; s=20230601; t=1762778535; x=1763383335; h=references:in-reply-to:cc:to:from:subject:message-id:date:x-gm-gg :x-gm-message-state:from:to:cc:subject:date:message-id:reply-to; bh=YY9ClssMIHcdgS0+vQPboGeFVe5YoONYoRubkWY8atg=; b=FbZcOxdP6FBGJXqGRvSblUpsPkx4TRjopYJM0BFubEiyeQWvKSEpu37YJAD5FtF3fW 6GzJJfi7+hGS/rikCKESKKWrd2LjX5rFXn0S6FcQ0HH4vPZ8/Q2U8hfGtLsXBzkrPZ3Q dxbe6oq3WOIAsxqFTYLHmRcm6ZvxCUp/E1uQEAJ0EoW7+1o3pVRIsomRTIPtDrFqa/6X 2kdVJgrNpvInAUi90vvjuz5FBqGnnIE+LDzaWv4zvJvTIe0ikw/5OobH5nW6pS6GHjy8 hR7tgQBeqyj3agSygQcwV460GRMSst1upM/MwO3knAqe7cb5aHY8tLSLlqbi0di0dw04 a23w== X-Gm-Message-State: AOJu0YzoEKQBlS7dbGItWjoefKlr7/NqXmDh/izX5fi8xRBQtNmUyTgX D9hP1a8wITpRS3jEJZTauM+TVgpEUPhBkR52iV8oXaCbBpJMi23M8Gccl+F7v6qOGxghtMc1hzu ffxILi+tt+bkRg6vzIL5R3lb2XO8I+Xrx/mRlZC6+oij9oN+yKfiWvMET9lZc X-Gm-Gg: ASbGncvc/xowiN4504p2aTuO98nqytHIKSGoNaf7iL8OBaC+HOsiybNhWYwBVeEzHxs GAlQp7eZpNngO5yoL1FPk8tM2kvLukf/iNy9hIpLPX499qfpFJxzrpOmAhQmQ9r7cn8qewOICyX 8iYq7g+lzF+xsBLbtf880gWcSmmaA6hTuKhfbNo84fPtp+uB+stY/6SgfVBr2OQKxCR/wcx27WM IVyc6BIg+pWvsrU3p1AJcMkthKmbZvVmazXRp1/gax9KjEioiAcvSK+tgBeRpxODsOd2jTDMxPG +i2SzKOFMFQZBBl3I7upp+ERWGL5LJlnSGImpR2Ei52XEMOzaiXiZAfgTvdjPfdDYVtUM5p1dmM RBfyZ21A2 X-Google-Smtp-Source: AGHT+IE4LYlFamHBRTNtOZSfEW4XF+Lsw7z3CfuOUyNe6wWhLHDD3siZBhV0plkP40w5kWi+5OA3VDmqbmq6 X-Received: by 2002:a17:902:da4b:b0:297:dfb5:5b90 with SMTP id d9443c01a7336-297e56aeb4bmr99406515ad.28.1762778535254; Mon, 10 Nov 2025 04:42:15 -0800 (PST) Received: from postal.iol.unh.edu (postal.iol.unh.edu. [2606:4100:3880:1234::84]) by smtp-relay.gmail.com with ESMTPS id d9443c01a7336-29651cc5d00sm13309585ad.63.2025.11.10.04.42.15 (version=TLS1_2 cipher=ECDHE-ECDSA-AES128-GCM-SHA256 bits=128/128); Mon, 10 Nov 2025 04:42:15 -0800 (PST) X-Relaying-Domain: iol.unh.edu Date: Mon, 10 Nov 2025 04:42:15 -0800 (PST) Message-ID: <6911dda7.170a0220.31670c.417eSMTPIN_ADDED_MISSING@mx.google.com> Received: from [172.21.0.2] (unknown [172.18.0.240]) by postal.iol.unh.edu (Postfix) with ESMTP id A23AD6051830; Mon, 10 Nov 2025 07:42:14 -0500 (EST) Subject: |SUCCESS| pw158630 [PATCH] [v3,1/1] ring: fix unsafe ordering for he From: dpdklab@iol.unh.edu To: Test Report Cc: dpdk-test-reports@iol.unh.edu In-Reply-To: <20251110101717.233685-2-konstantin.ananyev@huawei.com> References: <20251110101717.233685-2-konstantin.ananyev@huawei.com> Content-Type: text/plain X-BeenThere: test-report@dpdk.org X-Mailman-Version: 2.1.29 Precedence: list List-Id: automatic DPDK test reports List-Unsubscribe: , List-Archive: List-Post: List-Help: List-Subscribe: , Errors-To: test-report-bounces@dpdk.org Test-Label: iol-unit-amd64-testing Test-Status: SUCCESS http://dpdk.org/patch/158630 _Testing PASS_ Submitter: Konstantin Ananyev Date: Monday, November 10 2025 10:17:17 DPDK git baseline: Repo:dpdk Branch: master CommitID:2e22572b9a6ce8bcdc0347313a35bb3066b0faff 158630 --> testing pass Upstream job id: Generic-Unit-Test-DPDK#390528 Test environment and result as below: +-------------------------------+----------------+ | Environment | dpdk_unit_test | +===============================+================+ | Red Hat Enterprise Linux 8.10 | PASS | +-------------------------------+----------------+ | Fedora Linux 41 | PASS | +-------------------------------+----------------+ | Ubuntu 24.04 | PASS | +-------------------------------+----------------+ | Red Hat Enterprise Linux 9.5 | PASS | +-------------------------------+----------------+ | Ubuntu 20.04 | PASS | +-------------------------------+----------------+ | Fedora Linux 42 | PASS | +-------------------------------+----------------+ | CentOS Stream 10 | PASS | +-------------------------------+----------------+ | Ubuntu 22.04 | PASS | +-------------------------------+----------------+ | Fedora Linux 40 | PASS | +-------------------------------+----------------+ | Debian GNU/Linux 12 | PASS | +-------------------------------+----------------+ | CentOS Stream 9 | PASS | +-------------------------------+----------------+ | Windows Server 2022 | PASS | +-------------------------------+----------------+ Red Hat Enterprise Linux 8.10 Kernel: 5.15 Compiler: gcc gcc (GCC) 8.5.0 20210514 (Red Hat 8.5.0-22) Fedora Linux 41 Kernel: 5.15 Compiler: clang gcc (GCC) 14.3.1 20250523 (Red Hat 14.3.1-1) Ubuntu 24.04 Kernel: 5.15 Compiler: gcc gcc (Ubuntu 13.3.0-6ubuntu2~24.04) 13.3.0 Red Hat Enterprise Linux 9.5 Kernel: 5.15 Compiler: gcc gcc (GCC) 11.5.0 20240719 (Red Hat 11.5.0-2) Ubuntu 20.04 Kernel: 5.15 Compiler: gcc gcc (Ubuntu 9.4.0-1ubuntu1~20.04.2) 9.4.0 Fedora Linux 42 Kernel: 5.15 Compiler: gcc gcc (GCC) 15.2.1 20250808 (Red Hat 15.2.1-1) CentOS Stream 10 Kernel: 5.15 Compiler: gcc gcc (GCC) 14.2.1 20250110 (Red Hat 14.2.1-8) Ubuntu 22.04 Kernel: 5.15 Compiler: gcc gcc (Ubuntu 11.4.0-1ubuntu1~22.04) 11.4.0 Fedora Linux 40 Kernel: 5.15 Compiler: gcc gcc (GCC) 14.2.1 20240912 (Red Hat 14.2.1-3) Debian GNU/Linux 12 Kernel: 5.15 Compiler: gcc gcc (Debian 12.2.0-14+deb12u1) 12.2.0 CentOS Stream 9 Kernel: 5.15 Compiler: gcc gcc (GCC) 11.5.0 20240719 (Red Hat 11.5.0-11) Windows Server 2022 Kernel: 10.0.20348.2031 Compiler: clang 15.0.7, gcc 14.1.0 (MinGW), and MSVC VS 19.39.33521 To view detailed results, visit: https://lab.dpdk.org/results/dashboard/patchsets/34518/ UNH-IOL DPDK Community Lab To manage your email subscriptions, visit: https://lab.dpdk.org/results/dashboard/preferences/subscriptions/