From mboxrd@z Thu Jan 1 00:00:00 1970 Return-Path: Received: from mails.dpdk.org (mails.dpdk.org [217.70.189.124]) by inbox.dpdk.org (Postfix) with ESMTP id 3E92448ACC for ; Mon, 10 Nov 2025 14:02:01 +0100 (CET) Received: from mails.dpdk.org (localhost [127.0.0.1]) by mails.dpdk.org (Postfix) with ESMTP id 237D54026D; Mon, 10 Nov 2025 14:02:01 +0100 (CET) Received: from mail-qv1-f99.google.com (mail-qv1-f99.google.com [209.85.219.99]) by mails.dpdk.org (Postfix) with ESMTP id F357A4026D for ; Mon, 10 Nov 2025 14:01:59 +0100 (CET) Received: by mail-qv1-f99.google.com with SMTP id 6a1803df08f44-8824ce98111so12993806d6.0 for ; Mon, 10 Nov 2025 05:01:59 -0800 (PST) DKIM-Signature: v=1; a=rsa-sha256; c=relaxed/relaxed; d=iol.unh.edu; s=unh-iol; t=1762779719; x=1763384519; darn=dpdk.org; h=references:in-reply-to:cc:to:from:subject:message-id:date:from:to :cc:subject:date:message-id:reply-to; bh=Ggf88tPOwWLtgEE6RvwmLaMUMUDt9inm6M4DnDt82mg=; b=OhSg5/bd0lB6EkWLGxF4xAH4x7JtvgUSXGg9e74PHXRkvTNvSjA7Yf9i8jJIDSHEyX USUVeVRPjkvyPGUPTqZfvCfXH1/gFKMo5gHluk2aiZjsrsRt6+0QFV/W//ym16rJCtSp +jj/3WuVFyPDbtuFZQFmWyEIwVurSjzjDlhGQ= X-Google-DKIM-Signature: v=1; a=rsa-sha256; c=relaxed/relaxed; d=1e100.net; s=20230601; t=1762779719; x=1763384519; h=references:in-reply-to:cc:to:from:subject:message-id:date:x-gm-gg :x-gm-message-state:from:to:cc:subject:date:message-id:reply-to; bh=Ggf88tPOwWLtgEE6RvwmLaMUMUDt9inm6M4DnDt82mg=; b=XNRw9Hzj31iM4IbUByGse4Mjbab50EUCqRHdswCOf/S1Q+D7dMFHUlw61jJIs3nr7A QFruDDPX58OduNGVJXkXNlqsZcRB4pY14d+2dCiX0s6VL+TdgU333lZN7zoHr4/XZdhf YEIJleylystCKJKbaQ8jIeTBciY2dBW7OTUtZUwg6wMWsfoVN5s5X644wOCZVOtC3UDN pjVbiN9Pbupo41z3vC8zBQ4lBn6dFNJFa+j2LeKjIqHoMg/4KOI4jYqpYkZ8zAL4v9oq KlI8kNn+UD0aHDq9aIZClJvWLT6RXbl45DVhLdzag0fWWIJ0lq70RSkhQjt+2+PrG2oq OSlg== X-Gm-Message-State: AOJu0YyiN/B4AVSeJ6nqpM8YzKY/E0mTpv79GkJPfblUGgFAfc+ckyF6 QIDLfqAVgHnmJTAwIds9njuAxVs+GLW+iBzLGlx29VtOQpHozN+Ay8kzxV6aItCHvGiotDX8bvu v52wNXsNail1n4AmGc8p5HlfL3haUFW6iiWgCxLLzQmcP X-Gm-Gg: ASbGncvPkHnVzBzl4//aw6rOz/k2CbJqAmpaissU/0Bwqi3wS04GkfcnpEoqvE67iZD G+iNgtIhXKq1IUKq1l5wVHiyIv2s9+m9El4MLFkqoobNLG5jWr1OhJeNhRnfaoxRaQcssVmVf4C n3htBK5WfnT12rgJQOgCsZt9f44PUmKw8J7dYn2oQyYVt7hAIcwrp7kyhwtZdoD14cVqMPYIl8r +9NpId8yj8qOcSqCrXqGc6rqh1vnxFaQWg9bvnaMc7RhE6Xfpjgknb62pBQ7zVSvFWoMzTuBzjx IJadmaENbDbgeNxJC1DRc1BvxvysnbDu9pWZID2d0LR77k8udc8kzoFo3psgUrTdm6BpnXbah5P LESb51HgTrOXkMZN9HiZUum5HqQ6P21s= X-Google-Smtp-Source: AGHT+IGNoqzfZUYG2pH28LV5NkhIVWzxm8uhUXhlkU7MFyJA+aLB7Pem7eT9AhSry0fz34XziAht86hRNFf6 X-Received: by 2002:ad4:5d4e:0:b0:882:42e6:171a with SMTP id 6a1803df08f44-88242e619damr99235656d6.29.1762779718919; Mon, 10 Nov 2025 05:01:58 -0800 (PST) Received: from postal.iol.unh.edu (postal.iol.unh.edu. [132.177.123.84]) by smtp-relay.gmail.com with ESMTPS id 6a1803df08f44-882389948e3sm8429016d6.12.2025.11.10.05.01.58 (version=TLS1_2 cipher=ECDHE-ECDSA-AES128-GCM-SHA256 bits=128/128); Mon, 10 Nov 2025 05:01:58 -0800 (PST) X-Relaying-Domain: iol.unh.edu Date: Mon, 10 Nov 2025 05:01:58 -0800 (PST) Message-ID: <6911e246.050a0220.10cd49.a3b3SMTPIN_ADDED_MISSING@mx.google.com> Received: from [172.21.0.9] (unknown [172.18.0.240]) by postal.iol.unh.edu (Postfix) with ESMTP id 9B0DE6051830; Mon, 10 Nov 2025 08:01:58 -0500 (EST) Subject: |SUCCESS| pw158630 [PATCH] [v3,1/1] ring: fix unsafe ordering for he From: dpdklab@iol.unh.edu To: Test Report Cc: dpdk-test-reports@iol.unh.edu In-Reply-To: <20251110101717.233685-2-konstantin.ananyev@huawei.com> References: <20251110101717.233685-2-konstantin.ananyev@huawei.com> Content-Type: text/plain X-BeenThere: test-report@dpdk.org X-Mailman-Version: 2.1.29 Precedence: list List-Id: automatic DPDK test reports List-Unsubscribe: , List-Archive: List-Post: List-Help: List-Subscribe: , Errors-To: test-report-bounces@dpdk.org Test-Label: iol-compile-amd64-testing Test-Status: SUCCESS http://dpdk.org/patch/158630 _Testing PASS_ Submitter: Konstantin Ananyev Date: Monday, November 10 2025 10:17:17 DPDK git baseline: Repo:dpdk Branch: master CommitID:2e22572b9a6ce8bcdc0347313a35bb3066b0faff 158630 --> testing pass Upstream job id: Generic-DPDK-Compile-Meson#442534 Test environment and result as below: +-------------------------------+--------------------+-------------------------+------------------+-------------------+----------------------+ | Environment | dpdk_meson_compile | dpdk_llvm_clang_compile | dpdk_compile_ovs | dpdk_msvc_compile | dpdk_mingw64_compile | +===============================+====================+=========================+==================+===================+======================+ | FreeBSD 14.2 | PASS | SKIPPED | SKIPPED | SKIPPED | SKIPPED | +-------------------------------+--------------------+-------------------------+------------------+-------------------+----------------------+ | Ubuntu 20.04 | PASS | SKIPPED | SKIPPED | SKIPPED | SKIPPED | +-------------------------------+--------------------+-------------------------+------------------+-------------------+----------------------+ | CentOS Stream 9 | PASS | SKIPPED | SKIPPED | SKIPPED | SKIPPED | +-------------------------------+--------------------+-------------------------+------------------+-------------------+----------------------+ | Ubuntu 24.04 | PASS | SKIPPED | PASS | SKIPPED | SKIPPED | +-------------------------------+--------------------+-------------------------+------------------+-------------------+----------------------+ | Fedora Linux 42 | PASS | SKIPPED | PASS | SKIPPED | SKIPPED | +-------------------------------+--------------------+-------------------------+------------------+-------------------+----------------------+ | Red Hat Enterprise Linux 8.10 | PASS | SKIPPED | SKIPPED | SKIPPED | SKIPPED | +-------------------------------+--------------------+-------------------------+------------------+-------------------+----------------------+ | Ubuntu 22.04 | PASS | SKIPPED | SKIPPED | SKIPPED | SKIPPED | +-------------------------------+--------------------+-------------------------+------------------+-------------------+----------------------+ | Alpine Linux 3.22.0 | PASS | SKIPPED | SKIPPED | SKIPPED | SKIPPED | +-------------------------------+--------------------+-------------------------+------------------+-------------------+----------------------+ | Red Hat Enterprise Linux 9.5 | PASS | SKIPPED | SKIPPED | SKIPPED | SKIPPED | +-------------------------------+--------------------+-------------------------+------------------+-------------------+----------------------+ | Debian GNU/Linux 12 | PASS | SKIPPED | SKIPPED | SKIPPED | SKIPPED | +-------------------------------+--------------------+-------------------------+------------------+-------------------+----------------------+ | openSUSE Leap 15.6 | PASS | SKIPPED | SKIPPED | SKIPPED | SKIPPED | +-------------------------------+--------------------+-------------------------+------------------+-------------------+----------------------+ | CentOS Stream 10 | PASS | SKIPPED | SKIPPED | SKIPPED | SKIPPED | +-------------------------------+--------------------+-------------------------+------------------+-------------------+----------------------+ | Windows Server 2022 | SKIPPED | PASS | SKIPPED | PASS | PASS | +-------------------------------+--------------------+-------------------------+------------------+-------------------+----------------------+ FreeBSD 14.2 Kernel: 14.2-RELEASE Compiler: clang 18.1.6 Ubuntu 20.04 Kernel: 4.19 Compiler: gcc gcc (Ubuntu 9.4.0-1ubuntu1~20.04.2) 9.4.0 CentOS Stream 9 Kernel: 5.15 Compiler: gcc gcc (GCC) 11.5.0 20240719 (Red Hat 11.5.0-11) Ubuntu 24.04 Kernel: 5.15 Compiler: gcc gcc (Ubuntu 13.3.0-6ubuntu2~24.04) 13.3.0 Fedora Linux 42 Kernel: 5.15 Compiler: gcc gcc (GCC) 15.2.1 20250808 (Red Hat 15.2.1-1) Red Hat Enterprise Linux 8.10 Kernel: 5.15 Compiler: gcc gcc (GCC) 8.5.0 20210514 (Red Hat 8.5.0-22) Ubuntu 22.04 Kernel: 5.15 Compiler: gcc gcc (Ubuntu 11.4.0-1ubuntu1~22.04) 11.4.0 Alpine Linux 3.22.0 Kernel: 5.15 Compiler: gcc gcc (Alpine 14.2.0) 14.2.0 Red Hat Enterprise Linux 9.5 Kernel: 5.15 Compiler: gcc gcc (GCC) 11.5.0 20240719 (Red Hat 11.5.0-2) Debian GNU/Linux 12 Kernel: 5.15 Compiler: gcc gcc (Debian 12.2.0-14+deb12u1) 12.2.0 openSUSE Leap 15.6 Kernel: 5.15 Compiler: gcc gcc (SUSE Linux) 7.5.0 CentOS Stream 10 Kernel: 5.15 Compiler: gcc gcc (GCC) 14.2.1 20250110 (Red Hat 14.2.1-8) Windows Server 2022 Kernel: 10.0.20348.2031 Compiler: clang 15.0.7, gcc 14.1.0 (MinGW), and MSVC VS 19.39.33521 To view detailed results, visit: https://lab.dpdk.org/results/dashboard/patchsets/34518/ UNH-IOL DPDK Community Lab To manage your email subscriptions, visit: https://lab.dpdk.org/results/dashboard/preferences/subscriptions/