From mboxrd@z Thu Jan 1 00:00:00 1970 Return-Path: Received: from mails.dpdk.org (mails.dpdk.org [217.70.189.124]) by inbox.dpdk.org (Postfix) with ESMTP id 788E648ACC for ; Mon, 10 Nov 2025 14:25:44 +0100 (CET) Received: from mails.dpdk.org (localhost [127.0.0.1]) by mails.dpdk.org (Postfix) with ESMTP id 573DA4026D; Mon, 10 Nov 2025 14:25:44 +0100 (CET) Received: from mail-pj1-f99.google.com (mail-pj1-f99.google.com [209.85.216.99]) by mails.dpdk.org (Postfix) with ESMTP id CF0684026D for ; Mon, 10 Nov 2025 14:25:42 +0100 (CET) Received: by mail-pj1-f99.google.com with SMTP id 98e67ed59e1d1-3436d6bdce8so2282667a91.3 for ; Mon, 10 Nov 2025 05:25:42 -0800 (PST) DKIM-Signature: v=1; a=rsa-sha256; c=relaxed/relaxed; d=iol.unh.edu; s=unh-iol; t=1762781142; x=1763385942; darn=dpdk.org; h=references:in-reply-to:cc:to:from:subject:message-id:date:from:to :cc:subject:date:message-id:reply-to; bh=xJdV4NQG6XgeKUqVVPjvsrZ5ufiTYJLUAPTsUXw9aCI=; b=CFC6jPyYdhFBSi1j2XpmFjjfOurdFqTVQ5oeUS5E5CK2M77Lpb4MkwFJMbGeNWSJze i3SAc7z933jttLVYPf67f0zQd9rZgh/VgESCEBZPIe5pJefU+9L3IzkHfjwidQV0/Ca4 3Ic48u/zU54Rhlyhm8oeO0/toRwmay7H/Chbc= X-Google-DKIM-Signature: v=1; a=rsa-sha256; c=relaxed/relaxed; d=1e100.net; s=20230601; t=1762781142; x=1763385942; h=references:in-reply-to:cc:to:from:subject:message-id:date:x-gm-gg :x-gm-message-state:from:to:cc:subject:date:message-id:reply-to; bh=xJdV4NQG6XgeKUqVVPjvsrZ5ufiTYJLUAPTsUXw9aCI=; b=PnHY2b+KUZ8NIIB+kkbO3XOXXwKaLYxlTS1np0X3Un88++71o1/rOu3lSCF4ChZR6N s70cIa1MZYFDfJrvyAT8c1h4+klz40GxANb/wryQziU295BKLG1eqTMeCrxx0xYzbS38 N4JDgZzKqqSDwmfaEZKUlu931ZDI83KByOf9rXJ7iZqqvBP0ZdRB48bEtKmFyhaFd9j7 7mEF+ghuQux4ofDRQXkDx9HntJ8CAEv+CbqCX5/Db6DM4FjDP5MIH/h+PY6Lix/OcASo oqPngsgESKs8AYjEnk242qCAZtD0CvGQYVLgA029tVaILs9oD1Zjd3SKddx3jyJdxnEs U10w== X-Gm-Message-State: AOJu0YzBJU4XMWsA3suiOqs/RqhIzJr6d1xX/+1mRg/dvzxm3OxLFGGn CzwZr9GY2+RSu0ZTXZb/IcursJkGW3G4o2HDrRkW8Yo+yShWzqHTL2K+B3GkpicMdlxkpkUV7Or edI7llPlomHoUHZVP4+XXApRlA5Z+ZzaovBE53wLshdqs X-Gm-Gg: ASbGncs0kwYCfNfQTS/RjJpRKZTyaHW3c3dnZl1d/KHyRM+UopfHTv0mx0ygS3JKrdm YK+ceqT2G+0MhtyBoG1IG1KAtLMOWlFc+0GVukTguKn0K2sZAItSqeUqjiHD1EboHEQdu7yA4xk eSG7StDZnKkNaUtwAyY/92lcuoPc3WB4NPQ1Xv3z9I6lknHmdtaAaIQDsYCQEN42B3CsSxEYRI0 sTiTyzno6Gl//+OYzmPI7sOWd3yFkwAjWIo9ypBE50EN3hdjHoZUr8/b3eD8yNh1tp4KxcLHud4 vGn7wkEZO+MePUebe0XBOy0azRByN5inhd3s7HG5O3FfXOwQVxFslVnCpcrW7f4e++kbIPbl4BH 9wsmQvoM6Akx+mVukQ4O2NKb9UVckZGg= X-Google-Smtp-Source: AGHT+IG4MxsllDZ9bntRKIjxl0WuywUxBdLUKo/sbmisRELKTo5lWeDoQMvWboPvbISGQYM9c+v5ChDbCEJB X-Received: by 2002:a17:90b:3f0b:b0:32e:a5ae:d00 with SMTP id 98e67ed59e1d1-3436cb9833fmr10641790a91.13.1762781141449; Mon, 10 Nov 2025 05:25:41 -0800 (PST) Received: from postal.iol.unh.edu (postal.iol.unh.edu. [132.177.123.84]) by smtp-relay.gmail.com with ESMTPS id 98e67ed59e1d1-341d0593ff4sm1453568a91.3.2025.11.10.05.25.41 (version=TLS1_2 cipher=ECDHE-ECDSA-AES128-GCM-SHA256 bits=128/128); Mon, 10 Nov 2025 05:25:41 -0800 (PST) X-Relaying-Domain: iol.unh.edu Date: Mon, 10 Nov 2025 05:25:41 -0800 (PST) Message-ID: <6911e7d5.170a0220.1af38.9471SMTPIN_ADDED_MISSING@mx.google.com> Received: from [172.21.0.3] (unknown [172.18.0.240]) by postal.iol.unh.edu (Postfix) with ESMTP id A95BF60003E8; Mon, 10 Nov 2025 08:25:40 -0500 (EST) Subject: |SUCCESS| pw158631 [PATCH] net/ice: set pkt prepare to dummy instead From: dpdklab@iol.unh.edu To: Test Report Cc: dpdk-test-reports@iol.unh.edu, Bruce Richardson In-Reply-To: <20251110122457.2575615-1-skori@marvell.com> References: <20251110122457.2575615-1-skori@marvell.com> Content-Type: text/plain X-BeenThere: test-report@dpdk.org X-Mailman-Version: 2.1.29 Precedence: list List-Id: automatic DPDK test reports List-Unsubscribe: , List-Archive: List-Post: List-Help: List-Subscribe: , Errors-To: test-report-bounces@dpdk.org Test-Label: iol-unit-amd64-testing Test-Status: SUCCESS http://dpdk.org/patch/158631 _Testing PASS_ Submitter: Sunil Kumar Kori Date: Monday, November 10 2025 12:24:54 DPDK git baseline: Repo:dpdk-next-net-intel Branch: master CommitID:1655dc989bc95fa85fc76d32912d2e46c0851148 158631 --> testing pass Upstream job id: Generic-VM-Unit-Test-DPDK#32427 Test environment and result as below: +-------------------------------+----------------+ | Environment | dpdk_unit_test | +===============================+================+ | Red Hat Enterprise Linux 9.5 | PASS | +-------------------------------+----------------+ | Fedora Linux 41 | PASS | +-------------------------------+----------------+ | Ubuntu 20.04 | PASS | +-------------------------------+----------------+ | Ubuntu 22.04 | PASS | +-------------------------------+----------------+ | Windows Server 2022 | PASS | +-------------------------------+----------------+ | Ubuntu 24.04 | PASS | +-------------------------------+----------------+ | CentOS Stream 10 | PASS | +-------------------------------+----------------+ | Red Hat Enterprise Linux 8.10 | PASS | +-------------------------------+----------------+ | Fedora Linux 40 | PASS | +-------------------------------+----------------+ | Fedora Linux 42 | PASS | +-------------------------------+----------------+ | Debian GNU/Linux 12 | PASS | +-------------------------------+----------------+ | CentOS Stream 9 | PASS | +-------------------------------+----------------+ Red Hat Enterprise Linux 9.5 Kernel: 5.15 Compiler: gcc gcc (GCC) 11.5.0 20240719 (Red Hat 11.5.0-2) Fedora Linux 41 Kernel: 5.15 Compiler: clang gcc (GCC) 14.3.1 20250523 (Red Hat 14.3.1-1) Ubuntu 20.04 Kernel: 5.15 Compiler: gcc gcc (Ubuntu 9.4.0-1ubuntu1~20.04.2) 9.4.0 Ubuntu 22.04 Kernel: 5.15 Compiler: gcc gcc (Ubuntu 11.4.0-1ubuntu1~22.04) 11.4.0 Windows Server 2022 Kernel: 10.0.20348.2031 Compiler: clang 15.0.7, gcc 14.1.0 (MinGW), and MSVC VS 19.39.33521 Ubuntu 24.04 Kernel: 5.15 Compiler: gcc gcc (Ubuntu 13.3.0-6ubuntu2~24.04) 13.3.0 CentOS Stream 10 Kernel: 5.15 Compiler: gcc gcc (GCC) 14.2.1 20250110 (Red Hat 14.2.1-8) Red Hat Enterprise Linux 8.10 Kernel: 5.15 Compiler: gcc gcc (GCC) 8.5.0 20210514 (Red Hat 8.5.0-22) Fedora Linux 40 Kernel: 5.15 Compiler: gcc gcc (GCC) 14.2.1 20240912 (Red Hat 14.2.1-3) Fedora Linux 42 Kernel: 5.15 Compiler: gcc gcc (GCC) 15.2.1 20250808 (Red Hat 15.2.1-1) Debian GNU/Linux 12 Kernel: 5.15 Compiler: gcc gcc (Debian 12.2.0-14+deb12u1) 12.2.0 CentOS Stream 9 Kernel: 5.15 Compiler: gcc gcc (GCC) 11.5.0 20240719 (Red Hat 11.5.0-11) To view detailed results, visit: https://lab.dpdk.org/results/dashboard/patchsets/34519/ UNH-IOL DPDK Community Lab To manage your email subscriptions, visit: https://lab.dpdk.org/results/dashboard/preferences/subscriptions/