From mboxrd@z Thu Jan 1 00:00:00 1970 Return-Path: Received: from mails.dpdk.org (mails.dpdk.org [217.70.189.124]) by inbox.dpdk.org (Postfix) with ESMTP id 7F3EA48ACC for ; Mon, 10 Nov 2025 14:26:56 +0100 (CET) Received: from mails.dpdk.org (localhost [127.0.0.1]) by mails.dpdk.org (Postfix) with ESMTP id 797DC4026D; Mon, 10 Nov 2025 14:26:56 +0100 (CET) Received: from mail-yx1-f98.google.com (mail-yx1-f98.google.com [74.125.224.98]) by mails.dpdk.org (Postfix) with ESMTP id D75654026D for ; Mon, 10 Nov 2025 14:26:54 +0100 (CET) Received: by mail-yx1-f98.google.com with SMTP id 956f58d0204a3-63e16fbdd50so2596010d50.2 for ; Mon, 10 Nov 2025 05:26:54 -0800 (PST) DKIM-Signature: v=1; a=rsa-sha256; c=relaxed/relaxed; d=iol.unh.edu; s=unh-iol; t=1762781214; x=1763386014; darn=dpdk.org; h=references:in-reply-to:cc:to:from:subject:message-id:date:from:to :cc:subject:date:message-id:reply-to; bh=nj/e9gsSO+yToSzJGapK7q1M6mLJLYx9oSj2ldge8e4=; b=HYKWy2on2mhZJoHuLBbZs/SU0pjaUj330mFy1ExoFG+ymTV+NzBN9vyWYPIVC+5/zm 2kbC/7vk1G3hGJQ7IAUPAkkynlZaBRrJ5TnA+IhJeFq3yJADH+BXkio049nN761VReNd gyL+jdh5un4hZOxWRwene9UtbME4wN3ZLyzt0= X-Google-DKIM-Signature: v=1; a=rsa-sha256; c=relaxed/relaxed; d=1e100.net; s=20230601; t=1762781214; x=1763386014; h=references:in-reply-to:cc:to:from:subject:message-id:date:x-gm-gg :x-gm-message-state:from:to:cc:subject:date:message-id:reply-to; bh=nj/e9gsSO+yToSzJGapK7q1M6mLJLYx9oSj2ldge8e4=; b=CkxFrzX8jwEpE/Wz9PsjKoWaE3U9tIpjxR8u5ZR4kIYvVZKF6GN7H3ZmRzviwA4bAj Sa0ptCYWViPXSNnsdsB89ZEshGQxVwFRiXbtwPddTI6HI6XokKnj+6HX96Jl7MX0LR+q UJcOXNFQplsGvHkdUM5RR3DJvFdU3IPVlSX5sa8ByLwoR3UAVITtnKaw0G3/aeWUm4+2 8avjUsPrcTqo5uiZGwC/fOxFtx2FuaKgzW7yfYymI2d2UTqHbeRPgGyQMcOjpY0dbMkO +rh14j5hnbiaf5+5z6XCixonNLCUpZc3o6f4esrK6yhLiiopiRwGapq37y2yc7LY2LAV hbJw== X-Gm-Message-State: AOJu0YxqY6AvsljC+CCh9Yyv5e0wPdkkLwjwzOwcTN6zRoTuzhwXuIHV OuLwY8cWLLYqdq3x/B/T8YIn9DdFpVncQC9igjj3kC3giQAYSiNETA5gBdlFwsW2NViyL+tSN36 BPXtfN+QfKNBWNoOTXuZ+aY5UrQEVqEoljjFIq1OPDbgrmNQcfmW6d4JFQWc3 X-Gm-Gg: ASbGncskgcyBMBiSLhCENS1GoeGOcqihCdBMiCYb0Oyg6tVRwCEpKYVZP7GrA5fxjie o/d95lrbhz5beTGmuuXBUAv8XRvogi3T2DClFowdFB2ayQpT8jWSP9maGGLc3U+Qj0RTIuZ0wMx scuNl8I3Uk/cJzquOWVjWUjrbmS0Moy69kddCTCe+O8ci2tDQXMLxmhWKULjrU1GtEPXR9J+2/b 0NWPsQRI9tRTTC+jScP3WYM7XCvqAAZYSwOa6/pNVxsb0zff6v4EUVbSNkJWb1MvrMTMIz87xuY OnCQGXJ3Ovos31cxV/IIxu5FaTj2WrNvJ3R62tp/H7rjgnIZRj/wMij7QG9qtBvyCAiwUNdmWpJ Y63/Pro/E X-Google-Smtp-Source: AGHT+IGrulH8j0KrypHk2Tk4kn9+x7et6ciX4Zpes/Ib5GzLneSo3JWksWCAIpV3pdZ9oLVKKAqMFfybVRae X-Received: by 2002:a53:b10c:0:b0:63f:c6fb:5bc8 with SMTP id 956f58d0204a3-640d45427femr5362859d50.23.1762781214136; Mon, 10 Nov 2025 05:26:54 -0800 (PST) Received: from postal.iol.unh.edu (postal.iol.unh.edu. [2606:4100:3880:1234::84]) by smtp-relay.gmail.com with ESMTPS id 956f58d0204a3-640d9dde1e6sm390086d50.0.2025.11.10.05.26.54 (version=TLS1_2 cipher=ECDHE-ECDSA-AES128-GCM-SHA256 bits=128/128); Mon, 10 Nov 2025 05:26:54 -0800 (PST) X-Relaying-Domain: iol.unh.edu Date: Mon, 10 Nov 2025 05:26:54 -0800 (PST) Message-ID: <6911e81e.050a0220.78663.2f9aSMTPIN_ADDED_MISSING@mx.google.com> Received: from [172.21.0.2] (unknown [172.18.0.240]) by postal.iol.unh.edu (Postfix) with ESMTP id C5B726051830; Mon, 10 Nov 2025 08:26:53 -0500 (EST) Subject: |SUCCESS| pw158631 [PATCH] net/ice: set pkt prepare to dummy instead From: dpdklab@iol.unh.edu To: Test Report Cc: dpdk-test-reports@iol.unh.edu, Bruce Richardson In-Reply-To: <20251110122457.2575615-1-skori@marvell.com> References: <20251110122457.2575615-1-skori@marvell.com> Content-Type: text/plain X-BeenThere: test-report@dpdk.org X-Mailman-Version: 2.1.29 Precedence: list List-Id: automatic DPDK test reports List-Unsubscribe: , List-Archive: List-Post: List-Help: List-Subscribe: , Errors-To: test-report-bounces@dpdk.org Test-Label: iol-compile-amd64-testing Test-Status: SUCCESS http://dpdk.org/patch/158631 _Testing PASS_ Submitter: Sunil Kumar Kori Date: Monday, November 10 2025 12:24:54 DPDK git baseline: Repo:dpdk-next-net-intel Branch: master CommitID:1655dc989bc95fa85fc76d32912d2e46c0851148 158631 --> testing pass Upstream job id: Windows-Compile-DPDK-Native#32254 Test environment and result as below: +-------------------------------+--------------------+-------------------------+------------------+-------------------+----------------------+ | Environment | dpdk_meson_compile | dpdk_llvm_clang_compile | dpdk_compile_ovs | dpdk_msvc_compile | dpdk_mingw64_compile | +===============================+====================+=========================+==================+===================+======================+ | Ubuntu 20.04 | PASS | SKIPPED | SKIPPED | SKIPPED | SKIPPED | +-------------------------------+--------------------+-------------------------+------------------+-------------------+----------------------+ | Fedora Linux 42 | PASS | SKIPPED | PASS | SKIPPED | SKIPPED | +-------------------------------+--------------------+-------------------------+------------------+-------------------+----------------------+ | openSUSE Leap 15.6 | PASS | SKIPPED | SKIPPED | SKIPPED | SKIPPED | +-------------------------------+--------------------+-------------------------+------------------+-------------------+----------------------+ | Red Hat Enterprise Linux 9.5 | PASS | SKIPPED | SKIPPED | SKIPPED | SKIPPED | +-------------------------------+--------------------+-------------------------+------------------+-------------------+----------------------+ | Ubuntu 22.04 | PASS | SKIPPED | SKIPPED | SKIPPED | SKIPPED | +-------------------------------+--------------------+-------------------------+------------------+-------------------+----------------------+ | CentOS Stream 9 | PASS | SKIPPED | SKIPPED | SKIPPED | SKIPPED | +-------------------------------+--------------------+-------------------------+------------------+-------------------+----------------------+ | Debian GNU/Linux 12 | PASS | SKIPPED | SKIPPED | SKIPPED | SKIPPED | +-------------------------------+--------------------+-------------------------+------------------+-------------------+----------------------+ | Red Hat Enterprise Linux 8.10 | PASS | SKIPPED | SKIPPED | SKIPPED | SKIPPED | +-------------------------------+--------------------+-------------------------+------------------+-------------------+----------------------+ | CentOS Stream 10 | PASS | SKIPPED | SKIPPED | SKIPPED | SKIPPED | +-------------------------------+--------------------+-------------------------+------------------+-------------------+----------------------+ | Ubuntu 24.04 | PASS | SKIPPED | PASS | SKIPPED | SKIPPED | +-------------------------------+--------------------+-------------------------+------------------+-------------------+----------------------+ | FreeBSD 14.2 | PASS | SKIPPED | SKIPPED | SKIPPED | SKIPPED | +-------------------------------+--------------------+-------------------------+------------------+-------------------+----------------------+ | Alpine Linux 3.22.0 | PASS | SKIPPED | SKIPPED | SKIPPED | SKIPPED | +-------------------------------+--------------------+-------------------------+------------------+-------------------+----------------------+ | Windows Server 2022 | SKIPPED | PASS | SKIPPED | PASS | PASS | +-------------------------------+--------------------+-------------------------+------------------+-------------------+----------------------+ Ubuntu 20.04 Kernel: 4.19 Compiler: gcc gcc (Ubuntu 9.4.0-1ubuntu1~20.04.2) 9.4.0 Fedora Linux 42 Kernel: 5.15 Compiler: gcc gcc (GCC) 15.2.1 20250808 (Red Hat 15.2.1-1) openSUSE Leap 15.6 Kernel: 5.15 Compiler: gcc gcc (SUSE Linux) 7.5.0 Red Hat Enterprise Linux 9.5 Kernel: 5.15 Compiler: gcc gcc (GCC) 11.5.0 20240719 (Red Hat 11.5.0-2) Ubuntu 22.04 Kernel: 5.15 Compiler: gcc gcc (Ubuntu 11.4.0-1ubuntu1~22.04) 11.4.0 CentOS Stream 9 Kernel: 5.15 Compiler: gcc gcc (GCC) 11.5.0 20240719 (Red Hat 11.5.0-11) Debian GNU/Linux 12 Kernel: 5.15 Compiler: gcc gcc (Debian 12.2.0-14+deb12u1) 12.2.0 Red Hat Enterprise Linux 8.10 Kernel: 5.15 Compiler: gcc gcc (GCC) 8.5.0 20210514 (Red Hat 8.5.0-22) CentOS Stream 10 Kernel: 5.15 Compiler: gcc gcc (GCC) 14.2.1 20250110 (Red Hat 14.2.1-8) Ubuntu 24.04 Kernel: 5.15 Compiler: gcc gcc (Ubuntu 13.3.0-6ubuntu2~24.04) 13.3.0 FreeBSD 14.2 Kernel: 14.2-RELEASE Compiler: clang 18.1.6 Alpine Linux 3.22.0 Kernel: 5.15 Compiler: gcc gcc (Alpine 14.2.0) 14.2.0 Windows Server 2022 Kernel: 10.0.20348.2031 Compiler: clang 15.0.7, gcc 14.1.0 (MinGW), and MSVC VS 19.39.33521 To view detailed results, visit: https://lab.dpdk.org/results/dashboard/patchsets/34519/ UNH-IOL DPDK Community Lab To manage your email subscriptions, visit: https://lab.dpdk.org/results/dashboard/preferences/subscriptions/