From mboxrd@z Thu Jan 1 00:00:00 1970 Return-Path: Received: from mails.dpdk.org (mails.dpdk.org [217.70.189.124]) by inbox.dpdk.org (Postfix) with ESMTP id D70D048ACC for ; Mon, 10 Nov 2025 14:30:07 +0100 (CET) Received: from mails.dpdk.org (localhost [127.0.0.1]) by mails.dpdk.org (Postfix) with ESMTP id D35FD4026D; Mon, 10 Nov 2025 14:30:07 +0100 (CET) Received: from mail-pf1-f226.google.com (mail-pf1-f226.google.com [209.85.210.226]) by mails.dpdk.org (Postfix) with ESMTP id 22E0D4026D for ; Mon, 10 Nov 2025 14:30:06 +0100 (CET) Received: by mail-pf1-f226.google.com with SMTP id d2e1a72fcca58-7aace33b75bso3120321b3a.1 for ; Mon, 10 Nov 2025 05:30:06 -0800 (PST) DKIM-Signature: v=1; a=rsa-sha256; c=relaxed/relaxed; d=iol.unh.edu; s=unh-iol; t=1762781405; x=1763386205; darn=dpdk.org; h=references:in-reply-to:cc:to:from:subject:message-id:date:from:to :cc:subject:date:message-id:reply-to; bh=0ZjJVbpte4vetmSFR7toq8HbOjr8Mydq0bfC6/Qe/9w=; b=S00SeYtUNpsQ9r2YIBbsgBDxdawNnSbkatjV72rptmt+gak8IJWhJhF7HgkJqu7oS1 x0Gi5r//Iu/q60fxCsX1wvnMb1lsX4BRoi+FrSJzbX0QZek0mJX40q5Its/AEz6Rr6TX LbjJtUQAuE+oAK0qcaN9N32gi45q6JIT3qvm8= X-Google-DKIM-Signature: v=1; a=rsa-sha256; c=relaxed/relaxed; d=1e100.net; s=20230601; t=1762781405; x=1763386205; h=references:in-reply-to:cc:to:from:subject:message-id:date:x-gm-gg :x-gm-message-state:from:to:cc:subject:date:message-id:reply-to; bh=0ZjJVbpte4vetmSFR7toq8HbOjr8Mydq0bfC6/Qe/9w=; b=nVvZINzL2rKS7L8PchVZu8GY//qAhAWsTpqmc0PwfVCEzIil9X/o5tXMfa6e2zY4JQ /bv8U25LNgNUJ/jioxXcKbFFd7FVPzDb9899xXv0rn7AcukO73KXiZwMpDok3K3bIsuE W5VLlGw3BRptiVc1sLCXS4oMxy4LssQ1IxeYFogw3GvkhrIJJ641rbMZrBmosqTVA1yM txsPJzs6pLnN6TW4K+4NHjXUwy2IILIvEK8zJjax96CCA7j55ddmbNHogNm8iX3pAyy2 o2Yk42e5oQdvUMJ9lC/mlL47mcM6lAbQujiOw9r47/OwKufWtgV6a0ee6Ie+hyf1PPC+ ejTQ== X-Gm-Message-State: AOJu0YzBh3QvTO/q7FTK++0T/ue8j+8jsgZgH9f+J6GCaRvl9fn1f7rE HhODSZf/oSG9nNIMuZkD5D+iLn5L/PmSLF0n63vW4ceWUFakJQ3IjwLATkIxL5I+B0LVwcIATyx qWJ0t9EWUybu0cuEtAP04UDuotp9r0jXsabfDZqkFnazt3Cj7yb8stkUfbHBU X-Gm-Gg: ASbGncuOnb/BTtq5A/fgKGCPIxIM1pCVc4TOYo7GLMPnT+ccmtQ69MKilTlig86BNpD poZe9zDd63qBbAUNlZvj46mRMWHDerWrd8FWFs/RnQFa1nja8ifrGQ7UEzSGDHyvPsWvOhXC5eK FuC9XnrrE2AuiDYfiw/TW4IwvuBMY9yTXindXg1Gose5o/3Njdu8JOudVzQdQGilVVgL947sR7b xDcjXB1L9KRSo16aLLHXqnsl57OOgDdRdQXUknMJHjQ8OTxUPrjR+AYS98i6xNNvUKhRU9unyoI wrzvWDIOI6HqwCL7qDIMRNrAd6W1r6UX8awjQVlhwwRWrOSowbowdLfi034gh3F8Z7kC3R0tAWs 5S9Rx/Obg X-Google-Smtp-Source: AGHT+IHAcPbE28B24z4pl1TzI1l/DV3lj34ptBL15nm8FzKSlxVr1mJa61X9pzef7LHab3/99GD7vdkMFoKv X-Received: by 2002:a17:903:3846:b0:295:50cd:e759 with SMTP id d9443c01a7336-297e5709b9bmr94630795ad.58.1762781405144; Mon, 10 Nov 2025 05:30:05 -0800 (PST) Received: from postal.iol.unh.edu (postal.iol.unh.edu. [2606:4100:3880:1234::84]) by smtp-relay.gmail.com with ESMTPS id 41be03b00d2f7-bbac833a56esm14716a12.13.2025.11.10.05.30.05 (version=TLS1_2 cipher=ECDHE-ECDSA-AES128-GCM-SHA256 bits=128/128); Mon, 10 Nov 2025 05:30:05 -0800 (PST) X-Relaying-Domain: iol.unh.edu Date: Mon, 10 Nov 2025 05:30:05 -0800 (PST) Message-ID: <6911e8dd.050a0220.1b37da.0ba9SMTPIN_ADDED_MISSING@mx.google.com> Received: from [172.21.0.2] (unknown [172.18.0.240]) by postal.iol.unh.edu (Postfix) with ESMTP id 6D853604D420; Mon, 10 Nov 2025 08:30:04 -0500 (EST) Subject: |SUCCESS| pw158631 [PATCH] net/ice: set pkt prepare to dummy instead From: dpdklab@iol.unh.edu To: Test Report Cc: dpdk-test-reports@iol.unh.edu, Bruce Richardson In-Reply-To: <20251110122457.2575615-1-skori@marvell.com> References: <20251110122457.2575615-1-skori@marvell.com> Content-Type: text/plain X-BeenThere: test-report@dpdk.org X-Mailman-Version: 2.1.29 Precedence: list List-Id: automatic DPDK test reports List-Unsubscribe: , List-Archive: List-Post: List-Help: List-Subscribe: , Errors-To: test-report-bounces@dpdk.org Test-Label: iol-unit-amd64-testing Test-Status: SUCCESS http://dpdk.org/patch/158631 _Testing PASS_ Submitter: Sunil Kumar Kori Date: Monday, November 10 2025 12:24:54 DPDK git baseline: Repo:dpdk-next-net-intel Branch: master CommitID:1655dc989bc95fa85fc76d32912d2e46c0851148 158631 --> testing pass Upstream job id: Generic-VM-Unit-Test-DPDK#32428 Test environment and result as below: +-------------------------------+----------------+ | Environment | dpdk_unit_test | +===============================+================+ | Red Hat Enterprise Linux 9.5 | PASS | +-------------------------------+----------------+ | Fedora Linux 41 | PASS | +-------------------------------+----------------+ | Ubuntu 20.04 | PASS | +-------------------------------+----------------+ | Ubuntu 22.04 | PASS | +-------------------------------+----------------+ | Windows Server 2022 | PASS | +-------------------------------+----------------+ | Ubuntu 24.04 | PASS | +-------------------------------+----------------+ | CentOS Stream 10 | PASS | +-------------------------------+----------------+ | Red Hat Enterprise Linux 8.10 | PASS | +-------------------------------+----------------+ | Fedora Linux 40 | PASS | +-------------------------------+----------------+ | Fedora Linux 42 | PASS | +-------------------------------+----------------+ | Debian GNU/Linux 12 | PASS | +-------------------------------+----------------+ | CentOS Stream 9 | PASS | +-------------------------------+----------------+ Red Hat Enterprise Linux 9.5 Kernel: 5.15 Compiler: gcc gcc (GCC) 11.5.0 20240719 (Red Hat 11.5.0-2) Fedora Linux 41 Kernel: 5.15 Compiler: clang gcc (GCC) 14.3.1 20250523 (Red Hat 14.3.1-1) Ubuntu 20.04 Kernel: 5.15 Compiler: gcc gcc (Ubuntu 9.4.0-1ubuntu1~20.04.2) 9.4.0 Ubuntu 22.04 Kernel: 5.15 Compiler: gcc gcc (Ubuntu 11.4.0-1ubuntu1~22.04) 11.4.0 Windows Server 2022 Kernel: 10.0.20348.2031 Compiler: clang 15.0.7, gcc 14.1.0 (MinGW), and MSVC VS 19.39.33521 Ubuntu 24.04 Kernel: 5.15 Compiler: gcc gcc (Ubuntu 13.3.0-6ubuntu2~24.04) 13.3.0 CentOS Stream 10 Kernel: 5.15 Compiler: gcc gcc (GCC) 14.2.1 20250110 (Red Hat 14.2.1-8) Red Hat Enterprise Linux 8.10 Kernel: 5.15 Compiler: gcc gcc (GCC) 8.5.0 20210514 (Red Hat 8.5.0-22) Fedora Linux 40 Kernel: 5.15 Compiler: gcc gcc (GCC) 14.2.1 20240912 (Red Hat 14.2.1-3) Fedora Linux 42 Kernel: 5.15 Compiler: gcc gcc (GCC) 15.2.1 20250808 (Red Hat 15.2.1-1) Debian GNU/Linux 12 Kernel: 5.15 Compiler: gcc gcc (Debian 12.2.0-14+deb12u1) 12.2.0 CentOS Stream 9 Kernel: 5.15 Compiler: gcc gcc (GCC) 11.5.0 20240719 (Red Hat 11.5.0-11) To view detailed results, visit: https://lab.dpdk.org/results/dashboard/patchsets/34519/ UNH-IOL DPDK Community Lab To manage your email subscriptions, visit: https://lab.dpdk.org/results/dashboard/preferences/subscriptions/