From mboxrd@z Thu Jan 1 00:00:00 1970 Return-Path: Received: from mails.dpdk.org (mails.dpdk.org [217.70.189.124]) by inbox.dpdk.org (Postfix) with ESMTP id 57BDA48ACD for ; Mon, 10 Nov 2025 16:03:15 +0100 (CET) Received: from mails.dpdk.org (localhost [127.0.0.1]) by mails.dpdk.org (Postfix) with ESMTP id 2BDC44026D; Mon, 10 Nov 2025 16:03:15 +0100 (CET) Received: from mail-il1-f227.google.com (mail-il1-f227.google.com [209.85.166.227]) by mails.dpdk.org (Postfix) with ESMTP id 6636A4026D for ; Mon, 10 Nov 2025 16:03:13 +0100 (CET) Received: by mail-il1-f227.google.com with SMTP id e9e14a558f8ab-43321629a25so31252575ab.3 for ; Mon, 10 Nov 2025 07:03:13 -0800 (PST) DKIM-Signature: v=1; a=rsa-sha256; c=relaxed/relaxed; d=iol.unh.edu; s=unh-iol; t=1762786992; x=1763391792; darn=dpdk.org; h=references:in-reply-to:cc:to:from:subject:message-id:date:from:to :cc:subject:date:message-id:reply-to; bh=mKQcvL+Ek2NOArA7wLn85n3ehAnBq/8s+N9ssDMYKhs=; b=BO7Y7iNd/02UaCxXhozg5uzvxF7BVeesqo802W8ifETAsfizcvKZfdz3w8GOKENdPN AOxuQj+wFXF0hjK7eKPo4K/cgI08QbcRlGnW1WHM+/T+uIDbWRh6TSg22dgKgN72YHRg ULywdk+MdI0/TU3NDnMH2Gab6KgTUDIdWUcnw= X-Google-DKIM-Signature: v=1; a=rsa-sha256; c=relaxed/relaxed; d=1e100.net; s=20230601; t=1762786992; x=1763391792; h=references:in-reply-to:cc:to:from:subject:message-id:date:x-gm-gg :x-gm-message-state:from:to:cc:subject:date:message-id:reply-to; bh=mKQcvL+Ek2NOArA7wLn85n3ehAnBq/8s+N9ssDMYKhs=; b=qBJ0FTL00Q4KXV2iT0leoOMCOanky0QufiKy//zCDBcy2cmMmMXs8264Bs78yC9xSH fMO4+N6DDgBd+3bynba0552ZWLppFP+uZUBMWdt+DPSzzHyIfuh25c8XT/YzWgYNhJqn H0r/31+mXcY8fa1hl0Q0sBRuAYYwUZbT/R2gnyufoO2proCUtcYHk3uSCPi3DLh/dq6t 1jF3AK4r5KgfpNehbIg+wGD9u5g7/gHtK3B0brG92ySPnxNsWxCZZ9anq6sM2L2C29d1 8jaDE2zeoZjeGru9jovORCEAitWoS7qV9gm8xAi3NkIN4JiIatiFmv6c80FXICRr4LmZ Tm+g== X-Gm-Message-State: AOJu0YyzK4IaJIWwAJG/EeOZciMq/2PaJQSVtIjosY03RMDfRlCsft9y 7Z4WUktGcjN2WWUOMSCe3hlt3Zt3xVIOmpOA77AlfgDq0Nkh6TeY9B3frhRgJ+SaKrfTkHWMOeG GyyoLurXrvSphiJaSOHH2GnrxsOe6FWpj0TGWkRLutF9e X-Gm-Gg: ASbGnctTGP/jwaQ/JKIiY8e9GHQVBaqRXaZTKVwPmUOti2knO2dMjbJTrc3WAsvI8ZG +vKx/lvHzdeYC990juk2XEawRZ6sllKiO/H4dnjsFnqwnpB/CIwA89Flgsc9LEu9F9TAzLhpc7x PMx5MwC1lUOO3ZMB6LhEPgkHeDRRzldxKm6SEMe0q5F358aypF9Wk7peoY8IYpWWtjo2MMbcc9U UWj9Agy71VPL06SKURMwWM17r/7FYuB7oAVQxvpb6mPoHXIWCoEkP/aaFYdJfpb1H9+lTcxyXiH tTNpB8e/esMZykujGiE5qfpFH5UgTQP+YDbq745x7ewGqVJlr0vL6boiKNLsSJaUW/jnPsEHh+l yQ/2ojjtV8AdckCpfbM7doCtTjlAYjHk= X-Google-Smtp-Source: AGHT+IHYIGMcMVtn2LHBu6zJ4LF76VeK5xMX/4cI4tLb6Wv3JuqAK+yvW5vCfAPLRFByCNVWvwcQPgp1pb8Q X-Received: by 2002:a05:6e02:b4b:b0:433:24d7:309b with SMTP id e9e14a558f8ab-43367dec4a4mr126961095ab.14.1762786992482; Mon, 10 Nov 2025 07:03:12 -0800 (PST) Received: from postal.iol.unh.edu (postal.iol.unh.edu. [132.177.123.84]) by smtp-relay.gmail.com with ESMTPS id e9e14a558f8ab-4334f4597absm10754595ab.13.2025.11.10.07.03.12 (version=TLS1_2 cipher=ECDHE-ECDSA-AES128-GCM-SHA256 bits=128/128); Mon, 10 Nov 2025 07:03:12 -0800 (PST) X-Relaying-Domain: iol.unh.edu Date: Mon, 10 Nov 2025 07:03:12 -0800 (PST) Message-ID: <6911feb0.050a0220.3c5851.781dSMTPIN_ADDED_MISSING@mx.google.com> Received: from [172.21.0.2] (unknown [172.18.0.240]) by postal.iol.unh.edu (Postfix) with ESMTP id EA23F6051830; Mon, 10 Nov 2025 10:03:11 -0500 (EST) Subject: |SUCCESS| pw158632 [PATCH] [v1,1/1] net/ixgbe: fix PF link state req From: dpdklab@iol.unh.edu To: Test Report Cc: dpdk-test-reports@iol.unh.edu, Bruce Richardson In-Reply-To: <2ff7218cef6c77858929c2aad49bf33d925f1865.1762782930.git.anatoly.burakov@intel.com> References: <2ff7218cef6c77858929c2aad49bf33d925f1865.1762782930.git.anatoly.burakov@intel.com> Content-Type: text/plain X-BeenThere: test-report@dpdk.org X-Mailman-Version: 2.1.29 Precedence: list List-Id: automatic DPDK test reports List-Unsubscribe: , List-Archive: List-Post: List-Help: List-Subscribe: , Errors-To: test-report-bounces@dpdk.org Test-Label: iol-unit-amd64-testing Test-Status: SUCCESS http://dpdk.org/patch/158632 _Testing PASS_ Submitter: Anatoly Burakov Date: Monday, November 10 2025 13:55:39 DPDK git baseline: Repo:dpdk-next-net-intel Branch: master CommitID:1655dc989bc95fa85fc76d32912d2e46c0851148 158632 --> testing pass Upstream job id: Generic-Unit-Test-DPDK#390590 Test environment and result as below: +-------------------------------+----------------+ | Environment | dpdk_unit_test | +===============================+================+ | Fedora Linux 41 | PASS | +-------------------------------+----------------+ | Fedora Linux 40 | PASS | +-------------------------------+----------------+ | Debian GNU/Linux 12 | PASS | +-------------------------------+----------------+ | CentOS Stream 9 | PASS | +-------------------------------+----------------+ | CentOS Stream 10 | PASS | +-------------------------------+----------------+ | Ubuntu 24.04 | PASS | +-------------------------------+----------------+ | Ubuntu 22.04 | PASS | +-------------------------------+----------------+ | Fedora Linux 42 | PASS | +-------------------------------+----------------+ | Red Hat Enterprise Linux 8.10 | PASS | +-------------------------------+----------------+ | Ubuntu 20.04 | PASS | +-------------------------------+----------------+ | Red Hat Enterprise Linux 9.5 | PASS | +-------------------------------+----------------+ | Windows Server 2022 | PASS | +-------------------------------+----------------+ Fedora Linux 41 Kernel: 5.15 Compiler: gcc gcc (GCC) 14.3.1 20250523 (Red Hat 14.3.1-1) Fedora Linux 40 Kernel: 5.15 Compiler: clang gcc (GCC) 14.2.1 20240912 (Red Hat 14.2.1-3) Debian GNU/Linux 12 Kernel: 5.15 Compiler: gcc gcc (Debian 12.2.0-14+deb12u1) 12.2.0 CentOS Stream 9 Kernel: 5.15 Compiler: gcc gcc (GCC) 11.5.0 20240719 (Red Hat 11.5.0-11) CentOS Stream 10 Kernel: 5.15 Compiler: gcc gcc (GCC) 14.2.1 20250110 (Red Hat 14.2.1-8) Ubuntu 24.04 Kernel: 5.15 Compiler: gcc gcc (Ubuntu 13.3.0-6ubuntu2~24.04) 13.3.0 Ubuntu 22.04 Kernel: 5.15 Compiler: gcc gcc (Ubuntu 11.4.0-1ubuntu1~22.04) 11.4.0 Fedora Linux 42 Kernel: 5.15 Compiler: gcc gcc (GCC) 15.2.1 20250808 (Red Hat 15.2.1-1) Red Hat Enterprise Linux 8.10 Kernel: 5.15 Compiler: gcc gcc (GCC) 8.5.0 20210514 (Red Hat 8.5.0-22) Ubuntu 20.04 Kernel: 5.15 Compiler: gcc gcc (Ubuntu 9.4.0-1ubuntu1~20.04.2) 9.4.0 Red Hat Enterprise Linux 9.5 Kernel: 5.15 Compiler: gcc gcc (GCC) 11.5.0 20240719 (Red Hat 11.5.0-2) Windows Server 2022 Kernel: 10.0.20348.2031 Compiler: clang 15.0.7, gcc 14.1.0 (MinGW), and MSVC VS 19.39.33521 To view detailed results, visit: https://lab.dpdk.org/results/dashboard/patchsets/34520/ UNH-IOL DPDK Community Lab To manage your email subscriptions, visit: https://lab.dpdk.org/results/dashboard/preferences/subscriptions/