From mboxrd@z Thu Jan 1 00:00:00 1970 Return-Path: Received: from mails.dpdk.org (mails.dpdk.org [217.70.189.124]) by inbox.dpdk.org (Postfix) with ESMTP id C3B9748ACD for ; Mon, 10 Nov 2025 16:34:12 +0100 (CET) Received: from mails.dpdk.org (localhost [127.0.0.1]) by mails.dpdk.org (Postfix) with ESMTP id B16A4402F1; Mon, 10 Nov 2025 16:34:12 +0100 (CET) Received: from mail-yx1-f100.google.com (mail-yx1-f100.google.com [74.125.224.100]) by mails.dpdk.org (Postfix) with ESMTP id 63C37402F1 for ; Mon, 10 Nov 2025 16:34:11 +0100 (CET) Received: by mail-yx1-f100.google.com with SMTP id 956f58d0204a3-63f996d4e1aso2724361d50.0 for ; Mon, 10 Nov 2025 07:34:11 -0800 (PST) DKIM-Signature: v=1; a=rsa-sha256; c=relaxed/relaxed; d=iol.unh.edu; s=unh-iol; t=1762788851; x=1763393651; darn=dpdk.org; h=references:in-reply-to:cc:to:from:subject:message-id:date:from:to :cc:subject:date:message-id:reply-to; bh=JIAi5knWxdMnwO8lyAt8sJrJKi7uKcSAbgJ+6usXhq8=; b=dTgXj6U3k2hTN3Xl2s6E+Xg+fm13lxlAMy4n+mh7zkRw4xr6lIlzZKdFTLsz3Vktfg 2yn8awLtchgfkF9C1yRkZ8pAM95P+hQMvOXVCdc7D5zMpvz35flWjxeCWgojKtMdAtVr G3SB/amyPyzO48nHDPWLQg1KIvySpb7ctzSQI= X-Google-DKIM-Signature: v=1; a=rsa-sha256; c=relaxed/relaxed; d=1e100.net; s=20230601; t=1762788851; x=1763393651; h=references:in-reply-to:cc:to:from:subject:message-id:date:x-gm-gg :x-gm-message-state:from:to:cc:subject:date:message-id:reply-to; bh=JIAi5knWxdMnwO8lyAt8sJrJKi7uKcSAbgJ+6usXhq8=; b=IKAZjYLS9wCMvL8YcjWghv5dkT5vD1efuJo27LISt2idvFl3lAKGjx59C1v3W8SZTA ZqEOY5CIOX3AVieGNuU/nDJzAxeU4WfUUDscU85myjByQ1x1nJqVckkHgu0ZIUR8JQ3M RlKSEEAwL/pNcDAiz+lVHD3ycIkAMBayTIWnei2R1XDenJXpYRUAK5usjifVaRyfkRVO ZIqNel0P7JtFK8s8TRbf37yG+nvkdfTasBSN2G3r0yPaGCZTmFmaE/PU6ml+R3UW7fHi ZaMWVtnIfAHSYyE7qDnucUJa/+cnxJpTDTCkwMR+GcVmjwznb43iZ8Q7YULTflJsIsSa gUgA== X-Gm-Message-State: AOJu0Yxo3NwFziEH7wj28Z0eynxb6YeZhm9pzgjbGyoN07kzeQThmIGf Z7KaUABAObIiIbt541R0sDByQaqcVrN4xLgDjbfZxkIljtCn1jbU18AUGkyCa+wClMFQrXWCVpN o0yJiDgQwDnIfgwbClxsyY0L0uZxvz4N3faVNt7eBZhy/ X-Gm-Gg: ASbGncsIqaWOdB7KAK+mSaK8S5hpJ2EnPOwS6VUielLe43RchUzMHyzymh0GhJuOCpQ p08RP4eu6WABInXyE8YZXCc4DgY8TYH7aOurwQRVhLP5Nmz7865uGV0MvsM+JG1KAhs0v7e4+Vb 97Euy0Uqp7dxzQIh5AR66UUd3jHXYl+ecaBQNn4rDCpy4fFFjPS64po1Z7OK0RigaFOq6gnA/xG sz8/k8TFRm+9rYKzqTE5YIcXrAS5kSvZFwCYIq16fCQCTWc10RmC0z8OMP4j1s2mwQksk9MNGIM 9Vs0zoyaQmQecCW4Fog7H9pLdsiJ2dSoxKwmAQhoSI58O05HA5xgmjfkOKb8NmtWAQqsVoIbVIx cj53XwmhW6X5ppK28uF1ZUOUiZZinT1E= X-Google-Smtp-Source: AGHT+IGOb1VVSYFv0pkqxD0Xv8tO+BBydFruLs6p3P/cY5h0d1MIvYy9rOVyILvxWE2rCJdt00vhMLaJl5e1 X-Received: by 2002:a05:690e:4254:b0:63f:b1d4:f9f1 with SMTP id 956f58d0204a3-640d45d39bamr6461531d50.50.1762788850686; Mon, 10 Nov 2025 07:34:10 -0800 (PST) Received: from postal.iol.unh.edu (postal.iol.unh.edu. [132.177.123.84]) by smtp-relay.gmail.com with ESMTPS id 00721157ae682-787d69ad08csm3594637b3.26.2025.11.10.07.34.10 (version=TLS1_2 cipher=ECDHE-ECDSA-AES128-GCM-SHA256 bits=128/128); Mon, 10 Nov 2025 07:34:10 -0800 (PST) X-Relaying-Domain: iol.unh.edu Date: Mon, 10 Nov 2025 07:34:10 -0800 (PST) Message-ID: <691205f2.050a0220.355216.2344SMTPIN_ADDED_MISSING@mx.google.com> Received: from [172.21.0.2] (unknown [172.18.0.240]) by postal.iol.unh.edu (Postfix) with ESMTP id 563FE6050A61; Mon, 10 Nov 2025 10:34:10 -0500 (EST) Subject: |SUCCESS| pw158632 [PATCH] [v1,1/1] net/ixgbe: fix PF link state req From: dpdklab@iol.unh.edu To: Test Report Cc: dpdk-test-reports@iol.unh.edu, Bruce Richardson In-Reply-To: <2ff7218cef6c77858929c2aad49bf33d925f1865.1762782930.git.anatoly.burakov@intel.com> References: <2ff7218cef6c77858929c2aad49bf33d925f1865.1762782930.git.anatoly.burakov@intel.com> Content-Type: text/plain X-BeenThere: test-report@dpdk.org X-Mailman-Version: 2.1.29 Precedence: list List-Id: automatic DPDK test reports List-Unsubscribe: , List-Archive: List-Post: List-Help: List-Subscribe: , Errors-To: test-report-bounces@dpdk.org Test-Label: iol-compile-amd64-testing Test-Status: SUCCESS http://dpdk.org/patch/158632 _Testing PASS_ Submitter: Anatoly Burakov Date: Monday, November 10 2025 13:55:39 DPDK git baseline: Repo:dpdk-next-net-intel Branch: master CommitID:1655dc989bc95fa85fc76d32912d2e46c0851148 158632 --> testing pass Upstream job id: Generic-DPDK-Compile-Meson#442581 Test environment and result as below: +-------------------------------+--------------------+------------------+-------------------------+-------------------+----------------------+ | Environment | dpdk_meson_compile | dpdk_compile_ovs | dpdk_llvm_clang_compile | dpdk_msvc_compile | dpdk_mingw64_compile | +===============================+====================+==================+=========================+===================+======================+ | CentOS Stream 10 | PASS | SKIPPED | SKIPPED | SKIPPED | SKIPPED | +-------------------------------+--------------------+------------------+-------------------------+-------------------+----------------------+ | CentOS Stream 9 | PASS | SKIPPED | SKIPPED | SKIPPED | SKIPPED | +-------------------------------+--------------------+------------------+-------------------------+-------------------+----------------------+ | Debian GNU/Linux 12 | PASS | SKIPPED | SKIPPED | SKIPPED | SKIPPED | +-------------------------------+--------------------+------------------+-------------------------+-------------------+----------------------+ | Fedora Linux 42 | PASS | PASS | SKIPPED | SKIPPED | SKIPPED | +-------------------------------+--------------------+------------------+-------------------------+-------------------+----------------------+ | openSUSE Leap 15.6 | PASS | SKIPPED | SKIPPED | SKIPPED | SKIPPED | +-------------------------------+--------------------+------------------+-------------------------+-------------------+----------------------+ | Red Hat Enterprise Linux 8.10 | PASS | SKIPPED | SKIPPED | SKIPPED | SKIPPED | +-------------------------------+--------------------+------------------+-------------------------+-------------------+----------------------+ | Ubuntu 20.04 | PASS | SKIPPED | SKIPPED | SKIPPED | SKIPPED | +-------------------------------+--------------------+------------------+-------------------------+-------------------+----------------------+ | Ubuntu 22.04 | PASS | SKIPPED | SKIPPED | SKIPPED | SKIPPED | +-------------------------------+--------------------+------------------+-------------------------+-------------------+----------------------+ | Red Hat Enterprise Linux 9.5 | PASS | SKIPPED | SKIPPED | SKIPPED | SKIPPED | +-------------------------------+--------------------+------------------+-------------------------+-------------------+----------------------+ | Ubuntu 24.04 | PASS | PASS | SKIPPED | SKIPPED | SKIPPED | +-------------------------------+--------------------+------------------+-------------------------+-------------------+----------------------+ | FreeBSD 14.2 | PASS | SKIPPED | SKIPPED | SKIPPED | SKIPPED | +-------------------------------+--------------------+------------------+-------------------------+-------------------+----------------------+ | Alpine Linux 3.22.0 | PASS | SKIPPED | SKIPPED | SKIPPED | SKIPPED | +-------------------------------+--------------------+------------------+-------------------------+-------------------+----------------------+ | Windows Server 2022 | SKIPPED | SKIPPED | PASS | PASS | PASS | +-------------------------------+--------------------+------------------+-------------------------+-------------------+----------------------+ CentOS Stream 10 Kernel: 5.15 Compiler: gcc gcc (GCC) 14.2.1 20250110 (Red Hat 14.2.1-8) CentOS Stream 9 Kernel: 5.15 Compiler: gcc gcc (GCC) 11.5.0 20240719 (Red Hat 11.5.0-11) Debian GNU/Linux 12 Kernel: 5.15 Compiler: gcc gcc (Debian 12.2.0-14+deb12u1) 12.2.0 Fedora Linux 42 Kernel: 5.15 Compiler: gcc gcc (GCC) 15.2.1 20250808 (Red Hat 15.2.1-1) openSUSE Leap 15.6 Kernel: 5.15 Compiler: gcc gcc (SUSE Linux) 7.5.0 Red Hat Enterprise Linux 8.10 Kernel: 5.15 Compiler: gcc gcc (GCC) 8.5.0 20210514 (Red Hat 8.5.0-22) Ubuntu 20.04 Kernel: 5.15 Compiler: gcc gcc (Ubuntu 9.4.0-1ubuntu1~20.04.2) 9.4.0 Ubuntu 22.04 Kernel: 5.15 Compiler: gcc gcc (Ubuntu 11.4.0-1ubuntu1~22.04) 11.4.0 Red Hat Enterprise Linux 9.5 Kernel: 5.15 Compiler: gcc gcc (GCC) 11.5.0 20240719 (Red Hat 11.5.0-2) Ubuntu 24.04 Kernel: 5.15 Compiler: gcc gcc (Ubuntu 13.3.0-6ubuntu2~24.04) 13.3.0 FreeBSD 14.2 Kernel: 14.2-RELEASE Compiler: clang 18.1.6 Alpine Linux 3.22.0 Kernel: 5.15 Compiler: gcc gcc (Alpine 14.2.0) 14.2.0 Windows Server 2022 Kernel: 10.0.20348.2031 Compiler: clang 15.0.7, gcc 14.1.0 (MinGW), and MSVC VS 19.39.33521 To view detailed results, visit: https://lab.dpdk.org/results/dashboard/patchsets/34520/ UNH-IOL DPDK Community Lab To manage your email subscriptions, visit: https://lab.dpdk.org/results/dashboard/preferences/subscriptions/