From mboxrd@z Thu Jan 1 00:00:00 1970 Return-Path: Received: from mails.dpdk.org (mails.dpdk.org [217.70.189.124]) by inbox.dpdk.org (Postfix) with ESMTP id A50D048ACD for ; Mon, 10 Nov 2025 17:26:48 +0100 (CET) Received: from mails.dpdk.org (localhost [127.0.0.1]) by mails.dpdk.org (Postfix) with ESMTP id 8B9C44026D; Mon, 10 Nov 2025 17:26:48 +0100 (CET) Received: from mail-pg1-f226.google.com (mail-pg1-f226.google.com [209.85.215.226]) by mails.dpdk.org (Postfix) with ESMTP id 9542F4026D for ; Mon, 10 Nov 2025 17:26:46 +0100 (CET) Received: by mail-pg1-f226.google.com with SMTP id 41be03b00d2f7-b996c8db896so2633804a12.3 for ; Mon, 10 Nov 2025 08:26:46 -0800 (PST) DKIM-Signature: v=1; a=rsa-sha256; c=relaxed/relaxed; d=iol.unh.edu; s=unh-iol; t=1762792006; x=1763396806; darn=dpdk.org; h=references:in-reply-to:cc:to:from:subject:message-id:date:from:to :cc:subject:date:message-id:reply-to; bh=P1wWP9sXcd/bOa/bR7PXnejKvrKBgrf83HRCSRpFjwg=; b=U402y9lctQ+FrQ55sa9xCQDQjOP3/n1k3L5kK0GXrHKj8HQqKijMUgyTwizxBIFlcB 2Zpoj69lRugz/IYOwr1hyeEj0Uwzi0ItPhJENJLJ28D/UcyV9n0NyCH9ak/u9N1o6QEb N4ewLiNxIsgCZTvoU4Euw1kxm9Ze9wM9FkmFc= X-Google-DKIM-Signature: v=1; a=rsa-sha256; c=relaxed/relaxed; d=1e100.net; s=20230601; t=1762792006; x=1763396806; h=references:in-reply-to:cc:to:from:subject:message-id:date:x-gm-gg :x-gm-message-state:from:to:cc:subject:date:message-id:reply-to; bh=P1wWP9sXcd/bOa/bR7PXnejKvrKBgrf83HRCSRpFjwg=; b=dbApzMASD2ZO1R5mm7LrvCN7bRsgH1sZegPcgOddkvOk4RW+zbgg0QsniLiSsJEOpC hgrqYReTDcgkyJbeEP0kCEzNaMeNqcH3zVSv40UJleHkzF2v2dynWjF39CCvHCV9V8s6 9UbDOt9JQG9UUEhU9xhFbnhZXvFkoIXAjkbDCXTQDrgl40lEqcjepCywUfrfFnZ8p4ej /C5gBNoVRAGuRtffbYHIC/M/qM1f5k60CVsjMBw4rBhOtoSl9hnuzMYHUVk/SJMXL8vk Stxg6w5c6Yl9GRjBImzdWTChH1oyFYLMW/hz/6wvpj66h+pxndqwPjQoAB0fOprYq1xr CQ6w== X-Gm-Message-State: AOJu0YxgMkvMx4Q45tGrrdffwbiU1EzbMesfTE52VVJEyHkLVkW9hnBZ 3xOaH/PsOuMGOH9bGQakZxczScrFOfCmC9v/0GLGfvKtukjvI3QLy/Ulqt7ADKeUEAsZuoXZHOd fH9fY5mELi5kJ2pMtkVrLXM3mlhkVZhv4cLom5VH5bRK0uJxdq87Ghhsxr6Uh X-Gm-Gg: ASbGncvKyqu8tmOg3GthVeCJW5+qkqP6G8lcHE5GmbiJTUjVjNrzY7BbpaBXiJloZGa AAug4rB3rZxeVYH4SqfsYCvP92yECNCjjLhlP1q7uUxpYfrheJ4Xzot7I/ej7akzeGof59rV4Ys 3Md8u3Govvp5Z/3ok1mcUZQXh9vcObAKBzeu0WSM3RKkO1f4X/+jMrEIBYTs0gdylBEQyOm5YQY W5/LxM811JzcXu1zxXeSEyM0gWT74aWf7L1qoo6pttvmfWGqO7nIGWY8r3i6m832zOYHXUOrQ/S wUMcgJC/DBxR/WYSJFGiNTGwzN92A6Ft+awH5bEffu9pgyQSmDvGH56z3j7vpPqz30p2xIvFs1I eZ9F5gxYx X-Google-Smtp-Source: AGHT+IFsUF+G0kc5cH/Mvx+gw0tFZOfL0AcecfCzkA4VovzzkmQr3wftWXOmXfltFMXxHEQvcotBRaDPjgMx X-Received: by 2002:a17:903:244a:b0:295:7806:1d7b with SMTP id d9443c01a7336-297e5709246mr116852705ad.45.1762792004932; Mon, 10 Nov 2025 08:26:44 -0800 (PST) Received: from postal.iol.unh.edu (postal.iol.unh.edu. [2606:4100:3880:1234::84]) by smtp-relay.gmail.com with ESMTPS id d9443c01a7336-297eac0e7basm8044065ad.20.2025.11.10.08.26.44 (version=TLS1_2 cipher=ECDHE-ECDSA-AES128-GCM-SHA256 bits=128/128); Mon, 10 Nov 2025 08:26:44 -0800 (PST) X-Relaying-Domain: iol.unh.edu Date: Mon, 10 Nov 2025 08:26:44 -0800 (PST) Message-ID: <69121244.170a0220.107630.845eSMTPIN_ADDED_MISSING@mx.google.com> Received: from [172.21.0.2] (unknown [172.18.0.240]) by postal.iol.unh.edu (Postfix) with ESMTP id 5A6B86051830; Mon, 10 Nov 2025 11:26:44 -0500 (EST) Subject: |SUCCESS| pw158630 [PATCH] [v3,1/1] ring: fix unsafe ordering for he From: dpdklab@iol.unh.edu To: Test Report Cc: dpdk-test-reports@iol.unh.edu In-Reply-To: <20251110101717.233685-2-konstantin.ananyev@huawei.com> References: <20251110101717.233685-2-konstantin.ananyev@huawei.com> Content-Type: text/plain X-BeenThere: test-report@dpdk.org X-Mailman-Version: 2.1.29 Precedence: list List-Id: automatic DPDK test reports List-Unsubscribe: , List-Archive: List-Post: List-Help: List-Subscribe: , Errors-To: test-report-bounces@dpdk.org Test-Label: iol-unit-arm64-testing Test-Status: SUCCESS http://dpdk.org/patch/158630 _Testing PASS_ Submitter: Konstantin Ananyev Date: Monday, November 10 2025 10:17:17 DPDK git baseline: Repo:dpdk Branch: master CommitID:2e22572b9a6ce8bcdc0347313a35bb3066b0faff 158630 --> testing pass Upstream job id: Generic-Unit-Test-DPDK#390546 Test environment and result as below: +------------------------------+----------------+------------------------------+--------------+---------------------------+ | Environment | dpdk_unit_test | cryptodev_sw_snow3g_autotest | lpm_autotest | cryptodev_sw_zuc_autotest | +==============================+================+==============================+==============+===========================+ | Fedora Linux 40 | PASS | SKIPPED | SKIPPED | SKIPPED | +------------------------------+----------------+------------------------------+--------------+---------------------------+ | Red Hat Enterprise Linux 9.5 | PASS | SKIPPED | SKIPPED | SKIPPED | +------------------------------+----------------+------------------------------+--------------+---------------------------+ | Debian GNU/Linux 12 | PASS | SKIPPED | SKIPPED | SKIPPED | +------------------------------+----------------+------------------------------+--------------+---------------------------+ | CentOS Stream 9 | PASS | SKIPPED | SKIPPED | SKIPPED | +------------------------------+----------------+------------------------------+--------------+---------------------------+ | Ubuntu 20.04 | PASS | SKIPPED | PASS | SKIPPED | +------------------------------+----------------+------------------------------+--------------+---------------------------+ | Fedora Linux 41 | PASS | SKIPPED | SKIPPED | SKIPPED | +------------------------------+----------------+------------------------------+--------------+---------------------------+ | Fedora Linux 42 | PASS | SKIPPED | SKIPPED | SKIPPED | +------------------------------+----------------+------------------------------+--------------+---------------------------+ | Ubuntu 22.04 | PASS | SKIPPED | SKIPPED | SKIPPED | +------------------------------+----------------+------------------------------+--------------+---------------------------+ | Ubuntu 24.04 | PASS | SKIPPED | SKIPPED | SKIPPED | +------------------------------+----------------+------------------------------+--------------+---------------------------+ | CentOS Stream 10 | PASS | SKIPPED | SKIPPED | SKIPPED | +------------------------------+----------------+------------------------------+--------------+---------------------------+ | Debian 12 (arm) | SKIPPED | PASS | SKIPPED | PASS | +------------------------------+----------------+------------------------------+--------------+---------------------------+ Fedora Linux 40 Kernel: 5.4 Compiler: clang gcc (GCC) 14.2.1 20240912 (Red Hat 14.2.1-3) Red Hat Enterprise Linux 9.5 Kernel: 5.4 Compiler: gcc gcc (GCC) 11.5.0 20240719 (Red Hat 11.5.0-2) Debian GNU/Linux 12 Kernel: 5.4 Compiler: gcc gcc (Debian 12.2.0-14+deb12u1) 12.2.0 CentOS Stream 9 Kernel: 5.4 Compiler: gcc gcc (GCC) 11.5.0 20240719 (Red Hat 11.5.0-11) Ubuntu 20.04 Kernel: 5.4 Compiler: gcc gcc (Ubuntu 9.4.0-1ubuntu1~20.04.2) 9.4.0 Fedora Linux 41 Kernel: 5.4 Compiler: gcc gcc (GCC) 14.3.1 20250523 (Red Hat 14.3.1-1) Fedora Linux 42 Kernel: 5.4 Compiler: clang gcc (GCC) 15.2.1 20250808 (Red Hat 15.2.1-1) Ubuntu 22.04 Kernel: 5.4 Compiler: gcc gcc (Ubuntu 11.4.0-1ubuntu1~22.04) 11.4.0 Ubuntu 24.04 Kernel: 5.4 Compiler: gcc gcc (Ubuntu 13.3.0-6ubuntu2~24.04) 13.3.0 CentOS Stream 10 Kernel: 5.4 Compiler: gcc gcc (GCC) 14.2.1 20250110 (Red Hat 14.2.1-8) Debian 12 (arm) Kernel: Depends on container host Compiler: gcc (Debian 12.2.0-14) 12.2.0 To view detailed results, visit: https://lab.dpdk.org/results/dashboard/patchsets/34518/ UNH-IOL DPDK Community Lab To manage your email subscriptions, visit: https://lab.dpdk.org/results/dashboard/preferences/subscriptions/