From mboxrd@z Thu Jan 1 00:00:00 1970 Return-Path: Received: from mails.dpdk.org (mails.dpdk.org [217.70.189.124]) by inbox.dpdk.org (Postfix) with ESMTP id EA18548ACD for ; Mon, 10 Nov 2025 17:56:57 +0100 (CET) Received: from mails.dpdk.org (localhost [127.0.0.1]) by mails.dpdk.org (Postfix) with ESMTP id E4D714026D; Mon, 10 Nov 2025 17:56:57 +0100 (CET) Received: from mail-qk1-f228.google.com (mail-qk1-f228.google.com [209.85.222.228]) by mails.dpdk.org (Postfix) with ESMTP id AF5674026D for ; Mon, 10 Nov 2025 17:56:56 +0100 (CET) Received: by mail-qk1-f228.google.com with SMTP id af79cd13be357-85a4ceb4c3dso300220985a.3 for ; Mon, 10 Nov 2025 08:56:56 -0800 (PST) DKIM-Signature: v=1; a=rsa-sha256; c=relaxed/relaxed; d=iol.unh.edu; s=unh-iol; t=1762793816; x=1763398616; darn=dpdk.org; h=references:in-reply-to:cc:to:from:subject:message-id:date:from:to :cc:subject:date:message-id:reply-to; bh=mrXcL9YPPzSOoW63OMl/vljd2ecGKMkcCL6mw5wOHsc=; b=MbrEhOKbQCUVG5CtCd4Wd5GDD3nsR7DBKoIKOM84f9AU+UH/k1azu/VHd93QNxRgIN 0LMcY5WhDhinZisLdVCyUGxuEtBYT/l7veO6go34qnUKLtVxOg0j1r3IKL1fQamvbxWm fgGq/RjxJx4nhWvmV1knPGYSgEmKBBf6wOSvM= X-Google-DKIM-Signature: v=1; a=rsa-sha256; c=relaxed/relaxed; d=1e100.net; s=20230601; t=1762793816; x=1763398616; h=references:in-reply-to:cc:to:from:subject:message-id:date:x-gm-gg :x-gm-message-state:from:to:cc:subject:date:message-id:reply-to; bh=mrXcL9YPPzSOoW63OMl/vljd2ecGKMkcCL6mw5wOHsc=; b=g7DVKH8+4LMWxaffLLvhpiPMczxYeGqgT6zZp5dkrqLc9Sh3r+T/Y8BmZJQM+dvQpN 6O5JHshuHe1hgmXmyuEIkPc4T8W2tYtNUj/hCNREdKkzJgSqAo8lZxYJ0Q80IGb2OX9o CI4uMHLUU7AgOkU5m6wW4Abi6Ui04GXcEOi4TQKBJvIlqbKmhDrGGX6t6xsczrYvUGD5 ejNkdeZiIzMu/NQrwftsk7sMpu3mgxTa+zIySWXz6obNoxbUhww5IHWJOcIvBBC3U5JW uAdVmpxRExeFmquQ2mMonMzx6nwyxkEi+N+59AP4tTekZ6jhgfQ+VnFzUnF0znpEgksv OzwA== X-Gm-Message-State: AOJu0YwGGEkVuRCO3L4S633xfFgI2SXgA1LZWhIGo5qywQN9qOpjmUo/ v+9v1lIMqH3POea1F6+47HNbwW5z/nfpJzCOtM02PPdc8vImZG57+idw/GZ4aMioAbGe529F66L PfXXbevkzbSAL83IGUEDSsiSOKv3zmYJ9NFyZ1vOthJJOq/ojcTPiSNtesqc6 X-Gm-Gg: ASbGncuZpkUX42DUlkB0TOP4Ye55/6Aag6BhQH6j35wYz0pAElCP3ts8GczeO3wrCzE +gXN6VU9JmTM7G9QfwH/zQflNE5PE0CPP097q7sPHYDPHZOiGBmdeb4YvncjwI4tph/yYr71/Pm jloNUSEkX9cbEDvTDlN/Js0xDwRfD8cWyAecnu3LbKKsQ+s8SYyHKQ9ESi6NwU6Nn3hFqzoYyRW aE31CaooBp1+zyhEUC1784EHo4b3OKAhuuGHCoYr5Xg4bNyGwzGtRLL486VvzCSXehedxwDpfYE NqV+RRd7+pdUuhlJ9s27TqRB7Ndq8j8mO/r0842m1VwLlHy85vXlfu2aFFZX5AV9c+tyh05wj2s v/Kd+MIPm X-Google-Smtp-Source: AGHT+IEyZsS/J1ueYl5OC3zovmgm2/ukltLOTqBjzcjM8ijiPFfAPx5CpJQadllkJKOVlIU8UxX1KH4YqroD X-Received: by 2002:a05:6214:d86:b0:882:375d:7ed9 with SMTP id 6a1803df08f44-882385c9cc4mr116893436d6.10.1762793816058; Mon, 10 Nov 2025 08:56:56 -0800 (PST) Received: from postal.iol.unh.edu (postal.iol.unh.edu. [2606:4100:3880:1234::84]) by smtp-relay.gmail.com with ESMTPS id 6a1803df08f44-88238b21678sm9450476d6.18.2025.11.10.08.56.56 (version=TLS1_2 cipher=ECDHE-ECDSA-AES128-GCM-SHA256 bits=128/128); Mon, 10 Nov 2025 08:56:56 -0800 (PST) X-Relaying-Domain: iol.unh.edu Date: Mon, 10 Nov 2025 08:56:56 -0800 (PST) Message-ID: <69121958.d40a0220.374019.016dSMTPIN_ADDED_MISSING@mx.google.com> Received: from [172.21.0.4] (unknown [172.18.0.240]) by postal.iol.unh.edu (Postfix) with ESMTP id CF847604D420; Mon, 10 Nov 2025 11:56:55 -0500 (EST) Subject: |SUCCESS| pw158630 [PATCH] [v3,1/1] ring: fix unsafe ordering for he From: dpdklab@iol.unh.edu To: Test Report Cc: dpdk-test-reports@iol.unh.edu In-Reply-To: <20251110101717.233685-2-konstantin.ananyev@huawei.com> References: <20251110101717.233685-2-konstantin.ananyev@huawei.com> Content-Type: text/plain X-BeenThere: test-report@dpdk.org X-Mailman-Version: 2.1.29 Precedence: list List-Id: automatic DPDK test reports List-Unsubscribe: , List-Archive: List-Post: List-Help: List-Subscribe: , Errors-To: test-report-bounces@dpdk.org Test-Label: iol-compile-arm64-testing Test-Status: SUCCESS http://dpdk.org/patch/158630 _Testing PASS_ Submitter: Konstantin Ananyev Date: Monday, November 10 2025 10:17:17 DPDK git baseline: Repo:dpdk Branch: master CommitID:2e22572b9a6ce8bcdc0347313a35bb3066b0faff 158630 --> testing pass Upstream job id: Generic-DPDK-Compile-Meson#442548 Test environment and result as below: +------------------------------+--------------------+ | Environment | dpdk_meson_compile | +==============================+====================+ | Ubuntu 20.04 | PASS | +------------------------------+--------------------+ | Debian GNU/Linux 12 | PASS | +------------------------------+--------------------+ | Red Hat Enterprise Linux 9.5 | PASS | +------------------------------+--------------------+ | Fedora Linux 42 | PASS | +------------------------------+--------------------+ | Ubuntu 22.04 | PASS | +------------------------------+--------------------+ | CentOS Stream 10 | PASS | +------------------------------+--------------------+ | CentOS Stream 9 | PASS | +------------------------------+--------------------+ | Ubuntu 24.04 | PASS | +------------------------------+--------------------+ Ubuntu 20.04 Kernel: 5.15 Compiler: gcc gcc (Ubuntu 9.4.0-1ubuntu1~20.04.2) 9.4.0 Debian GNU/Linux 12 Kernel: 5.4 Compiler: gcc gcc (Debian 12.2.0-14+deb12u1) 12.2.0 Red Hat Enterprise Linux 9.5 Kernel: 5.4 Compiler: gcc gcc (GCC) 11.5.0 20240719 (Red Hat 11.5.0-2) Fedora Linux 42 Kernel: 5.4 Compiler: gcc gcc (GCC) 15.2.1 20250808 (Red Hat 15.2.1-1) Ubuntu 22.04 Kernel: 5.4 Compiler: gcc gcc (Ubuntu 11.4.0-1ubuntu1~22.04) 11.4.0 CentOS Stream 10 Kernel: 5.4 Compiler: gcc gcc (GCC) 14.2.1 20250110 (Red Hat 14.2.1-8) CentOS Stream 9 Kernel: 5.4 Compiler: gcc gcc (GCC) 11.5.0 20240719 (Red Hat 11.5.0-11) Ubuntu 24.04 Kernel: 5.4 Compiler: gcc gcc (Ubuntu 13.3.0-6ubuntu2~24.04) 13.3.0 To view detailed results, visit: https://lab.dpdk.org/results/dashboard/patchsets/34518/ UNH-IOL DPDK Community Lab To manage your email subscriptions, visit: https://lab.dpdk.org/results/dashboard/preferences/subscriptions/