From mboxrd@z Thu Jan 1 00:00:00 1970 Return-Path: Received: from mails.dpdk.org (mails.dpdk.org [217.70.189.124]) by inbox.dpdk.org (Postfix) with ESMTP id E216F48ACE for ; Mon, 10 Nov 2025 18:31:25 +0100 (CET) Received: from mails.dpdk.org (localhost [127.0.0.1]) by mails.dpdk.org (Postfix) with ESMTP id DD8F340264; Mon, 10 Nov 2025 18:31:25 +0100 (CET) Received: from mail-pl1-f226.google.com (mail-pl1-f226.google.com [209.85.214.226]) by mails.dpdk.org (Postfix) with ESMTP id 2A2AC40264 for ; Mon, 10 Nov 2025 18:31:25 +0100 (CET) Received: by mail-pl1-f226.google.com with SMTP id d9443c01a7336-2964d616df7so42122275ad.3 for ; Mon, 10 Nov 2025 09:31:25 -0800 (PST) DKIM-Signature: v=1; a=rsa-sha256; c=relaxed/relaxed; d=iol.unh.edu; s=unh-iol; t=1762795884; x=1763400684; darn=dpdk.org; h=references:in-reply-to:cc:to:from:subject:message-id:date:from:to :cc:subject:date:message-id:reply-to; bh=OJQR+1rsXSluSUa4ORzaJFACoWfsEu4KAng6T0GE0SM=; b=a26EG0Z9eZ6ff4JkQn9mdGmVjeQkIbTnIyELAX8SGnB5plgcUPahQF86dldgA0/2gC gGa8jFF/UriGbO2P1uZyw0zgrfkTrvCwyM5MLU5IYKBoR1dbs7rEdUNTi0RIKfslpCiW WCO4sLpZ/ZmIeOy96QJ04P2/UnpjyJsvYlcH8= X-Google-DKIM-Signature: v=1; a=rsa-sha256; c=relaxed/relaxed; d=1e100.net; s=20230601; t=1762795884; x=1763400684; h=references:in-reply-to:cc:to:from:subject:message-id:date:x-gm-gg :x-gm-message-state:from:to:cc:subject:date:message-id:reply-to; bh=OJQR+1rsXSluSUa4ORzaJFACoWfsEu4KAng6T0GE0SM=; b=QwsJYtbLlpmLpfUWY/SZ+lIutveEhMgvKCRYiPMrgpSbiFRALTMYMOFeNgMrYQ+VcJ sm53PJtZk4keDhC0iVMiwHzZM00GfOTS8BRNVX8ArVwEeP67FAyLccLZywkseCSgS2pB ZCNsq21f1/wmtVZrLpsuFlGVbzYf0lj9T90PN74I0ACdGIxG8EdUfgEmyXJLvbk0e+eO hPHfmPl47oXtQ9/IzvwtpdeqXJpX2C/gQ7oT8KDknpGtLTry2UHiWDYM/VgBpix3e6cG LBRbZyRpu3QDmEkGIAD6/uR4VKADTYcXKyTdsQSfbxwuxKnkASyR7ecqPLSbsq41pk2U AUaQ== X-Gm-Message-State: AOJu0Yyj4xZWP/64ie/g1xae/8LsoICqBKCfEZWXJvZ8dJv6UjQ7StNK T4EoSyjIoh9tj36ljtff9kBBlqznMkTHWd7E3v5Qi/+o846TR5g6F6PAEkRZmoB1LT6dlKINrEv eE0xFhDsFkBl/64o3GATnuGpwakiForUkg95GYaJG53QT X-Gm-Gg: ASbGncv/mEj/Y9sXDq/X5qXuPyiVbmR1l0NgZ+Bkk+wKMFKqw3S2N6mHKewqzx8ayXI f9KNpQFpIq/Ck3DXl34g/GWhHfpU+vmrU4KIPuhN5mAR/HYy9P+jFa0K2fvzD4pgsp/hlXnnPaA mhGCoz8sPt7velbEZ8KZghTDBP99ILKT5IQQd82WTUMDjzYV2GCJHZta6cINBRCXRbsA7qh2422 Y9khAdMYzpiA2+qpL6GqEoj9cp2ZVzyxOvq9jTRXglUEQGHO1tlVm7rDjzTQqbRQdYRutR/Jvi6 QFV9q+fGhq3uvWaXD00XZnzDTR1jq6AcLuCW5oDggCXPl4Q3eIopupK8vcJnLCPHvpwNVFNtD6Y h3WIU/QIzEPLclwDvZNLAe8AcqxvyFmA= X-Google-Smtp-Source: AGHT+IE3A+sknhmOOFhd1nl2NVecM+n0SfEA3fwf5FMCoHyttpqAzbEppKfjPydM6voT172aov3OMzr7MQSl X-Received: by 2002:a17:903:1a0c:b0:297:fc22:3a9f with SMTP id d9443c01a7336-297fc223c26mr75301865ad.38.1762795884183; Mon, 10 Nov 2025 09:31:24 -0800 (PST) Received: from postal.iol.unh.edu (postal.iol.unh.edu. [132.177.123.84]) by smtp-relay.gmail.com with ESMTPS id d9443c01a7336-29651cc00adsm14910845ad.58.2025.11.10.09.31.24 (version=TLS1_2 cipher=ECDHE-ECDSA-AES128-GCM-SHA256 bits=128/128); Mon, 10 Nov 2025 09:31:24 -0800 (PST) X-Relaying-Domain: iol.unh.edu Date: Mon, 10 Nov 2025 09:31:24 -0800 (PST) Message-ID: <6912216c.170a0220.abb1b.c4fcSMTPIN_ADDED_MISSING@mx.google.com> Received: from [172.21.0.3] (unknown [172.18.0.240]) by postal.iol.unh.edu (Postfix) with ESMTP id 59DCD6051830; Mon, 10 Nov 2025 12:31:23 -0500 (EST) Subject: |SUCCESS| pw158631 [PATCH] net/ice: set pkt prepare to dummy instead From: dpdklab@iol.unh.edu To: Test Report Cc: dpdk-test-reports@iol.unh.edu, Bruce Richardson In-Reply-To: <20251110122457.2575615-1-skori@marvell.com> References: <20251110122457.2575615-1-skori@marvell.com> Content-Type: text/plain X-BeenThere: test-report@dpdk.org X-Mailman-Version: 2.1.29 Precedence: list List-Id: automatic DPDK test reports List-Unsubscribe: , List-Archive: List-Post: List-Help: List-Subscribe: , Errors-To: test-report-bounces@dpdk.org Test-Label: iol-unit-arm64-testing Test-Status: SUCCESS http://dpdk.org/patch/158631 _Testing PASS_ Submitter: Sunil Kumar Kori Date: Monday, November 10 2025 12:24:54 DPDK git baseline: Repo:dpdk-next-net-intel Branch: master CommitID:1655dc989bc95fa85fc76d32912d2e46c0851148 158631 --> testing pass Upstream job id: Generic-Unit-Test-DPDK#390568 Test environment and result as below: +------------------------------+---------------------------+--------------+------------------------------+----------------+ | Environment | cryptodev_sw_zuc_autotest | lpm_autotest | cryptodev_sw_snow3g_autotest | dpdk_unit_test | +==============================+===========================+==============+==============================+================+ | Debian 12 (arm) | PASS | SKIPPED | PASS | SKIPPED | +------------------------------+---------------------------+--------------+------------------------------+----------------+ | Ubuntu 20.04 | SKIPPED | PASS | SKIPPED | PASS | +------------------------------+---------------------------+--------------+------------------------------+----------------+ | Debian GNU/Linux 12 | SKIPPED | SKIPPED | SKIPPED | PASS | +------------------------------+---------------------------+--------------+------------------------------+----------------+ | Ubuntu 24.04 | SKIPPED | SKIPPED | SKIPPED | PASS | +------------------------------+---------------------------+--------------+------------------------------+----------------+ | Ubuntu 22.04 | SKIPPED | SKIPPED | SKIPPED | PASS | +------------------------------+---------------------------+--------------+------------------------------+----------------+ | Fedora Linux 40 | SKIPPED | SKIPPED | SKIPPED | PASS | +------------------------------+---------------------------+--------------+------------------------------+----------------+ | Fedora Linux 41 | SKIPPED | SKIPPED | SKIPPED | PASS | +------------------------------+---------------------------+--------------+------------------------------+----------------+ | Red Hat Enterprise Linux 9.5 | SKIPPED | SKIPPED | SKIPPED | PASS | +------------------------------+---------------------------+--------------+------------------------------+----------------+ | CentOS Stream 9 | SKIPPED | SKIPPED | SKIPPED | PASS | +------------------------------+---------------------------+--------------+------------------------------+----------------+ | Fedora Linux 42 | SKIPPED | SKIPPED | SKIPPED | PASS | +------------------------------+---------------------------+--------------+------------------------------+----------------+ | CentOS Stream 10 | SKIPPED | SKIPPED | SKIPPED | PASS | +------------------------------+---------------------------+--------------+------------------------------+----------------+ Debian 12 (arm) Kernel: Depends on container host Compiler: gcc (Debian 12.2.0-14) 12.2.0 Ubuntu 20.04 Kernel: 5.4 Compiler: gcc gcc (Ubuntu 9.4.0-1ubuntu1~20.04.2) 9.4.0 Debian GNU/Linux 12 Kernel: 5.4 Compiler: gcc gcc (Debian 12.2.0-14+deb12u1) 12.2.0 Ubuntu 24.04 Kernel: 5.4 Compiler: gcc gcc (Ubuntu 13.3.0-6ubuntu2~24.04) 13.3.0 Ubuntu 22.04 Kernel: 5.4 Compiler: gcc gcc (Ubuntu 11.4.0-1ubuntu1~22.04) 11.4.0 Fedora Linux 40 Kernel: 5.4 Compiler: clang gcc (GCC) 14.2.1 20240912 (Red Hat 14.2.1-3) Fedora Linux 41 Kernel: 5.4 Compiler: clang gcc (GCC) 14.3.1 20250523 (Red Hat 14.3.1-1) Red Hat Enterprise Linux 9.5 Kernel: 5.4 Compiler: gcc gcc (GCC) 11.5.0 20240719 (Red Hat 11.5.0-2) CentOS Stream 9 Kernel: 5.4 Compiler: gcc gcc (GCC) 11.5.0 20240719 (Red Hat 11.5.0-11) Fedora Linux 42 Kernel: 5.4 Compiler: gcc gcc (GCC) 15.2.1 20250808 (Red Hat 15.2.1-1) CentOS Stream 10 Kernel: 5.4 Compiler: gcc gcc (GCC) 14.2.1 20250110 (Red Hat 14.2.1-8) To view detailed results, visit: https://lab.dpdk.org/results/dashboard/patchsets/34519/ UNH-IOL DPDK Community Lab To manage your email subscriptions, visit: https://lab.dpdk.org/results/dashboard/preferences/subscriptions/