From mboxrd@z Thu Jan 1 00:00:00 1970 Return-Path: Received: from mails.dpdk.org (mails.dpdk.org [217.70.189.124]) by inbox.dpdk.org (Postfix) with ESMTP id 6A70248AD0 for ; Mon, 10 Nov 2025 19:16:06 +0100 (CET) Received: from mails.dpdk.org (localhost [127.0.0.1]) by mails.dpdk.org (Postfix) with ESMTP id 472B740264; Mon, 10 Nov 2025 19:16:06 +0100 (CET) Received: from mail-qk1-f225.google.com (mail-qk1-f225.google.com [209.85.222.225]) by mails.dpdk.org (Postfix) with ESMTP id D954740264 for ; Mon, 10 Nov 2025 19:16:05 +0100 (CET) Received: by mail-qk1-f225.google.com with SMTP id af79cd13be357-8b144ec3aa8so359538885a.2 for ; Mon, 10 Nov 2025 10:16:05 -0800 (PST) DKIM-Signature: v=1; a=rsa-sha256; c=relaxed/relaxed; d=iol.unh.edu; s=unh-iol; t=1762798565; x=1763403365; darn=dpdk.org; h=references:in-reply-to:cc:to:from:subject:message-id:date:from:to :cc:subject:date:message-id:reply-to; bh=pv1dnmSRh6G5hx88nAXdCX2bzUZMDKvG+rXYaNj0gLU=; b=D1kXgNV+UIOFuIrBt+n8W8faPjojiAZiHkyyVdUUjsE0cibquHg43li1eQ0hi9fx2g WwMEPqHeuXIadR5NgQWgJrj4lDW0eN3q58iA5sefZLjnmVN68Nwe5VoeBvX1zyCDjMoe ldaFqRj60ddKrEVybZtlYG3zRSC7aBLFaCPiw= X-Google-DKIM-Signature: v=1; a=rsa-sha256; c=relaxed/relaxed; d=1e100.net; s=20230601; t=1762798565; x=1763403365; h=references:in-reply-to:cc:to:from:subject:message-id:date:x-gm-gg :x-gm-message-state:from:to:cc:subject:date:message-id:reply-to; bh=pv1dnmSRh6G5hx88nAXdCX2bzUZMDKvG+rXYaNj0gLU=; b=X/hZ4ZX7Yn5I0e2gt38AICHu+7FdMST1mLtzLFeRG++LBxOjLkDU4mdG4oSRMG0/vO fhGgeOlhAjWZvC+0R3XLHvUdkeroSd8WMka66n4kmbHAl8FmUOddS9wCrMvfQE7HRsAt nanL8zA7zFICDIHz+XxZ+ScRntxcqSxdbgzCjhqLfdqgqvSbRNmYC6pApdOa2jcYavnV OsvrIPqey6rwb7N1btIhmElm1SJQ8PmrNnyzcVWsz2d3lKcyqr1jXa+tKV2kvgL5qDMK NKHEwjdhwMam9ukoyJXCNQLGfE4zlkjOaUs6uVTadWc5P8JiRDITEIVgvEoFOMnwHBJw yIhA== X-Gm-Message-State: AOJu0Yyij21byapaYpnZoUIs71bo7gPyMHuA8n8OzpXP7wGvlPX7YX75 ZwAysKE6R1a1oEmCE5udC3QmXbWG8cvsNfna7UbPLcl/hNKKV4f+Tgjxj/PY0RbaNHZmM71UpcD rPj52CN5LAt9VI/Oj3JrqSSP+IUquLWNfMYpz5v27PtOp X-Gm-Gg: ASbGncsD8bPqPj3IuyCZYoMvEsVsBNwLh2DA2jTtxXGZFx3ZFBTCesDTspgAvTAr6IW EiEXvTCQc3bHFxfFtD+g85g06mSWEgRpCORNApn1pZzJBOec9NsO9xUAtTeNkwSULiJm3CXkmFR /e0iL74iYyfHBYj/v/M2xZ1I9XN8JaC2h5aQa3Cv5O58ajaq7rDSkLunVCKO4wNnJ8if/eTNMVI Gq0CczeKu325QNQVZlsT6LUjOfJaWVENq/4llRQv8YzOZFDB/h8JaSXeXDtUXwMwJhTqYwJpmyD 489DfvOWttHkX8ZeMapBH3ROrsttCe4L7ZNvPe3pSaF9pcOY1YzxxoMz7TmOBLvTVwzhgJCR2tk DC6RulP7/v6rZOb+P8BPBwRs29kVbJtE= X-Google-Smtp-Source: AGHT+IGK1BlQAURYUX/ZwNJJ7V+foPOHRTFXJ1ciQGPDyjlTmlXSJrQonQ4+LCUvD9eWI0i1+VGyrZiw2ohm X-Received: by 2002:a05:620a:4087:b0:8b2:77cf:a013 with SMTP id af79cd13be357-8b277cfc901mr508046485a.42.1762798565011; Mon, 10 Nov 2025 10:16:05 -0800 (PST) Received: from postal.iol.unh.edu (postal.iol.unh.edu. [132.177.123.84]) by smtp-relay.gmail.com with ESMTPS id af79cd13be357-8b2356b5b64sm106021485a.5.2025.11.10.10.16.04 (version=TLS1_2 cipher=ECDHE-ECDSA-AES128-GCM-SHA256 bits=128/128); Mon, 10 Nov 2025 10:16:05 -0800 (PST) X-Relaying-Domain: iol.unh.edu Date: Mon, 10 Nov 2025 10:16:05 -0800 (PST) Message-ID: <69122be5.050a0220.22a0c9.7799SMTPIN_ADDED_MISSING@mx.google.com> Received: from [172.21.0.2] (unknown [172.18.0.240]) by postal.iol.unh.edu (Postfix) with ESMTP id AE0E06051830; Mon, 10 Nov 2025 13:16:04 -0500 (EST) Subject: |SUCCESS| pw158636 [PATCH] gro : improve GRO performance based on ha From: dpdklab@iol.unh.edu To: Test Report Cc: dpdk-test-reports@iol.unh.edu In-Reply-To: <20251110162356.173438-1-kumaraparamesh92@gmail.com> References: <20251110162356.173438-1-kumaraparamesh92@gmail.com> Content-Type: text/plain X-BeenThere: test-report@dpdk.org X-Mailman-Version: 2.1.29 Precedence: list List-Id: automatic DPDK test reports List-Unsubscribe: , List-Archive: List-Post: List-Help: List-Subscribe: , Errors-To: test-report-bounces@dpdk.org Test-Label: iol-compile-amd64-testing Test-Status: SUCCESS http://dpdk.org/patch/158636 _Testing PASS_ Submitter: kumaraparameshwaran rathinavel Date: Monday, November 10 2025 16:23:56 DPDK git baseline: Repo:dpdk Branch: master CommitID:32387caaa00660ebe35be25f2371edb0069cc80a 158636 --> testing pass Upstream job id: Generic-DPDK-Compile-Meson#442635 Test environment and result as below: +-------------------------------+--------------------+------------------+-------------------------+-------------------+----------------------+ | Environment | dpdk_meson_compile | dpdk_compile_ovs | dpdk_llvm_clang_compile | dpdk_msvc_compile | dpdk_mingw64_compile | +===============================+====================+==================+=========================+===================+======================+ | CentOS Stream 9 | PASS | SKIPPED | SKIPPED | SKIPPED | SKIPPED | +-------------------------------+--------------------+------------------+-------------------------+-------------------+----------------------+ | CentOS Stream 10 | PASS | SKIPPED | SKIPPED | SKIPPED | SKIPPED | +-------------------------------+--------------------+------------------+-------------------------+-------------------+----------------------+ | Fedora Linux 42 | PASS | PASS | SKIPPED | SKIPPED | SKIPPED | +-------------------------------+--------------------+------------------+-------------------------+-------------------+----------------------+ | Debian GNU/Linux 12 | PASS | SKIPPED | SKIPPED | SKIPPED | SKIPPED | +-------------------------------+--------------------+------------------+-------------------------+-------------------+----------------------+ | FreeBSD 14.2 | PASS | SKIPPED | SKIPPED | SKIPPED | SKIPPED | +-------------------------------+--------------------+------------------+-------------------------+-------------------+----------------------+ | Ubuntu 20.04 | PASS | SKIPPED | SKIPPED | SKIPPED | SKIPPED | +-------------------------------+--------------------+------------------+-------------------------+-------------------+----------------------+ | Red Hat Enterprise Linux 9.5 | PASS | SKIPPED | SKIPPED | SKIPPED | SKIPPED | +-------------------------------+--------------------+------------------+-------------------------+-------------------+----------------------+ | Red Hat Enterprise Linux 8.10 | PASS | SKIPPED | SKIPPED | SKIPPED | SKIPPED | +-------------------------------+--------------------+------------------+-------------------------+-------------------+----------------------+ | Ubuntu 24.04 | PASS | PASS | SKIPPED | SKIPPED | SKIPPED | +-------------------------------+--------------------+------------------+-------------------------+-------------------+----------------------+ | Ubuntu 22.04 | PASS | SKIPPED | SKIPPED | SKIPPED | SKIPPED | +-------------------------------+--------------------+------------------+-------------------------+-------------------+----------------------+ | openSUSE Leap 15.6 | PASS | SKIPPED | SKIPPED | SKIPPED | SKIPPED | +-------------------------------+--------------------+------------------+-------------------------+-------------------+----------------------+ | Alpine Linux 3.22.0 | PASS | SKIPPED | SKIPPED | SKIPPED | SKIPPED | +-------------------------------+--------------------+------------------+-------------------------+-------------------+----------------------+ | Windows Server 2022 | SKIPPED | SKIPPED | PASS | PASS | PASS | +-------------------------------+--------------------+------------------+-------------------------+-------------------+----------------------+ CentOS Stream 9 Kernel: 5.15 Compiler: gcc gcc (GCC) 11.5.0 20240719 (Red Hat 11.5.0-11) CentOS Stream 10 Kernel: 5.15 Compiler: gcc gcc (GCC) 14.2.1 20250110 (Red Hat 14.2.1-8) Fedora Linux 42 Kernel: 5.15 Compiler: clang gcc (GCC) 15.2.1 20250808 (Red Hat 15.2.1-1) Debian GNU/Linux 12 Kernel: 5.15 Compiler: gcc gcc (Debian 12.2.0-14+deb12u1) 12.2.0 FreeBSD 14.2 Kernel: 14.2-RELEASE Compiler: clang 18.1.6 Ubuntu 20.04 Kernel: 5.15 Compiler: gcc gcc (Ubuntu 9.4.0-1ubuntu1~20.04.2) 9.4.0 Red Hat Enterprise Linux 9.5 Kernel: 5.15 Compiler: gcc gcc (GCC) 11.5.0 20240719 (Red Hat 11.5.0-2) Red Hat Enterprise Linux 8.10 Kernel: 5.15 Compiler: gcc gcc (GCC) 8.5.0 20210514 (Red Hat 8.5.0-22) Ubuntu 24.04 Kernel: 5.15 Compiler: gcc gcc (Ubuntu 13.3.0-6ubuntu2~24.04) 13.3.0 Ubuntu 22.04 Kernel: 5.15 Compiler: gcc gcc (Ubuntu 11.4.0-1ubuntu1~22.04) 11.4.0 openSUSE Leap 15.6 Kernel: 5.15 Compiler: gcc gcc (SUSE Linux) 7.5.0 Alpine Linux 3.22.0 Kernel: 5.15 Compiler: gcc gcc (Alpine 14.2.0) 14.2.0 Windows Server 2022 Kernel: 10.0.20348.2031 Compiler: clang 15.0.7, gcc 14.1.0 (MinGW), and MSVC VS 19.39.33521 To view detailed results, visit: https://lab.dpdk.org/results/dashboard/patchsets/34522/ UNH-IOL DPDK Community Lab To manage your email subscriptions, visit: https://lab.dpdk.org/results/dashboard/preferences/subscriptions/