From mboxrd@z Thu Jan 1 00:00:00 1970 Return-Path: Received: from mails.dpdk.org (mails.dpdk.org [217.70.189.124]) by inbox.dpdk.org (Postfix) with ESMTP id DE85748AD0 for ; Mon, 10 Nov 2025 19:39:54 +0100 (CET) Received: from mails.dpdk.org (localhost [127.0.0.1]) by mails.dpdk.org (Postfix) with ESMTP id B289F4026D; Mon, 10 Nov 2025 19:39:54 +0100 (CET) Received: from mail-pj1-f97.google.com (mail-pj1-f97.google.com [209.85.216.97]) by mails.dpdk.org (Postfix) with ESMTP id ACD8D4026D for ; Mon, 10 Nov 2025 19:39:53 +0100 (CET) Received: by mail-pj1-f97.google.com with SMTP id 98e67ed59e1d1-34374febdefso2376181a91.0 for ; Mon, 10 Nov 2025 10:39:53 -0800 (PST) DKIM-Signature: v=1; a=rsa-sha256; c=relaxed/relaxed; d=iol.unh.edu; s=unh-iol; t=1762799993; x=1763404793; darn=dpdk.org; h=references:in-reply-to:cc:to:from:subject:message-id:date:from:to :cc:subject:date:message-id:reply-to; bh=NzZBgma0fZJzszkRU4xtslaL5ItUbCv1GESmHG8Qw9g=; b=POZLx+ItlrTvKupFIjSx8qMX3nYD+iSWzI4VL6OZoEbNsXUjPYJMEMrZk3rL05fYRe Vb+0buh3GOqj6H6tz5pbrje+6KysQRF8j0QXuGTy+f7Jd4XZbCrvi6F+MqF55DVuXYC7 tgKEU5ANzdp7Wt3hysGr+MlTsvGtxTrWf8pWY= X-Google-DKIM-Signature: v=1; a=rsa-sha256; c=relaxed/relaxed; d=1e100.net; s=20230601; t=1762799993; x=1763404793; h=references:in-reply-to:cc:to:from:subject:message-id:date:x-gm-gg :x-gm-message-state:from:to:cc:subject:date:message-id:reply-to; bh=NzZBgma0fZJzszkRU4xtslaL5ItUbCv1GESmHG8Qw9g=; b=Iz3WSckbZUPQaB1bOD6fVXSOaJ5teigRfLDhY5oAG/jd2TXk+Uer6ZsaMaPTFi4PW6 ujd4ZqTmnfTprIbGS2TM+yWFBq1lyoqHqTLbt1NxpOHrWSuAs9fi5lgq2Tag6WSXmhIV nBaobSJG1oHP+uy0u3H2pxft1FxV2TFoKfzSJyq0rW/EOUdKVKsAZE1rWakRbfSCk8cT uyWHK4VOEfdBCttZQfwGNL0Zakd+caDTVLmQvoRcHJh3vvXxfuBHLx+CTBFCCcVqte4w Ebs87LETfRiaONMCvMFFncXfDmyzraCwfoGSbnNRNJx5W2c+VR7FCTh1YM1P9WPRGi1P PrEA== X-Gm-Message-State: AOJu0YzNgVXeorfd9g+NqssTtkYAYXCj+1fEfYC/lYfR7XUrcqfo0e9m voXATAjhr9Jx1KwExmcaajsgxQlFsol9hON217obB2o0Lg9Jr3chOHAgA7XQvgralX+o5nZQ4N9 uzlnqH2HMJ8OjSUzYU/RRL/6LlmdYjkkM6eOW9Z7JdD63W3rcRtE0n9982CSB X-Gm-Gg: ASbGncsYBBwLR8LBkncRv4iDmdsNaS4d00VGIysD3zpteZHRCefu6RF8GJc+8/yONeu 59f6QfsKruYGAlIthCCcXPjSROtD+GK8G28WoVIypE78l4PrjVKGz69j/EZVmOX8OR+RaIP346L sPc0Y2xfl74SWYloIEehy2bpG7zjqtQxF5SDOf8AnsjSlVBbzYTKN7kvrfdr/Ihy5JztQ76ArjZ LLalTSiJi2cRe3/4UahMSaC9E/LRjLsqfk68Lgclx5ekWLWu2VRGoMJHHv6TWWkVz0vYBhWKbxO wBE7EjY61HSSyCh4/r5QgG9U6uh5xoJ/miJ5QhC58h/R+MKDatl7rcnU8gZf4ncidXgQ+1d0ST1 QsghchSRB X-Google-Smtp-Source: AGHT+IHiKA6SwFnlbK+qD3OI6ywpijcTSBcSrLf5ChsOwmPC+aRog1ke1kfPs4qZ50t3zRDsiVd02m7nAFsg X-Received: by 2002:a17:90a:bd98:b0:341:8ab9:6882 with SMTP id 98e67ed59e1d1-3436ccf1f60mr10399924a91.17.1762799992816; Mon, 10 Nov 2025 10:39:52 -0800 (PST) Received: from postal.iol.unh.edu (postal.iol.unh.edu. [2606:4100:3880:1234::84]) by smtp-relay.gmail.com with ESMTPS id 98e67ed59e1d1-343bf93d935sm6034a91.1.2025.11.10.10.39.52 (version=TLS1_2 cipher=ECDHE-ECDSA-AES128-GCM-SHA256 bits=128/128); Mon, 10 Nov 2025 10:39:52 -0800 (PST) X-Relaying-Domain: iol.unh.edu Date: Mon, 10 Nov 2025 10:39:52 -0800 (PST) Message-ID: <69123178.170a0220.24ce83.04f5SMTPIN_ADDED_MISSING@mx.google.com> Received: from [172.21.0.3] (unknown [172.18.0.240]) by postal.iol.unh.edu (Postfix) with ESMTP id 0D1576050A61; Mon, 10 Nov 2025 13:39:52 -0500 (EST) Subject: |SUCCESS| pw158632 [PATCH] [v1,1/1] net/ixgbe: fix PF link state req From: dpdklab@iol.unh.edu To: Test Report Cc: dpdk-test-reports@iol.unh.edu, Bruce Richardson In-Reply-To: <2ff7218cef6c77858929c2aad49bf33d925f1865.1762782930.git.anatoly.burakov@intel.com> References: <2ff7218cef6c77858929c2aad49bf33d925f1865.1762782930.git.anatoly.burakov@intel.com> Content-Type: text/plain X-BeenThere: test-report@dpdk.org X-Mailman-Version: 2.1.29 Precedence: list List-Id: automatic DPDK test reports List-Unsubscribe: , List-Archive: List-Post: List-Help: List-Subscribe: , Errors-To: test-report-bounces@dpdk.org Test-Label: iol-unit-arm64-testing Test-Status: SUCCESS http://dpdk.org/patch/158632 _Testing PASS_ Submitter: Anatoly Burakov Date: Monday, November 10 2025 13:55:39 DPDK git baseline: Repo:dpdk-next-net-intel Branch: master CommitID:1655dc989bc95fa85fc76d32912d2e46c0851148 158632 --> testing pass Upstream job id: Generic-Unit-Test-DPDK#390591 Test environment and result as below: +------------------------------+----------------+---------------------------+--------------+------------------------------+ | Environment | dpdk_unit_test | cryptodev_sw_zuc_autotest | lpm_autotest | cryptodev_sw_snow3g_autotest | +==============================+================+===========================+==============+==============================+ | CentOS Stream 10 | PASS | SKIPPED | SKIPPED | SKIPPED | +------------------------------+----------------+---------------------------+--------------+------------------------------+ | Debian GNU/Linux 12 | PASS | SKIPPED | SKIPPED | SKIPPED | +------------------------------+----------------+---------------------------+--------------+------------------------------+ | CentOS Stream 9 | PASS | SKIPPED | SKIPPED | SKIPPED | +------------------------------+----------------+---------------------------+--------------+------------------------------+ | Fedora Linux 40 | PASS | SKIPPED | SKIPPED | SKIPPED | +------------------------------+----------------+---------------------------+--------------+------------------------------+ | Fedora Linux 42 | PASS | SKIPPED | SKIPPED | SKIPPED | +------------------------------+----------------+---------------------------+--------------+------------------------------+ | Red Hat Enterprise Linux 9.5 | PASS | SKIPPED | SKIPPED | SKIPPED | +------------------------------+----------------+---------------------------+--------------+------------------------------+ | Fedora Linux 41 | PASS | SKIPPED | SKIPPED | SKIPPED | +------------------------------+----------------+---------------------------+--------------+------------------------------+ | Ubuntu 20.04 | PASS | SKIPPED | PASS | SKIPPED | +------------------------------+----------------+---------------------------+--------------+------------------------------+ | Ubuntu 22.04 | PASS | SKIPPED | SKIPPED | SKIPPED | +------------------------------+----------------+---------------------------+--------------+------------------------------+ | Ubuntu 24.04 | PASS | SKIPPED | SKIPPED | SKIPPED | +------------------------------+----------------+---------------------------+--------------+------------------------------+ | Debian 12 (arm) | SKIPPED | PASS | SKIPPED | PASS | +------------------------------+----------------+---------------------------+--------------+------------------------------+ CentOS Stream 10 Kernel: 5.4 Compiler: gcc gcc (GCC) 14.2.1 20250110 (Red Hat 14.2.1-8) Debian GNU/Linux 12 Kernel: 5.4 Compiler: gcc gcc (Debian 12.2.0-14+deb12u1) 12.2.0 CentOS Stream 9 Kernel: 5.4 Compiler: gcc gcc (GCC) 11.5.0 20240719 (Red Hat 11.5.0-11) Fedora Linux 40 Kernel: 5.4 Compiler: clang gcc (GCC) 14.2.1 20240912 (Red Hat 14.2.1-3) Fedora Linux 42 Kernel: 5.4 Compiler: clang gcc (GCC) 15.2.1 20250808 (Red Hat 15.2.1-1) Red Hat Enterprise Linux 9.5 Kernel: 5.4 Compiler: gcc gcc (GCC) 11.5.0 20240719 (Red Hat 11.5.0-2) Fedora Linux 41 Kernel: 5.4 Compiler: gcc gcc (GCC) 14.3.1 20250523 (Red Hat 14.3.1-1) Ubuntu 20.04 Kernel: 5.4 Compiler: gcc gcc (Ubuntu 9.4.0-1ubuntu1~20.04.2) 9.4.0 Ubuntu 22.04 Kernel: 5.4 Compiler: gcc gcc (Ubuntu 11.4.0-1ubuntu1~22.04) 11.4.0 Ubuntu 24.04 Kernel: 5.4 Compiler: gcc gcc (Ubuntu 13.3.0-6ubuntu2~24.04) 13.3.0 Debian 12 (arm) Kernel: Depends on container host Compiler: gcc (Debian 12.2.0-14) 12.2.0 To view detailed results, visit: https://lab.dpdk.org/results/dashboard/patchsets/34520/ UNH-IOL DPDK Community Lab To manage your email subscriptions, visit: https://lab.dpdk.org/results/dashboard/preferences/subscriptions/