From mboxrd@z Thu Jan 1 00:00:00 1970 Return-Path: Received: from mails.dpdk.org (mails.dpdk.org [217.70.189.124]) by inbox.dpdk.org (Postfix) with ESMTP id 3E63048AD1 for ; Mon, 10 Nov 2025 20:23:33 +0100 (CET) Received: from mails.dpdk.org (localhost [127.0.0.1]) by mails.dpdk.org (Postfix) with ESMTP id 372AF40264; Mon, 10 Nov 2025 20:23:33 +0100 (CET) Received: from mail-il1-f225.google.com (mail-il1-f225.google.com [209.85.166.225]) by mails.dpdk.org (Postfix) with ESMTP id 1FFC840264 for ; Mon, 10 Nov 2025 20:23:32 +0100 (CET) Received: by mail-il1-f225.google.com with SMTP id e9e14a558f8ab-433791d45f5so21385525ab.0 for ; Mon, 10 Nov 2025 11:23:32 -0800 (PST) DKIM-Signature: v=1; a=rsa-sha256; c=relaxed/relaxed; d=iol.unh.edu; s=unh-iol; t=1762802611; x=1763407411; darn=dpdk.org; h=references:in-reply-to:cc:to:from:subject:message-id:date:from:to :cc:subject:date:message-id:reply-to; bh=PA9pNTbo+DGkuVytAk/oMlkEu/vu/js0wO9L4G72NV0=; b=Orwzc69t22A7GTB2+zapq+RxND5zXSnz/na3s6o3zxNFkjzO4HumzbemqfQ28BcuAs OXBHlnXVJqSHubgJ4wu366aMY+Pegb6bICrIW/1v3s0uT52lxccmRDVurp/9pfZKXzZI S4cRDASainSOMBNhzYlZO/vX7CRJNbaUMrVt0= X-Google-DKIM-Signature: v=1; a=rsa-sha256; c=relaxed/relaxed; d=1e100.net; s=20230601; t=1762802611; x=1763407411; h=references:in-reply-to:cc:to:from:subject:message-id:date:x-gm-gg :x-gm-message-state:from:to:cc:subject:date:message-id:reply-to; bh=PA9pNTbo+DGkuVytAk/oMlkEu/vu/js0wO9L4G72NV0=; b=gg4vgADKnclsk3XJMn+pe8k0qQPu716IyXdsGadG9hEy492w+gfJFZ9bNqDUgAS5Cj fKguNpxcBGoebCF5aUWBIaTqxWm8QWKX/V2MqK/rAIhdE05fDTd+ww1vFWGaDmYllTvR 6CEYoNQdMKHYUnl96Zuz0Mc8Id5pjToSXWVSPRKS2UPnV9O1mj1t4B1N+gbFAEtuIe4Z VlBe5l01gGN15ugn0/o5Gyalrcvm2YMSMBq+LGnxkd0czrG3vdJieowNpWP+A9bxNkp9 hbgxrxv9S2v3pf8Z518BWW6seuq5Emt7i+a56xtc0diuAp31ROs2+CKf5vo5x6B2FZMX uGsQ== X-Gm-Message-State: AOJu0YynoLzPUAQCEBBDUjlJCKQSFYXT4M+Y4eariemIwdL2LNSWCXqq SIwy2OAHdOxIILh334E7SKSGwCKvGmS0XQ4N4w6LagZ+r/n+5HJI8360U3ymbWrX6GMceExKWq4 gHgSzkFGAAcu7uDhf239sy2fGPEOAj0VbwhlkfZWlx2GDig25lSUQTdKsshgy X-Gm-Gg: ASbGnctYxyMv2HtbZRZt10hgDE4thD4DWBQxz4QHXYlSvXogQoMLEvs87rkVuRIf+nC o5F0KQsR9Z+M/jWPL/s6m4z39oHmc0eKo+eA/rnjgQSvQhFwjPo1mDJbEMPNljy9jodWdJsklD/ 0EZMv7ZTUs/iz8tQC9hybJ4y/K34LOKIYKRlb7EJ7DYQxlnTO3eA7xnG4J80lx2olMqlxpEJMMr QhVFnWNbuaSN+X+GEfZmWCyQcANG2/8/QHVtQvygmAmqnk2QAe6atj/SPzXFzcyZoOFcA9RKMoB Jy6XGgGlUj5HMyxX0ExaffCxMDx9oJlHb2vVxHUNbGoRabUdfnYboBFLkC2bprpaAQ3iWwdisxE +y2V+XtJy X-Google-Smtp-Source: AGHT+IFezRrVn5X7ukaUznQMGDjZ6wWCWZTdmaySlkZyoFBzjpqQx38AOi0o3dZMVTIEWldiHE/Z4/Ef5IpT X-Received: by 2002:a05:6e02:218b:b0:433:7a5f:9439 with SMTP id e9e14a558f8ab-4337a5f9550mr70375305ab.24.1762802611402; Mon, 10 Nov 2025 11:23:31 -0800 (PST) Received: from postal.iol.unh.edu (postal.iol.unh.edu. [2606:4100:3880:1234::84]) by smtp-relay.gmail.com with ESMTPS id 8926c6da1cb9f-5b7468c3435sm1649887173.39.2025.11.10.11.23.31 (version=TLS1_2 cipher=ECDHE-ECDSA-AES128-GCM-SHA256 bits=128/128); Mon, 10 Nov 2025 11:23:31 -0800 (PST) X-Relaying-Domain: iol.unh.edu Date: Mon, 10 Nov 2025 11:23:31 -0800 (PST) Message-ID: <69123bb3.050a0220.3822d8.4a99SMTPIN_ADDED_MISSING@mx.google.com> Received: from [172.21.0.3] (unknown [172.18.0.240]) by postal.iol.unh.edu (Postfix) with ESMTP id D40E56050A61; Mon, 10 Nov 2025 14:23:30 -0500 (EST) Subject: |SUCCESS| pw158637 [PATCH] [v2] crypto/qat: fix CCM request descript From: dpdklab@iol.unh.edu To: Test Report Cc: dpdk-test-reports@iol.unh.edu, Akhil Goyal In-Reply-To: <20251110170107.2296951-1-emma.finn@intel.com> References: <20251110170107.2296951-1-emma.finn@intel.com> Content-Type: text/plain X-BeenThere: test-report@dpdk.org X-Mailman-Version: 2.1.29 Precedence: list List-Id: automatic DPDK test reports List-Unsubscribe: , List-Archive: List-Post: List-Help: List-Subscribe: , Errors-To: test-report-bounces@dpdk.org Test-Label: iol-unit-amd64-testing Test-Status: SUCCESS http://dpdk.org/patch/158637 _Testing PASS_ Submitter: Emma Finn Date: Monday, November 10 2025 17:01:07 DPDK git baseline: Repo:dpdk-next-crypto Branch: master CommitID:9cec61fe8175f6d0ce8067734d3f7e8b02afe697 158637 --> testing pass Upstream job id: Generic-VM-Unit-Test-DPDK#32435 Test environment and result as below: +-------------------------------+----------------+ | Environment | dpdk_unit_test | +===============================+================+ | CentOS Stream 10 | PASS | +-------------------------------+----------------+ | CentOS Stream 9 | PASS | +-------------------------------+----------------+ | Ubuntu 24.04 | PASS | +-------------------------------+----------------+ | Fedora Linux 42 | PASS | +-------------------------------+----------------+ | Ubuntu 20.04 | PASS | +-------------------------------+----------------+ | Debian GNU/Linux 12 | PASS | +-------------------------------+----------------+ | Ubuntu 22.04 | PASS | +-------------------------------+----------------+ | Fedora Linux 40 | PASS | +-------------------------------+----------------+ | Red Hat Enterprise Linux 9.5 | PASS | +-------------------------------+----------------+ | Red Hat Enterprise Linux 8.10 | PASS | +-------------------------------+----------------+ | Fedora Linux 41 | PASS | +-------------------------------+----------------+ | Windows Server 2022 | PASS | +-------------------------------+----------------+ CentOS Stream 10 Kernel: 5.15 Compiler: gcc gcc (GCC) 14.2.1 20250110 (Red Hat 14.2.1-8) CentOS Stream 9 Kernel: 5.15 Compiler: gcc gcc (GCC) 11.5.0 20240719 (Red Hat 11.5.0-11) Ubuntu 24.04 Kernel: 5.15 Compiler: gcc gcc (Ubuntu 13.3.0-6ubuntu2~24.04) 13.3.0 Fedora Linux 42 Kernel: 5.15 Compiler: gcc gcc (GCC) 15.2.1 20250808 (Red Hat 15.2.1-1) Ubuntu 20.04 Kernel: 5.15 Compiler: gcc gcc (Ubuntu 9.4.0-1ubuntu1~20.04.2) 9.4.0 Debian GNU/Linux 12 Kernel: 5.15 Compiler: gcc gcc (Debian 12.2.0-14+deb12u1) 12.2.0 Ubuntu 22.04 Kernel: 5.15 Compiler: gcc gcc (Ubuntu 11.4.0-1ubuntu1~22.04) 11.4.0 Fedora Linux 40 Kernel: 5.15 Compiler: clang gcc (GCC) 14.2.1 20240912 (Red Hat 14.2.1-3) Red Hat Enterprise Linux 9.5 Kernel: 5.15 Compiler: gcc gcc (GCC) 11.5.0 20240719 (Red Hat 11.5.0-2) Red Hat Enterprise Linux 8.10 Kernel: 5.15 Compiler: gcc gcc (GCC) 8.5.0 20210514 (Red Hat 8.5.0-22) Fedora Linux 41 Kernel: 5.15 Compiler: clang gcc (GCC) 14.3.1 20250523 (Red Hat 14.3.1-1) Windows Server 2022 Kernel: 10.0.20348.2031 Compiler: clang 15.0.7, gcc 14.1.0 (MinGW), and MSVC VS 19.39.33521 To view detailed results, visit: https://lab.dpdk.org/results/dashboard/patchsets/34523/ UNH-IOL DPDK Community Lab To manage your email subscriptions, visit: https://lab.dpdk.org/results/dashboard/preferences/subscriptions/