From mboxrd@z Thu Jan 1 00:00:00 1970 Return-Path: Received: from mails.dpdk.org (mails.dpdk.org [217.70.189.124]) by inbox.dpdk.org (Postfix) with ESMTP id 7456648AD1 for ; Mon, 10 Nov 2025 20:25:19 +0100 (CET) Received: from mails.dpdk.org (localhost [127.0.0.1]) by mails.dpdk.org (Postfix) with ESMTP id 6E0D940264; Mon, 10 Nov 2025 20:25:19 +0100 (CET) Received: from mail-pg1-f228.google.com (mail-pg1-f228.google.com [209.85.215.228]) by mails.dpdk.org (Postfix) with ESMTP id 8D7CE40264 for ; Mon, 10 Nov 2025 20:25:18 +0100 (CET) Received: by mail-pg1-f228.google.com with SMTP id 41be03b00d2f7-b4755f37c3eso2632901a12.3 for ; Mon, 10 Nov 2025 11:25:18 -0800 (PST) DKIM-Signature: v=1; a=rsa-sha256; c=relaxed/relaxed; d=iol.unh.edu; s=unh-iol; t=1762802718; x=1763407518; darn=dpdk.org; h=references:in-reply-to:cc:to:from:subject:message-id:date:from:to :cc:subject:date:message-id:reply-to; bh=0elAJA8DlFphILEmNXa1HMsmGRqG2sZJYXt7F5iJnFI=; b=CdJOIJP+AoTV7Vn1amRBsFJ2pjWqaB19XcAgJH0C6fF6Rgq5iCa01OvA8d4X6BqdY8 MX4L23YwZzuZF9hLVXakuLW6tyFspjuWzlToESV4eKH8ru4qfEyVHYXcaXPNASOux1u3 8FTb3YtC0E28H2ppYMbf8Rk0AAy8Hl8O6YE94= X-Google-DKIM-Signature: v=1; a=rsa-sha256; c=relaxed/relaxed; d=1e100.net; s=20230601; t=1762802718; x=1763407518; h=references:in-reply-to:cc:to:from:subject:message-id:date:x-gm-gg :x-gm-message-state:from:to:cc:subject:date:message-id:reply-to; bh=0elAJA8DlFphILEmNXa1HMsmGRqG2sZJYXt7F5iJnFI=; b=HsFGTQffGVRsld1++K/nEvZ1Y2bkMsFkoGNMjT29epBl1gunEPolP9CC7qLWnaaBA5 R3rG5Br7CHHkWsAlFihUUDhk5NfjkJKfOismF6oFIxK9EjPv/RiXCj5i7MlFTgow/MIL HePuR9GLXGn1VSmIQDwOjudyBQYqcESVmgVu/tyq8UZ1TKJc9Jubvx+wYqT5VOg3LZur WD0/0eVa3pehy6v5W4qbvNSoUjNxNVrK7hBXH3/kTNvLNVbPWrOoZzBV/DsgYrozRqnR mNvcXxzwVGk8+2L9XUL2asMHwUK9FsvzmWKkdsCara48rOgtUhW38NMNoybyQu8WhSBF WCtg== X-Gm-Message-State: AOJu0YyryVT8VAAVyUtfG39L3ETLe0UaFCSwBITJAcIhuwQxNkl6bkQu wVzP/kqnJLuXBx45VehqDb919dL2k2Qu4KlFb1yRMQ3Y3/sthvb7a76MKClgnt/ocjrSEgFc4UN UZbKJ4U4Z7EG/q3H+cmtrhE2u2AwgfFdqqVBxV/DhlprHghcRAvsTLKKIqt8Y X-Gm-Gg: ASbGncvdkzBVEc540y3w5T3PdEP2cWiHy9nC1UzlKBLl5agojPBbr+BOTNj7OVWLuR8 kOEb8yWdHqlGG+ejeBAvMIKVsuTnAW+xqhbpSk/yc6RzcL/gCNRhUGDmRzNqWqEXkdJaSugmpn8 mV0906UvWUeR9aB8UZND+XUM7kXne2P+7RGBmjFwDVKvpem4z4hkqF9y3xiTGkArA9QCj8U0ffw AO0s16WEM6T7xlUsQD/aFNxRTRt7TYOWaTe/Fg4XI5r8XgjnVfByyNZDe0y0s6OWxkUmLub8m4v +CWlCBgGLzByj2JXYMMKx/R9NqZVIxJZUwUKRfbo6f6zFmYGkBHKY0zkN8V4zvzX8i5AG4QlKBH cJNOYQnIh X-Google-Smtp-Source: AGHT+IF8Fr/o24gaxGhhGDaDe8nQ5QwHYInGquH9sCyq+WM/X1ZYHvKIBWHEyUPEJlcSOY2uda2DDBu2FEun X-Received: by 2002:a17:902:f609:b0:24e:3cf2:2453 with SMTP id d9443c01a7336-297e570a7b2mr132014135ad.61.1762802717635; Mon, 10 Nov 2025 11:25:17 -0800 (PST) Received: from postal.iol.unh.edu (postal.iol.unh.edu. [2606:4100:3880:1234::84]) by smtp-relay.gmail.com with ESMTPS id d9443c01a7336-297fdb53767sm6733235ad.44.2025.11.10.11.25.17 (version=TLS1_2 cipher=ECDHE-ECDSA-AES128-GCM-SHA256 bits=128/128); Mon, 10 Nov 2025 11:25:17 -0800 (PST) X-Relaying-Domain: iol.unh.edu Date: Mon, 10 Nov 2025 11:25:17 -0800 (PST) Message-ID: <69123c1d.170a0220.2947b5.1e56SMTPIN_ADDED_MISSING@mx.google.com> Received: from [172.21.0.3] (unknown [172.18.0.240]) by postal.iol.unh.edu (Postfix) with ESMTP id 15B036050A61; Mon, 10 Nov 2025 14:25:17 -0500 (EST) Subject: |SUCCESS| pw158637 [PATCH] [v2] crypto/qat: fix CCM request descript From: dpdklab@iol.unh.edu To: Test Report Cc: dpdk-test-reports@iol.unh.edu, Akhil Goyal In-Reply-To: <20251110170107.2296951-1-emma.finn@intel.com> References: <20251110170107.2296951-1-emma.finn@intel.com> Content-Type: text/plain X-BeenThere: test-report@dpdk.org X-Mailman-Version: 2.1.29 Precedence: list List-Id: automatic DPDK test reports List-Unsubscribe: , List-Archive: List-Post: List-Help: List-Subscribe: , Errors-To: test-report-bounces@dpdk.org Test-Label: iol-compile-amd64-testing Test-Status: SUCCESS http://dpdk.org/patch/158637 _Testing PASS_ Submitter: Emma Finn Date: Monday, November 10 2025 17:01:07 DPDK git baseline: Repo:dpdk-next-crypto Branch: master CommitID:9cec61fe8175f6d0ce8067734d3f7e8b02afe697 158637 --> testing pass Upstream job id: Generic-DPDK-Compile-Meson#442676 Test environment and result as below: +-------------------------------+--------------------+-------------------+-------------------------+------------------+----------------------+ | Environment | dpdk_meson_compile | dpdk_msvc_compile | dpdk_llvm_clang_compile | dpdk_compile_ovs | dpdk_mingw64_compile | +===============================+====================+===================+=========================+==================+======================+ | Ubuntu 20.04 | PASS | SKIPPED | SKIPPED | SKIPPED | SKIPPED | +-------------------------------+--------------------+-------------------+-------------------------+------------------+----------------------+ | FreeBSD 14.2 | PASS | SKIPPED | SKIPPED | SKIPPED | SKIPPED | +-------------------------------+--------------------+-------------------+-------------------------+------------------+----------------------+ | CentOS Stream 9 | PASS | SKIPPED | SKIPPED | SKIPPED | SKIPPED | +-------------------------------+--------------------+-------------------+-------------------------+------------------+----------------------+ | CentOS Stream 10 | PASS | SKIPPED | SKIPPED | SKIPPED | SKIPPED | +-------------------------------+--------------------+-------------------+-------------------------+------------------+----------------------+ | Debian GNU/Linux 12 | PASS | SKIPPED | SKIPPED | SKIPPED | SKIPPED | +-------------------------------+--------------------+-------------------+-------------------------+------------------+----------------------+ | Fedora Linux 42 | PASS | SKIPPED | SKIPPED | PASS | SKIPPED | +-------------------------------+--------------------+-------------------+-------------------------+------------------+----------------------+ | openSUSE Leap 15.6 | PASS | SKIPPED | SKIPPED | SKIPPED | SKIPPED | +-------------------------------+--------------------+-------------------+-------------------------+------------------+----------------------+ | Red Hat Enterprise Linux 8.10 | PASS | SKIPPED | SKIPPED | SKIPPED | SKIPPED | +-------------------------------+--------------------+-------------------+-------------------------+------------------+----------------------+ | Red Hat Enterprise Linux 9.5 | PASS | SKIPPED | SKIPPED | SKIPPED | SKIPPED | +-------------------------------+--------------------+-------------------+-------------------------+------------------+----------------------+ | Ubuntu 22.04 | PASS | SKIPPED | SKIPPED | SKIPPED | SKIPPED | +-------------------------------+--------------------+-------------------+-------------------------+------------------+----------------------+ | Ubuntu 24.04 | PASS | SKIPPED | SKIPPED | PASS | SKIPPED | +-------------------------------+--------------------+-------------------+-------------------------+------------------+----------------------+ | Alpine Linux 3.22.0 | PASS | SKIPPED | SKIPPED | SKIPPED | SKIPPED | +-------------------------------+--------------------+-------------------+-------------------------+------------------+----------------------+ | Windows Server 2022 | SKIPPED | PASS | PASS | SKIPPED | PASS | +-------------------------------+--------------------+-------------------+-------------------------+------------------+----------------------+ Ubuntu 20.04 Kernel: 4.19 Compiler: gcc gcc (Ubuntu 9.4.0-1ubuntu1~20.04.2) 9.4.0 FreeBSD 14.2 Kernel: 14.2-RELEASE Compiler: clang 18.1.6 CentOS Stream 9 Kernel: 5.15 Compiler: gcc gcc (GCC) 11.5.0 20240719 (Red Hat 11.5.0-11) CentOS Stream 10 Kernel: 5.15 Compiler: gcc gcc (GCC) 14.2.1 20250110 (Red Hat 14.2.1-8) Debian GNU/Linux 12 Kernel: 5.15 Compiler: gcc gcc (Debian 12.2.0-14+deb12u1) 12.2.0 Fedora Linux 42 Kernel: 5.15 Compiler: clang gcc (GCC) 15.2.1 20250808 (Red Hat 15.2.1-1) openSUSE Leap 15.6 Kernel: 5.15 Compiler: gcc gcc (SUSE Linux) 7.5.0 Red Hat Enterprise Linux 8.10 Kernel: 5.15 Compiler: gcc gcc (GCC) 8.5.0 20210514 (Red Hat 8.5.0-22) Red Hat Enterprise Linux 9.5 Kernel: 5.15 Compiler: gcc gcc (GCC) 11.5.0 20240719 (Red Hat 11.5.0-2) Ubuntu 22.04 Kernel: 5.15 Compiler: gcc gcc (Ubuntu 11.4.0-1ubuntu1~22.04) 11.4.0 Ubuntu 24.04 Kernel: 5.15 Compiler: gcc gcc (Ubuntu 13.3.0-6ubuntu2~24.04) 13.3.0 Alpine Linux 3.22.0 Kernel: 5.15 Compiler: gcc gcc (Alpine 14.2.0) 14.2.0 Windows Server 2022 Kernel: 10.0.20348.2031 Compiler: clang 15.0.7, gcc 14.1.0 (MinGW), and MSVC VS 19.39.33521 To view detailed results, visit: https://lab.dpdk.org/results/dashboard/patchsets/34523/ UNH-IOL DPDK Community Lab To manage your email subscriptions, visit: https://lab.dpdk.org/results/dashboard/preferences/subscriptions/