From mboxrd@z Thu Jan 1 00:00:00 1970 Return-Path: Received: from mails.dpdk.org (mails.dpdk.org [217.70.189.124]) by inbox.dpdk.org (Postfix) with ESMTP id 82F9948AD1 for ; Mon, 10 Nov 2025 21:32:11 +0100 (CET) Received: from mails.dpdk.org (localhost [127.0.0.1]) by mails.dpdk.org (Postfix) with ESMTP id 65B5D40264; Mon, 10 Nov 2025 21:32:11 +0100 (CET) Received: from mail-pl1-f227.google.com (mail-pl1-f227.google.com [209.85.214.227]) by mails.dpdk.org (Postfix) with ESMTP id 2949840264 for ; Mon, 10 Nov 2025 21:32:10 +0100 (CET) Received: by mail-pl1-f227.google.com with SMTP id d9443c01a7336-2964d616df7so44397185ad.3 for ; Mon, 10 Nov 2025 12:32:10 -0800 (PST) DKIM-Signature: v=1; a=rsa-sha256; c=relaxed/relaxed; d=iol.unh.edu; s=unh-iol; t=1762806729; x=1763411529; darn=dpdk.org; h=references:in-reply-to:cc:to:from:subject:message-id:date:from:to :cc:subject:date:message-id:reply-to; bh=G8tffIDqYFqschF3FJjZ8EeCsyiXI28BIjB9KTsXt7w=; b=YVJHwfnn39qlFExvNHdxj9vX2RLC/JeZsRq9L46pFv1of3drg2ZTKGyzKokteKR9mK 3Hi4WMsVQXDNXxCB+qihe4BxQuMVJFBVihB7RHtdziG+FXGP+cWifC0fRFxacmiTX/9K V3l7cvRQ/xnt3a+PBXb/m3Yw5cqYQBoLi4uXU= X-Google-DKIM-Signature: v=1; a=rsa-sha256; c=relaxed/relaxed; d=1e100.net; s=20230601; t=1762806729; x=1763411529; h=references:in-reply-to:cc:to:from:subject:message-id:date:x-gm-gg :x-gm-message-state:from:to:cc:subject:date:message-id:reply-to; bh=G8tffIDqYFqschF3FJjZ8EeCsyiXI28BIjB9KTsXt7w=; b=CwX88JSTCJi9utVjxr0ICRpNvMIkzaRIB0dLOSzJy1ih+m+gEkNQ7Yn0XMVgZWZ9sh HPnaHbEZSvDucbGMJPm+88MMFVfqxieAo+ZC58W67wzV7yvhlYzM0nJGL87xxtaT8ZuF N5MNguv3hNRPXGXKD4mH0P7ziZsz3OZgFqCw2eKNo6i2it6nrAeQGpyxPeASvLElB2/0 iV+bVoKtREYz778TKmMnYUZr/7mQWHVwDSYIE4z/Xpkm2HjABvJQgaPeYO4WmUGXhuOJ BTA4tPynRC+e4P4YBaThfAZCk756p/aC83o3SGzrf4Akwk1BCiZYM8bvAmXiIpgvLG31 jZSQ== X-Gm-Message-State: AOJu0YzSncCY6pAbLIOP9ao9tR/ECKBHYI1dK8VH5Iojm4oAQty+iGsM TV6w4DWpu4uK+Z0ZoPLiiGoifsKEEANa+jOI9HQ1ya47n6D+XDkPB6kgLcFji/SBnj8M/CsUoV2 K8knkbPN+h2c/vbqHRgLKCT5e/r66OZQtxT9PO1IoTYv0LFm648d47gLj5Wpw X-Gm-Gg: ASbGncufQQzO8bZxMqWf35uNbwxWpKZej6G7wKF7u2OplN7ynb0xGjtMyZS76HUKl/V nbo30qI16U2GuUN97ZNqxavXLxtrGfb5wGDoRjzfv3hCB/ynhHZ/050W9q2dJN25eSJRFdB3/XR F8u3hS/Lkp7lEfeksQK5VZ1R9Tl8AR6847hfp0Xct7AOHv+gx09JwQiWn8EreEhc6pMi3ktDhk0 StoB2T7ecVrIxW0kCyt5JCm9Sgf2oUMIpzkkvTJlG3hObhUB6Uec6abmCuANw9mPVFr2On4DoNy 19i8Z54/kgqX4/EXsH2bwU8JSnrBXNeI85Fkouvfz7ttxN4Oau3W5Ad9Hv2xxwq3/QVxU/e0QR0 QiaeznXJ2 X-Google-Smtp-Source: AGHT+IGktAPOz4jp3qxHkkrhTCmn+angixVPKQa5m+3+GLrcqfR2L4Bz2NeSUgigaUsXhy6WoRc9B8h0y5IE X-Received: by 2002:a17:903:244a:b0:295:7806:1d7b with SMTP id d9443c01a7336-297e5709246mr126264815ad.45.1762806729124; Mon, 10 Nov 2025 12:32:09 -0800 (PST) Received: from postal.iol.unh.edu (postal.iol.unh.edu. [2606:4100:3880:1234::84]) by smtp-relay.gmail.com with ESMTPS id d9443c01a7336-29651cc14cdsm14659035ad.65.2025.11.10.12.32.09 (version=TLS1_2 cipher=ECDHE-ECDSA-AES128-GCM-SHA256 bits=128/128); Mon, 10 Nov 2025 12:32:09 -0800 (PST) X-Relaying-Domain: iol.unh.edu Date: Mon, 10 Nov 2025 12:32:09 -0800 (PST) Message-ID: <69124bc9.170a0220.66fca.aff8SMTPIN_ADDED_MISSING@mx.google.com> Received: from [172.21.0.2] (unknown [172.18.0.240]) by postal.iol.unh.edu (Postfix) with ESMTP id 830C16050A61; Mon, 10 Nov 2025 15:32:08 -0500 (EST) Subject: |SUCCESS| pw158633-158635 [PATCH] [3/3] bpf: make add/subtract one p From: dpdklab@iol.unh.edu To: Test Report Cc: dpdk-test-reports@iol.unh.edu In-Reply-To: <20251110153046.63518-4-marat.khalili@huawei.com> References: <20251110153046.63518-4-marat.khalili@huawei.com> Content-Type: text/plain X-BeenThere: test-report@dpdk.org X-Mailman-Version: 2.1.29 Precedence: list List-Id: automatic DPDK test reports List-Unsubscribe: , List-Archive: List-Post: List-Help: List-Subscribe: , Errors-To: test-report-bounces@dpdk.org Test-Label: iol-compile-arm64-testing Test-Status: SUCCESS http://dpdk.org/patch/158635 _Testing PASS_ Submitter: Marat Khalili Date: Monday, November 10 2025 15:30:46 DPDK git baseline: Repo:dpdk Branch: master CommitID:32387caaa00660ebe35be25f2371edb0069cc80a 158633-158635 --> testing pass Upstream job id: Generic-DPDK-Compile-Meson#442623 Test environment and result as below: +------------------------------+--------------------+ | Environment | dpdk_meson_compile | +==============================+====================+ | Red Hat Enterprise Linux 9.5 | PASS | +------------------------------+--------------------+ | Ubuntu 20.04 | PASS | +------------------------------+--------------------+ | Debian GNU/Linux 12 | PASS | +------------------------------+--------------------+ | Fedora Linux 42 | PASS | +------------------------------+--------------------+ | CentOS Stream 9 | PASS | +------------------------------+--------------------+ | Ubuntu 22.04 | PASS | +------------------------------+--------------------+ | Ubuntu 24.04 | PASS | +------------------------------+--------------------+ | CentOS Stream 10 | PASS | +------------------------------+--------------------+ Red Hat Enterprise Linux 9.5 Kernel: 5.4 Compiler: gcc gcc (GCC) 11.5.0 20240719 (Red Hat 11.5.0-2) Ubuntu 20.04 Kernel: 5.15 Compiler: aarch64-linux-gnu-gcc gcc (Ubuntu 9.4.0-1ubuntu1~20.04.2) 9.4.0 Debian GNU/Linux 12 Kernel: 5.4 Compiler: gcc gcc (Debian 12.2.0-14+deb12u1) 12.2.0 Fedora Linux 42 Kernel: 5.4 Compiler: gcc gcc (GCC) 15.2.1 20250808 (Red Hat 15.2.1-1) CentOS Stream 9 Kernel: 5.4 Compiler: gcc gcc (GCC) 11.5.0 20240719 (Red Hat 11.5.0-11) Ubuntu 22.04 Kernel: 5.4 Compiler: gcc gcc (Ubuntu 11.4.0-1ubuntu1~22.04) 11.4.0 Ubuntu 24.04 Kernel: 5.4 Compiler: gcc gcc (Ubuntu 13.3.0-6ubuntu2~24.04) 13.3.0 CentOS Stream 10 Kernel: 5.4 Compiler: gcc gcc (GCC) 14.2.1 20250110 (Red Hat 14.2.1-8) To view detailed results, visit: https://lab.dpdk.org/results/dashboard/patchsets/34521/ UNH-IOL DPDK Community Lab To manage your email subscriptions, visit: https://lab.dpdk.org/results/dashboard/preferences/subscriptions/