From mboxrd@z Thu Jan 1 00:00:00 1970 Return-Path: Received: from mails.dpdk.org (mails.dpdk.org [217.70.189.124]) by inbox.dpdk.org (Postfix) with ESMTP id 7D75D48AD1 for ; Mon, 10 Nov 2025 21:32:28 +0100 (CET) Received: from mails.dpdk.org (localhost [127.0.0.1]) by mails.dpdk.org (Postfix) with ESMTP id 7938240264; Mon, 10 Nov 2025 21:32:28 +0100 (CET) Received: from mail-il1-f225.google.com (mail-il1-f225.google.com [209.85.166.225]) by mails.dpdk.org (Postfix) with ESMTP id C1E0140264 for ; Mon, 10 Nov 2025 21:32:26 +0100 (CET) Received: by mail-il1-f225.google.com with SMTP id e9e14a558f8ab-43326c74911so18441625ab.2 for ; Mon, 10 Nov 2025 12:32:26 -0800 (PST) DKIM-Signature: v=1; a=rsa-sha256; c=relaxed/relaxed; d=iol.unh.edu; s=unh-iol; t=1762806746; x=1763411546; darn=dpdk.org; h=references:in-reply-to:cc:to:from:subject:message-id:date:from:to :cc:subject:date:message-id:reply-to; bh=/TCbq67KpZ7nf9xCAkATbjFDljvCrl8pnEYEzQJ1Vik=; b=RZT0fqEeVA5/dI6vO84gFDA7O0t7TuIQdusPlU4AzGKRj3Eqoo7BiY4/0FdFQiyVYE MZ3NHfz7PEK8AS9wmS9vy4/c8+CEjdGVMnnVv8ylG1l2aYTlhdcofEgxBRYvKsqo1cxG 3kuhW6YlUAU3Y+VZfqy61HOkDzV/wmkzUbEvI= X-Google-DKIM-Signature: v=1; a=rsa-sha256; c=relaxed/relaxed; d=1e100.net; s=20230601; t=1762806746; x=1763411546; h=references:in-reply-to:cc:to:from:subject:message-id:date:x-gm-gg :x-gm-message-state:from:to:cc:subject:date:message-id:reply-to; bh=/TCbq67KpZ7nf9xCAkATbjFDljvCrl8pnEYEzQJ1Vik=; b=qShZQyw6z/T6+HSlMfIaMAbLxGTJ+T6b5QySAf7s475YFG9JqDDzJCXww+n0Ulfyl9 Ipie17kDQSxih55G8QQ0UAk2RBSFpsDnJ4r9AF6K6RTjosiiMhhn7Tn+AG2dbBHzdUVD Ky2oF6y03Ba+ADtO9/v2b30gU7NE9q2lBGAwWP1PBnByBlbBg2AY7KBWxeF4tO2bXgR2 KwxpG/yct4IfOJbrihJEiyZacKb/kvvGVe+dW/4Jzn0ZKySQqabXMWH34+dU7UjdL9Y3 rT/koppRaisr7bo9dKc3N0nh5VoMAF8IK9PXA8Zn7mJ1Ess/rIaB0Kljj33KRiiu1U6n Ql0w== X-Gm-Message-State: AOJu0YzSZx1bDCxNW2IrmCfpoIMBz4J8LvzgB+x2uinym/0VUTP+Xle/ hevwY/jMvv/HoFxaysHkTaNtY+1f1EXXLFXqbGZ3K13AgNfPQ5Mu7UgWBeCbV3c2cEEDXPJjjkC XX3exAdL4hZuACTnMJoRXVb/ruACfXpCl503FqRjzCcDb X-Gm-Gg: ASbGncuE5omwfrof7gbC5kMSh/E14pdxDnNhQCSo2ItFtazltFpCQt0wnqvrh7Jotvh wmoueiGVqIvg0dGvxMFjOIbOWwl3VS0D6bPo9DwS81/k5aB1vDYXKvqE/9uFnEhnv/JuXtboQGo LeGczLYXTzDpdVDX7XuGwewRN/EsmMVNP2gaHXy/SvFMXCQrnRPkz4Je1Yi/ugQUrZBiCRi2JLO DVu1pUSv1lzbBGljfSkx06thBRf6VaKZ1a8kTMtPbEW38C/Vrx418zjKK4DmIzhmYkExdfMpkUA 89WkV4FFSocMY844a8ilaqmaxmkqtIrA/RY2lHHKQ8PSw8VE/twPfJtanUur+CZnUukKRBgCnzU qu8x1h0L/ncfYcMacBKWYuNBIZSa6yVo= X-Google-Smtp-Source: AGHT+IFmsDiHnIKZVJq24PusCBW8RrUzPpMf9mCCqzMKr5OFnkPnhIfQ6CDLVhuqkc61JHyJ0s4gGaY9k3vr X-Received: by 2002:a05:6e02:b29:b0:433:3102:b0f5 with SMTP id e9e14a558f8ab-43367e670e9mr120352745ab.30.1762806746100; Mon, 10 Nov 2025 12:32:26 -0800 (PST) Received: from postal.iol.unh.edu (postal.iol.unh.edu. [132.177.123.84]) by smtp-relay.gmail.com with ESMTPS id 8926c6da1cb9f-5b746739a70sm1445138173.2.2025.11.10.12.32.26 (version=TLS1_2 cipher=ECDHE-ECDSA-AES128-GCM-SHA256 bits=128/128); Mon, 10 Nov 2025 12:32:26 -0800 (PST) X-Relaying-Domain: iol.unh.edu Date: Mon, 10 Nov 2025 12:32:26 -0800 (PST) Message-ID: <69124bda.050a0220.19fbee.a0afSMTPIN_ADDED_MISSING@mx.google.com> Received: from [172.21.0.2] (unknown [172.18.0.240]) by postal.iol.unh.edu (Postfix) with ESMTP id A86796050A61; Mon, 10 Nov 2025 15:32:25 -0500 (EST) Subject: |SUCCESS| pw158636 [PATCH] gro : improve GRO performance based on ha From: dpdklab@iol.unh.edu To: Test Report Cc: dpdk-test-reports@iol.unh.edu In-Reply-To: <20251110162356.173438-1-kumaraparamesh92@gmail.com> References: <20251110162356.173438-1-kumaraparamesh92@gmail.com> Content-Type: text/plain X-BeenThere: test-report@dpdk.org X-Mailman-Version: 2.1.29 Precedence: list List-Id: automatic DPDK test reports List-Unsubscribe: , List-Archive: List-Post: List-Help: List-Subscribe: , Errors-To: test-report-bounces@dpdk.org Test-Label: iol-unit-arm64-testing Test-Status: SUCCESS http://dpdk.org/patch/158636 _Testing PASS_ Submitter: kumaraparameshwaran rathinavel Date: Monday, November 10 2025 16:23:56 DPDK git baseline: Repo:dpdk Branch: master CommitID:32387caaa00660ebe35be25f2371edb0069cc80a 158636 --> testing pass Upstream job id: Generic-Unit-Test-DPDK#390653 Test environment and result as below: +------------------------------+------------------------------+---------------------------+--------------+----------------+ | Environment | cryptodev_sw_snow3g_autotest | cryptodev_sw_zuc_autotest | lpm_autotest | dpdk_unit_test | +==============================+==============================+===========================+==============+================+ | Debian 12 (arm) | PASS | PASS | SKIPPED | SKIPPED | +------------------------------+------------------------------+---------------------------+--------------+----------------+ | Ubuntu 20.04 | SKIPPED | SKIPPED | PASS | PASS | +------------------------------+------------------------------+---------------------------+--------------+----------------+ | Fedora Linux 42 | SKIPPED | SKIPPED | SKIPPED | PASS | +------------------------------+------------------------------+---------------------------+--------------+----------------+ | CentOS Stream 9 | SKIPPED | SKIPPED | SKIPPED | PASS | +------------------------------+------------------------------+---------------------------+--------------+----------------+ | CentOS Stream 10 | SKIPPED | SKIPPED | SKIPPED | PASS | +------------------------------+------------------------------+---------------------------+--------------+----------------+ | Fedora Linux 41 | SKIPPED | SKIPPED | SKIPPED | PASS | +------------------------------+------------------------------+---------------------------+--------------+----------------+ | Fedora Linux 40 | SKIPPED | SKIPPED | SKIPPED | PASS | +------------------------------+------------------------------+---------------------------+--------------+----------------+ | Ubuntu 24.04 | SKIPPED | SKIPPED | SKIPPED | PASS | +------------------------------+------------------------------+---------------------------+--------------+----------------+ | Red Hat Enterprise Linux 9.5 | SKIPPED | SKIPPED | SKIPPED | PASS | +------------------------------+------------------------------+---------------------------+--------------+----------------+ | Ubuntu 22.04 | SKIPPED | SKIPPED | SKIPPED | PASS | +------------------------------+------------------------------+---------------------------+--------------+----------------+ | Debian GNU/Linux 12 | SKIPPED | SKIPPED | SKIPPED | PASS | +------------------------------+------------------------------+---------------------------+--------------+----------------+ Debian 12 (arm) Kernel: Depends on container host Compiler: gcc (Debian 12.2.0-14) 12.2.0 Ubuntu 20.04 Kernel: 5.4 Compiler: gcc gcc (Ubuntu 9.4.0-1ubuntu1~20.04.2) 9.4.0 Fedora Linux 42 Kernel: 5.4 Compiler: clang gcc (GCC) 15.2.1 20250808 (Red Hat 15.2.1-1) CentOS Stream 9 Kernel: 5.4 Compiler: gcc gcc (GCC) 11.5.0 20240719 (Red Hat 11.5.0-11) CentOS Stream 10 Kernel: 5.4 Compiler: gcc gcc (GCC) 14.2.1 20250110 (Red Hat 14.2.1-8) Fedora Linux 41 Kernel: 5.4 Compiler: gcc gcc (GCC) 14.3.1 20250523 (Red Hat 14.3.1-1) Fedora Linux 40 Kernel: 5.4 Compiler: gcc gcc (GCC) 14.2.1 20240912 (Red Hat 14.2.1-3) Ubuntu 24.04 Kernel: 5.4 Compiler: gcc gcc (Ubuntu 13.3.0-6ubuntu2~24.04) 13.3.0 Red Hat Enterprise Linux 9.5 Kernel: 5.4 Compiler: gcc gcc (GCC) 11.5.0 20240719 (Red Hat 11.5.0-2) Ubuntu 22.04 Kernel: 5.4 Compiler: gcc gcc (Ubuntu 11.4.0-1ubuntu1~22.04) 11.4.0 Debian GNU/Linux 12 Kernel: 5.4 Compiler: gcc gcc (Debian 12.2.0-14+deb12u1) 12.2.0 To view detailed results, visit: https://lab.dpdk.org/results/dashboard/patchsets/34522/ UNH-IOL DPDK Community Lab To manage your email subscriptions, visit: https://lab.dpdk.org/results/dashboard/preferences/subscriptions/