From mboxrd@z Thu Jan 1 00:00:00 1970 Return-Path: Received: from mails.dpdk.org (mails.dpdk.org [217.70.189.124]) by inbox.dpdk.org (Postfix) with ESMTP id BE1D448AD2 for ; Mon, 10 Nov 2025 22:10:16 +0100 (CET) Received: from mails.dpdk.org (localhost [127.0.0.1]) by mails.dpdk.org (Postfix) with ESMTP id 9B5ED40264; Mon, 10 Nov 2025 22:10:16 +0100 (CET) Received: from mail-pf1-f225.google.com (mail-pf1-f225.google.com [209.85.210.225]) by mails.dpdk.org (Postfix) with ESMTP id 7A75140264 for ; Mon, 10 Nov 2025 22:10:15 +0100 (CET) Received: by mail-pf1-f225.google.com with SMTP id d2e1a72fcca58-781997d195aso2247101b3a.3 for ; Mon, 10 Nov 2025 13:10:15 -0800 (PST) DKIM-Signature: v=1; a=rsa-sha256; c=relaxed/relaxed; d=iol.unh.edu; s=unh-iol; t=1762809014; x=1763413814; darn=dpdk.org; h=references:in-reply-to:cc:to:from:subject:message-id:date:from:to :cc:subject:date:message-id:reply-to; bh=ZHdCjlZSkfijsPPSFZNUdALv2XzvmLgXgF2gibFlR+s=; b=DkslbENyzH4uWZ/UpKxN8PKbpNhBCjUA5mgSC9RWL/QJ3H8qnIimp7BYXCenBxgDF6 Vh/cyF59IdXTw9Ku9KmACVca1eplw607fPrtSOZxvdtIFng9itecr0l6Zsrbigzrf/A6 kwxJrlJYdd2ABggfquGhtKe8e76cvV3NZ4+Mo= X-Google-DKIM-Signature: v=1; a=rsa-sha256; c=relaxed/relaxed; d=1e100.net; s=20230601; t=1762809014; x=1763413814; h=references:in-reply-to:cc:to:from:subject:message-id:date:x-gm-gg :x-gm-message-state:from:to:cc:subject:date:message-id:reply-to; bh=ZHdCjlZSkfijsPPSFZNUdALv2XzvmLgXgF2gibFlR+s=; b=TcGt6Wdac9rIhL3Af3+oMekWCOCAPi0Ss8QWlwjrnpgjPGk5bTBGLzMFDhhi8soDSf Dh5snfIxJ9fWIb9pCc9FFwKYDOAPv+Po9XPEQP4hR7pq1hzj7Xzm7Mvx2Oz/iAYbmIXa 9MNWzSwcKrPbzz8sRRBf3YafWLd5frRiE/PpIS5KX4mYXdYJgb8jlwdJAPnFURIhuU8d ogQiJa+fIPN+QY89SrD1jBKiIaO0KakjnNebV+w4uON7sylPZuxPBmZsLuAEhFhJ9bUE zepul4vUHCRe7fDU3gRlftXaAQ9hqYxeHLoI12wL0PHrhMl+O0W+JpTiHDQfETOPrvUz ZG5g== X-Gm-Message-State: AOJu0YwIBXQGYCHlcblIyy8sPQU1aXCtVj3GvZ3XEKFkV6agzSkljigQ J71fZmrR8sB2qJNOif3JC2lJDWmoH90B1vZYd3aKdGUQHjuZaUVgcGJKuXKkdCXfOEUeR4aeLte 8hSNWxBMPJBk6g5dyCgE68ZAAvKPqbBu0IXZbjEDb/IHGswRfknNNjpPVrjux X-Gm-Gg: ASbGnctfhn5G/rM0Y5ri4Z2AFSsJMSWV8rRtrWGVLuGg5kGbflrGxe8iFsKW2g1BIvU CVMMf1kUlLtoMRObjnXhgEMtG9VyRHNm4zhpVXXLdvFTMmLxMyAdpe4UnApCud4YyfPPkiXMAsM MroqOBA89259Ozck4v1j7S/yPhmLj5iZ4lJw7/CPOrI+uKKvFDb0Z1oh0Jj66B4Oy8rLGT7J1JM tf2FOdghP2OS3u+9XARu2P2iKPWRXIh8f1QpTdzFwPQqkGDseVm8y+a6qDaRvdccbjH1ACBN9+V yvBfNUVxmX5xTQxoFoX1xCFQx1XhOxpUIac6M8SmS7K4Zwyb0sBL3p5oVCq6psS4yHttAGwGvFn yhh5SSS8T X-Google-Smtp-Source: AGHT+IEnX6eWA7uGeKxwK575Zxzh8iUCP5aG0JzUo+zaUMI21+wFDylkB7wKIBAHWIL+xZFUxdGtauyOLycG X-Received: by 2002:a05:6a20:3d22:b0:342:5901:fd94 with SMTP id adf61e73a8af0-353a1ae28e9mr12094170637.13.1762809014460; Mon, 10 Nov 2025 13:10:14 -0800 (PST) Received: from postal.iol.unh.edu (postal.iol.unh.edu. [2606:4100:3880:1234::84]) by smtp-relay.gmail.com with ESMTPS id d2e1a72fcca58-7b0cce5c9bfsm1047490b3a.11.2025.11.10.13.10.14 (version=TLS1_2 cipher=ECDHE-ECDSA-AES128-GCM-SHA256 bits=128/128); Mon, 10 Nov 2025 13:10:14 -0800 (PST) X-Relaying-Domain: iol.unh.edu Date: Mon, 10 Nov 2025 13:10:14 -0800 (PST) Message-ID: <691254b6.050a0220.534bd.59ccSMTPIN_ADDED_MISSING@mx.google.com> Received: from [172.21.0.4] (unknown [172.18.0.240]) by postal.iol.unh.edu (Postfix) with ESMTP id B9FB36051830; Mon, 10 Nov 2025 16:10:13 -0500 (EST) Subject: |SUCCESS| pw158636 [PATCH] gro : improve GRO performance based on ha From: dpdklab@iol.unh.edu To: Test Report Cc: dpdk-test-reports@iol.unh.edu In-Reply-To: <20251110162356.173438-1-kumaraparamesh92@gmail.com> References: <20251110162356.173438-1-kumaraparamesh92@gmail.com> Content-Type: text/plain X-BeenThere: test-report@dpdk.org X-Mailman-Version: 2.1.29 Precedence: list List-Id: automatic DPDK test reports List-Unsubscribe: , List-Archive: List-Post: List-Help: List-Subscribe: , Errors-To: test-report-bounces@dpdk.org Test-Label: iol-compile-arm64-testing Test-Status: SUCCESS http://dpdk.org/patch/158636 _Testing PASS_ Submitter: kumaraparameshwaran rathinavel Date: Monday, November 10 2025 16:23:56 DPDK git baseline: Repo:dpdk Branch: master CommitID:32387caaa00660ebe35be25f2371edb0069cc80a 158636 --> testing pass Upstream job id: Generic-DPDK-Compile-Meson#442650 Test environment and result as below: +------------------------------+--------------------+ | Environment | dpdk_meson_compile | +==============================+====================+ | Red Hat Enterprise Linux 9.5 | PASS | +------------------------------+--------------------+ | Debian GNU/Linux 12 | PASS | +------------------------------+--------------------+ | Ubuntu 20.04 | PASS | +------------------------------+--------------------+ | Ubuntu 24.04 | PASS | +------------------------------+--------------------+ | CentOS Stream 9 | PASS | +------------------------------+--------------------+ | Fedora Linux 42 | PASS | +------------------------------+--------------------+ | Ubuntu 22.04 | PASS | +------------------------------+--------------------+ | CentOS Stream 10 | PASS | +------------------------------+--------------------+ Red Hat Enterprise Linux 9.5 Kernel: 5.4 Compiler: gcc gcc (GCC) 11.5.0 20240719 (Red Hat 11.5.0-2) Debian GNU/Linux 12 Kernel: 5.4 Compiler: gcc gcc (Debian 12.2.0-14+deb12u1) 12.2.0 Ubuntu 20.04 Kernel: 5.4 Compiler: gcc gcc (Ubuntu 9.4.0-1ubuntu1~20.04.2) 9.4.0 Ubuntu 24.04 Kernel: 5.4 Compiler: gcc gcc (Ubuntu 13.3.0-6ubuntu2~24.04) 13.3.0 CentOS Stream 9 Kernel: 5.4 Compiler: gcc gcc (GCC) 11.5.0 20240719 (Red Hat 11.5.0-11) Fedora Linux 42 Kernel: 5.4 Compiler: clang gcc (GCC) 15.2.1 20250808 (Red Hat 15.2.1-1) Ubuntu 22.04 Kernel: 5.4 Compiler: gcc gcc (Ubuntu 11.4.0-1ubuntu1~22.04) 11.4.0 CentOS Stream 10 Kernel: 5.4 Compiler: gcc gcc (GCC) 14.2.1 20250110 (Red Hat 14.2.1-8) To view detailed results, visit: https://lab.dpdk.org/results/dashboard/patchsets/34522/ UNH-IOL DPDK Community Lab To manage your email subscriptions, visit: https://lab.dpdk.org/results/dashboard/preferences/subscriptions/