From mboxrd@z Thu Jan 1 00:00:00 1970 Return-Path: Received: from mails.dpdk.org (mails.dpdk.org [217.70.189.124]) by inbox.dpdk.org (Postfix) with ESMTP id B3BC148AD2 for ; Mon, 10 Nov 2025 22:34:08 +0100 (CET) Received: from mails.dpdk.org (localhost [127.0.0.1]) by mails.dpdk.org (Postfix) with ESMTP id 9390A40264; Mon, 10 Nov 2025 22:34:08 +0100 (CET) Received: from mail-pg1-f225.google.com (mail-pg1-f225.google.com [209.85.215.225]) by mails.dpdk.org (Postfix) with ESMTP id 4ADFE40264 for ; Mon, 10 Nov 2025 22:34:07 +0100 (CET) Received: by mail-pg1-f225.google.com with SMTP id 41be03b00d2f7-b6ce6d1d3dcso2056133a12.3 for ; Mon, 10 Nov 2025 13:34:07 -0800 (PST) DKIM-Signature: v=1; a=rsa-sha256; c=relaxed/relaxed; d=iol.unh.edu; s=unh-iol; t=1762810446; x=1763415246; darn=dpdk.org; h=references:in-reply-to:cc:to:from:subject:message-id:date:from:to :cc:subject:date:message-id:reply-to; bh=Y9ns9IgaPqhpLsJfiWLr5HsA7wDHXnDLECzgbYqZ9Ag=; b=GXIp+xCxy3LjbHXyppYLb1NvZNEWXcQTnO66tb6kPWk/crcC7j293UqRFaw5usHwEW u4mNzoZuTZRAG9m55Fyzqr0DF/82SKT4yFPx2QrJmvvq036g3uaNLZS0WBo/Qwv6cXVI xfigaF9ThRdAYwSQ46UxmT5rjNsqCRIR9ePWY= X-Google-DKIM-Signature: v=1; a=rsa-sha256; c=relaxed/relaxed; d=1e100.net; s=20230601; t=1762810446; x=1763415246; h=references:in-reply-to:cc:to:from:subject:message-id:date:x-gm-gg :x-gm-message-state:from:to:cc:subject:date:message-id:reply-to; bh=Y9ns9IgaPqhpLsJfiWLr5HsA7wDHXnDLECzgbYqZ9Ag=; b=eQ+3FoiVHz2dwTxmXRILDP7iM9G4LSN2MI8CWOWk18lUwoZH6vyLFO6KOXM6jooOXT HIwzPs7FH8qbC/xEg5TYa0clf8ADMX3NqVtiuBnuxWioJNtuF4Ndez+dPeo6FBmqrMyn dLO+f/eOxgovjLefxkHpTcR9utOt8JyML0oiEuJzDnWP+wksVSeY9hdFhrxQZVmNEbFa P2fil6mIUsPvCqG/3HydA7UrXgVwV6981Jziyy0lef3VGrzqoijOHirlBw5drFfTWV8J CZDcLvD5TsPD0yp2+Yt6dO1CuHp50vNVJz2BRbw4+33Cx1zxJGBhP2K0jFBaxrTec74u EwUg== X-Gm-Message-State: AOJu0Yxk1ANMuZ9dOLAQLVrsKjkj9/bJZdTcNeMCQXUBAzkRQyWTuArI YiYhub02C3w6QUQKxJs6tE7oJlVkVPxwTkFj9Byg6FBRxclx77pTorQ3N2To887I8mDXKbzajp2 Y4Tpifkjq0zrEhyC2FeJGjDpkeikWjquTXAGGcy/HbUdB X-Gm-Gg: ASbGncv6PymbNANMvphndWqF7fAcMfpRuOFqyKOWdW73QIpVCYotpV0M0DQQ6HCPRA3 OiEL3IUUDLcdl1ibAHyw5wmbnSgSasUIFaGIlie07vIdDlPfqCCUkljKQ13xZJAApzZQ8+PIaV7 GcJ8KwLhrh1xrUcvWJXmyePPfCopDvntcTYTMEgWFTlEsyHkfvz3/eD7Bgnz94vaysi17eiSEEu +xr0AZA5sOj2wWcD3DX1/EknAbsvjSj6D1eJcPI8/K7PPPy0vAdnxjVxJI0/iNbrSeoLVIB/5RA ibCgFEX4yRTwssbVXrGlNGL/TNSJOfM8ULozyoZx+3bgiI0vkN/QtsZjxGCUUphh7rHb8YxWp+B jFfen8Sm5v+NAYGspl0YTJUI/eub5WRQ= X-Google-Smtp-Source: AGHT+IGQIvuUE8xVCD3yvAWqK3JJ6JjTj6+OWZTjUWxVGmGMa1lvG868CN5Tv1GBNEsfaAddkDbQ7Dtf05S8 X-Received: by 2002:a17:903:244a:b0:295:9383:543 with SMTP id d9443c01a7336-297e565bc41mr124618885ad.27.1762810446248; Mon, 10 Nov 2025 13:34:06 -0800 (PST) Received: from postal.iol.unh.edu (postal.iol.unh.edu. [132.177.123.84]) by smtp-relay.gmail.com with ESMTPS id d9443c01a7336-29651ce308asm15217615ad.52.2025.11.10.13.34.06 (version=TLS1_2 cipher=ECDHE-ECDSA-AES128-GCM-SHA256 bits=128/128); Mon, 10 Nov 2025 13:34:06 -0800 (PST) X-Relaying-Domain: iol.unh.edu Date: Mon, 10 Nov 2025 13:34:06 -0800 (PST) Message-ID: <69125a4e.170a0220.640a5.f34bSMTPIN_ADDED_MISSING@mx.google.com> Received: from [172.21.0.2] (unknown [172.18.0.240]) by postal.iol.unh.edu (Postfix) with ESMTP id 69D606051830; Mon, 10 Nov 2025 16:34:05 -0500 (EST) Subject: |SUCCESS| pw158637 [PATCH] [v2] crypto/qat: fix CCM request descript From: dpdklab@iol.unh.edu To: Test Report Cc: dpdk-test-reports@iol.unh.edu, Akhil Goyal In-Reply-To: <20251110170107.2296951-1-emma.finn@intel.com> References: <20251110170107.2296951-1-emma.finn@intel.com> Content-Type: text/plain X-BeenThere: test-report@dpdk.org X-Mailman-Version: 2.1.29 Precedence: list List-Id: automatic DPDK test reports List-Unsubscribe: , List-Archive: List-Post: List-Help: List-Subscribe: , Errors-To: test-report-bounces@dpdk.org Test-Label: iol-unit-arm64-testing Test-Status: SUCCESS http://dpdk.org/patch/158637 _Testing PASS_ Submitter: Emma Finn Date: Monday, November 10 2025 17:01:07 DPDK git baseline: Repo:dpdk-next-crypto Branch: master CommitID:9cec61fe8175f6d0ce8067734d3f7e8b02afe697 158637 --> testing pass Upstream job id: Generic-Unit-Test-DPDK#390692 Test environment and result as below: +------------------------------+----------------+---------------------------+------------------------------+--------------+ | Environment | dpdk_unit_test | cryptodev_sw_zuc_autotest | cryptodev_sw_snow3g_autotest | lpm_autotest | +==============================+================+===========================+==============================+==============+ | CentOS Stream 9 | PASS | SKIPPED | SKIPPED | SKIPPED | +------------------------------+----------------+---------------------------+------------------------------+--------------+ | Debian GNU/Linux 12 | PASS | SKIPPED | SKIPPED | SKIPPED | +------------------------------+----------------+---------------------------+------------------------------+--------------+ | Ubuntu 20.04 | PASS | SKIPPED | SKIPPED | PASS | +------------------------------+----------------+---------------------------+------------------------------+--------------+ | Fedora Linux 40 | PASS | SKIPPED | SKIPPED | SKIPPED | +------------------------------+----------------+---------------------------+------------------------------+--------------+ | Fedora Linux 42 | PASS | SKIPPED | SKIPPED | SKIPPED | +------------------------------+----------------+---------------------------+------------------------------+--------------+ | Fedora Linux 41 | PASS | SKIPPED | SKIPPED | SKIPPED | +------------------------------+----------------+---------------------------+------------------------------+--------------+ | Red Hat Enterprise Linux 9.5 | PASS | SKIPPED | SKIPPED | SKIPPED | +------------------------------+----------------+---------------------------+------------------------------+--------------+ | CentOS Stream 10 | PASS | SKIPPED | SKIPPED | SKIPPED | +------------------------------+----------------+---------------------------+------------------------------+--------------+ | Ubuntu 22.04 | PASS | SKIPPED | SKIPPED | SKIPPED | +------------------------------+----------------+---------------------------+------------------------------+--------------+ | Ubuntu 24.04 | PASS | SKIPPED | SKIPPED | SKIPPED | +------------------------------+----------------+---------------------------+------------------------------+--------------+ | Debian 12 (arm) | SKIPPED | PASS | PASS | SKIPPED | +------------------------------+----------------+---------------------------+------------------------------+--------------+ CentOS Stream 9 Kernel: 5.4 Compiler: gcc gcc (GCC) 11.5.0 20240719 (Red Hat 11.5.0-11) Debian GNU/Linux 12 Kernel: 5.4 Compiler: gcc gcc (Debian 12.2.0-14+deb12u1) 12.2.0 Ubuntu 20.04 Kernel: 5.4 Compiler: gcc gcc (Ubuntu 9.4.0-1ubuntu1~20.04.2) 9.4.0 Fedora Linux 40 Kernel: 5.4 Compiler: gcc gcc (GCC) 14.2.1 20240912 (Red Hat 14.2.1-3) Fedora Linux 42 Kernel: 5.4 Compiler: clang gcc (GCC) 15.2.1 20250808 (Red Hat 15.2.1-1) Fedora Linux 41 Kernel: 5.4 Compiler: clang gcc (GCC) 14.3.1 20250523 (Red Hat 14.3.1-1) Red Hat Enterprise Linux 9.5 Kernel: 5.4 Compiler: gcc gcc (GCC) 11.5.0 20240719 (Red Hat 11.5.0-2) CentOS Stream 10 Kernel: 5.4 Compiler: gcc gcc (GCC) 14.2.1 20250110 (Red Hat 14.2.1-8) Ubuntu 22.04 Kernel: 5.4 Compiler: gcc gcc (Ubuntu 11.4.0-1ubuntu1~22.04) 11.4.0 Ubuntu 24.04 Kernel: 5.4 Compiler: gcc gcc (Ubuntu 13.3.0-6ubuntu2~24.04) 13.3.0 Debian 12 (arm) Kernel: Depends on container host Compiler: gcc (Debian 12.2.0-14) 12.2.0 To view detailed results, visit: https://lab.dpdk.org/results/dashboard/patchsets/34523/ UNH-IOL DPDK Community Lab To manage your email subscriptions, visit: https://lab.dpdk.org/results/dashboard/preferences/subscriptions/