From mboxrd@z Thu Jan 1 00:00:00 1970 Return-Path: Received: from mails.dpdk.org (mails.dpdk.org [217.70.189.124]) by inbox.dpdk.org (Postfix) with ESMTP id E45B348AD2 for ; Mon, 10 Nov 2025 23:05:30 +0100 (CET) Received: from mails.dpdk.org (localhost [127.0.0.1]) by mails.dpdk.org (Postfix) with ESMTP id C0F9B4026A; Mon, 10 Nov 2025 23:05:30 +0100 (CET) Received: from mail-pf1-f227.google.com (mail-pf1-f227.google.com [209.85.210.227]) by mails.dpdk.org (Postfix) with ESMTP id 678194026A for ; Mon, 10 Nov 2025 23:05:29 +0100 (CET) Received: by mail-pf1-f227.google.com with SMTP id d2e1a72fcca58-7aa2170adf9so2892736b3a.0 for ; Mon, 10 Nov 2025 14:05:29 -0800 (PST) DKIM-Signature: v=1; a=rsa-sha256; c=relaxed/relaxed; d=iol.unh.edu; s=unh-iol; t=1762812328; x=1763417128; darn=dpdk.org; h=references:in-reply-to:cc:to:from:subject:message-id:date:from:to :cc:subject:date:message-id:reply-to; bh=4Jv2dZeRITk91qrzQuhK9aVuhvgb9JH9Fb4G6WZK22k=; b=Qn58uOHD1lNQo/nK9n0PoYd3XxG60CKJ4to5MQFVJ7Q8+FAFz6+jKh9PoxvMJTjyXk MfV/E54JxsrcU5+KCoUKAL4irCFN+81qIhn+qH+HxpED8kHTxrF8bwGB5C+P/AN00RZU qOfbjzSQkrBYJhYBRi/JVDsZlEephGpaUClrQ= X-Google-DKIM-Signature: v=1; a=rsa-sha256; c=relaxed/relaxed; d=1e100.net; s=20230601; t=1762812328; x=1763417128; h=references:in-reply-to:cc:to:from:subject:message-id:date:x-gm-gg :x-gm-message-state:from:to:cc:subject:date:message-id:reply-to; bh=4Jv2dZeRITk91qrzQuhK9aVuhvgb9JH9Fb4G6WZK22k=; b=IURRTSU5pkIBbr3Q21R9tdSAWIkws+CE2LQ6a7d2JVWjiPkXfrvC/ZWg9Uqw2HfXLo fsPBljigRsM5kzG2Z1w723c2tPSGtSQjtqLZ09tQCQvOGaU5o94hDYCKC38U5kfEthzf tA8/vjj30J+uQ44C33+3NLEsvW7UsF8W2rP8c0eSp9UVHclr+0UONczWq9sDcBoEDPwi ST1KBOZp64Y3snnuRDa1/cIoulUpAYDNgDOc3BabntzEsRMiHR22vhh5OOmK3p9R7aC8 jpral3VpakFdqohk9yYaonVoXVQqLIlKwLJCYGvi4OhRfHwBpiFQhQt+qsCFE3G+XTlq 5HvA== X-Gm-Message-State: AOJu0YwyAkbtLWKw7BjzEfHbEDF2OT2bQSKwqbrw8T5mulaIA3UtvBou 543/MQM4sNk5Vh7kaAbw+nWeCuqAY47F6cFr85qK2LntgWLQLTEn1HwEb+ZS3rEiojeDUJDq88Q 8OmLuhskHD5yy6+XfDiYIMSsKrR5BPweacc7uVVTAILAG X-Gm-Gg: ASbGncuslOgnu9OnbkThXDxnpC/beEUSkUCQpMeHluomyTZbrx3V0awhpLuzLWSaK9w tL9exdEiJwv42+qDCwswvvBuKW72mLKxmaqiNIbtUu1xwfXcAM9Tt5TQ2zksqR6lEdyMIr2jwwn l2dpHEaiKLG1G3dgxdmgfR0CF4b+jS6QZr81x0KN/QXD4GVzl4ew4UERqEspdhdhzDK7ylVL+g8 YdjkqiL/6e9A5IV3JqasBlbDRgHv07Kx8pTX62F1MifSILEIJ1CL9hWb3AmmlFMgOF56EylkJAt TwB7iqSLncxtTefYy5ADq7B5IDPUDD1J/fOLJ7Y2V+qGEQjIym051nvBlyWOinIMgroCD9tHYTT focTvt6LKZgSDpKcUpuMTzuhcU7AvvN0= X-Google-Smtp-Source: AGHT+IGGKmEhBScDWSKMv8gaYyMMV2s76VQqwK67gmBudyf+kDTWOQkUwK4kn8GhKK6DuhkWQjA4CtKZ/b50 X-Received: by 2002:a17:903:19e3:b0:297:df4e:fdd2 with SMTP id d9443c01a7336-297e53f9309mr113459515ad.9.1762812328265; Mon, 10 Nov 2025 14:05:28 -0800 (PST) Received: from postal.iol.unh.edu (postal.iol.unh.edu. [132.177.123.84]) by smtp-relay.gmail.com with ESMTPS id d9443c01a7336-2965096e32dsm15005105ad.7.2025.11.10.14.05.28 (version=TLS1_2 cipher=ECDHE-ECDSA-AES128-GCM-SHA256 bits=128/128); Mon, 10 Nov 2025 14:05:28 -0800 (PST) X-Relaying-Domain: iol.unh.edu Date: Mon, 10 Nov 2025 14:05:28 -0800 (PST) Message-ID: <691261a8.170a0220.3c3b06.d7d3SMTPIN_ADDED_MISSING@mx.google.com> Received: from [172.21.0.2] (unknown [172.18.0.240]) by postal.iol.unh.edu (Postfix) with ESMTP id 84E9060003E8; Mon, 10 Nov 2025 17:05:27 -0500 (EST) Subject: |SUCCESS| pw158637 [PATCH] [v2] crypto/qat: fix CCM request descript From: dpdklab@iol.unh.edu To: Test Report Cc: dpdk-test-reports@iol.unh.edu, Akhil Goyal In-Reply-To: <20251110170107.2296951-1-emma.finn@intel.com> References: <20251110170107.2296951-1-emma.finn@intel.com> Content-Type: text/plain X-BeenThere: test-report@dpdk.org X-Mailman-Version: 2.1.29 Precedence: list List-Id: automatic DPDK test reports List-Unsubscribe: , List-Archive: List-Post: List-Help: List-Subscribe: , Errors-To: test-report-bounces@dpdk.org Test-Label: iol-compile-arm64-testing Test-Status: SUCCESS http://dpdk.org/patch/158637 _Testing PASS_ Submitter: Emma Finn Date: Monday, November 10 2025 17:01:07 DPDK git baseline: Repo:dpdk-next-crypto Branch: master CommitID:9cec61fe8175f6d0ce8067734d3f7e8b02afe697 158637 --> testing pass Upstream job id: Generic-DPDK-Compile-Meson#442664 Test environment and result as below: +------------------------------+--------------------+ | Environment | dpdk_meson_compile | +==============================+====================+ | Red Hat Enterprise Linux 9.5 | PASS | +------------------------------+--------------------+ | Ubuntu 20.04 | PASS | +------------------------------+--------------------+ | Fedora Linux 42 | PASS | +------------------------------+--------------------+ | Debian GNU/Linux 12 | PASS | +------------------------------+--------------------+ | Ubuntu 22.04 | PASS | +------------------------------+--------------------+ | Ubuntu 24.04 | PASS | +------------------------------+--------------------+ | CentOS Stream 9 | PASS | +------------------------------+--------------------+ | CentOS Stream 10 | PASS | +------------------------------+--------------------+ Red Hat Enterprise Linux 9.5 Kernel: 5.4 Compiler: gcc gcc (GCC) 11.5.0 20240719 (Red Hat 11.5.0-2) Ubuntu 20.04 Kernel: 5.15 Compiler: aarch64-linux-gnu-gcc gcc (Ubuntu 9.4.0-1ubuntu1~20.04.2) 9.4.0 Fedora Linux 42 Kernel: 5.4 Compiler: gcc gcc (GCC) 15.2.1 20250808 (Red Hat 15.2.1-1) Debian GNU/Linux 12 Kernel: 5.4 Compiler: gcc gcc (Debian 12.2.0-14+deb12u1) 12.2.0 Ubuntu 22.04 Kernel: 5.4 Compiler: gcc gcc (Ubuntu 11.4.0-1ubuntu1~22.04) 11.4.0 Ubuntu 24.04 Kernel: 5.4 Compiler: gcc gcc (Ubuntu 13.3.0-6ubuntu2~24.04) 13.3.0 CentOS Stream 9 Kernel: 5.4 Compiler: gcc gcc (GCC) 11.5.0 20240719 (Red Hat 11.5.0-11) CentOS Stream 10 Kernel: 5.4 Compiler: gcc gcc (GCC) 14.2.1 20250110 (Red Hat 14.2.1-8) To view detailed results, visit: https://lab.dpdk.org/results/dashboard/patchsets/34523/ UNH-IOL DPDK Community Lab To manage your email subscriptions, visit: https://lab.dpdk.org/results/dashboard/preferences/subscriptions/