From mboxrd@z Thu Jan 1 00:00:00 1970 Return-Path: Received: from mails.dpdk.org (mails.dpdk.org [217.70.189.124]) by inbox.dpdk.org (Postfix) with ESMTP id A132F48AD2 for ; Tue, 11 Nov 2025 00:23:18 +0100 (CET) Received: from mails.dpdk.org (localhost [127.0.0.1]) by mails.dpdk.org (Postfix) with ESMTP id 872B04026A; Tue, 11 Nov 2025 00:23:18 +0100 (CET) Received: from mail-pf1-f226.google.com (mail-pf1-f226.google.com [209.85.210.226]) by mails.dpdk.org (Postfix) with ESMTP id DE7184026A for ; Tue, 11 Nov 2025 00:23:16 +0100 (CET) Received: by mail-pf1-f226.google.com with SMTP id d2e1a72fcca58-7afc154e411so2128488b3a.1 for ; Mon, 10 Nov 2025 15:23:16 -0800 (PST) DKIM-Signature: v=1; a=rsa-sha256; c=relaxed/relaxed; d=iol.unh.edu; s=unh-iol; t=1762816996; x=1763421796; darn=dpdk.org; h=references:in-reply-to:cc:to:from:subject:message-id:date:from:to :cc:subject:date:message-id:reply-to; bh=P/YL1SOQASB6+rYOZvCcQ1KpXSQREbl6emqj+kJ0onY=; b=VSWkIZo6lmGgZT0Nd13TDy9Q4ln/ZhqvG2F9YZISWvOPBTaNalgTzbEzMzjO6BgnOY RzKX0RtT6ubqf6/H3pNOKCRDF5PVVO3kgbnz3m4P41A5f5h9jZqJntGE/DSMKRlh5zbK JBgLx0THM3wT+B/ZROD/cPoU7uRC3Z93xqMtA= X-Google-DKIM-Signature: v=1; a=rsa-sha256; c=relaxed/relaxed; d=1e100.net; s=20230601; t=1762816996; x=1763421796; h=references:in-reply-to:cc:to:from:subject:message-id:date:x-gm-gg :x-gm-message-state:from:to:cc:subject:date:message-id:reply-to; bh=P/YL1SOQASB6+rYOZvCcQ1KpXSQREbl6emqj+kJ0onY=; b=sUqdguyX5hNUS7lvvP/mvt5EnHAORWsLhIWDu9JBVOlR2yWz5w2NLLU0d68dzeN8jR dGw39HfhGnOocwkbyWm4YwmVOjAMuxxoD0HKQEZ+6MLAYYQwybRi1Pw9D1blR5F3W0vm VufuinaUUnjj3c0goQyoMFqEyA9k1GCYqudtmmU7TdyBCzO61Awaym58IFKC3Ef3eVZK kz2IIPmD+28JFyEX1kc3Py0i+whE1tM+FJnbHEmzKfle2F7Fhol4oU6eHhWx62+bOiQo DE2/9Rc41ZtyiLI+Mz73CaygplYRDP1B9j5fm/FgKGHc03ttLROIqy3yrY1+k5cQ75eW st3A== X-Gm-Message-State: AOJu0YzHI1wqYGAPxIopvSSizOAyqz6h3A5yLaWOqsBhTDWw6E3+pGvs bw1Tz7i269up+1Rhweg7mvXKSj8xbda8VI2RXVq05Lqs+IPSkPaOYp9m61sbToi0XitTA2DUB0L u3kEodCSZvjzrHsccSF08haPKHrORkRbNjm9NvZpnw8SV X-Gm-Gg: ASbGncuGdaKLA+IjhoFDxQjNKToj5cNAgLPQxKjfQFOeNrupxjYnT0M3tWxewOIY3f3 84vGmobSs8utECGqgSTw45cO2iHd2Pj6h1YkzQBfKkP5l8Q1cevft2vZ5AF4ab2JcDFfjTWPKMa EskYUER2PsH32EoTpWXRTXtP8/TR/+LefIR/nVqLossNuhYQ9HymfBNrCljnRymFj/Zl43N8B9V Nn7aFp0dLqwHynmh3b0JELsu5h6anFAqa/ILGf3SMLdN7SEqclyr1oHDJ5LK00dRoLnZV4Uf+LC e/UHtZnZNPHbgx7vELR6Ty+uU0eZcF5nxnXaHVeNmTZz46s5Y7KB0Pagwxcn/Qv7MsZy4jfic6t HWuxnJttj/WvMUJLMX+Brn/ytvVsokW0= X-Google-Smtp-Source: AGHT+IFiPz3sJQ/Utv+/vygHS1cUwsUc3jIJl2dpD7L6TbkMcFw08+gk4hafcgiBbxbxN3t4MgA5NQCX6JTV X-Received: by 2002:a17:903:1a2e:b0:295:5945:2930 with SMTP id d9443c01a7336-297e5411a06mr140383975ad.2.1762816995930; Mon, 10 Nov 2025 15:23:15 -0800 (PST) Received: from postal.iol.unh.edu (postal.iol.unh.edu. [132.177.123.84]) by smtp-relay.gmail.com with ESMTPS id d9443c01a7336-29651ce308asm15437035ad.52.2025.11.10.15.23.15 (version=TLS1_2 cipher=ECDHE-ECDSA-AES128-GCM-SHA256 bits=128/128); Mon, 10 Nov 2025 15:23:15 -0800 (PST) X-Relaying-Domain: iol.unh.edu Date: Mon, 10 Nov 2025 15:23:15 -0800 (PST) Message-ID: <691273e3.170a0220.640a5.0704SMTPIN_ADDED_MISSING@mx.google.com> Received: from [172.21.0.3] (unknown [172.18.0.240]) by postal.iol.unh.edu (Postfix) with ESMTP id 524106051830; Mon, 10 Nov 2025 18:23:15 -0500 (EST) Subject: |SUCCESS| pw158638-158640 [PATCH] [3/3] examples: re-enable format t From: dpdklab@iol.unh.edu To: Test Report Cc: dpdk-test-reports@iol.unh.edu, Chenbo Xia , Maxime Coquelin In-Reply-To: <20251110182209.104087-4-stephen@networkplumber.org> References: <20251110182209.104087-4-stephen@networkplumber.org> Content-Type: text/plain X-BeenThere: test-report@dpdk.org X-Mailman-Version: 2.1.29 Precedence: list List-Id: automatic DPDK test reports List-Unsubscribe: , List-Archive: List-Post: List-Help: List-Subscribe: , Errors-To: test-report-bounces@dpdk.org Test-Label: iol-compile-amd64-testing Test-Status: SUCCESS http://dpdk.org/patch/158640 _Testing PASS_ Submitter: Stephen Hemminger Date: Monday, November 10 2025 18:19:35 DPDK git baseline: Repo:dpdk-next-virtio Branch: master CommitID:6b37c26a95388aa41bb5267c7c42f604fd571a38 158638-158640 --> testing pass Upstream job id: Generic-DPDK-Compile-Meson#442689 Test environment and result as below: +-------------------------------+--------------------+------------------+ | Environment | dpdk_meson_compile | dpdk_compile_ovs | +===============================+====================+==================+ | FreeBSD 14.2 | PASS | SKIPPED | +-------------------------------+--------------------+------------------+ | Ubuntu 20.04 | PASS | SKIPPED | +-------------------------------+--------------------+------------------+ | CentOS Stream 9 | PASS | SKIPPED | +-------------------------------+--------------------+------------------+ | Debian GNU/Linux 12 | PASS | SKIPPED | +-------------------------------+--------------------+------------------+ | Fedora Linux 42 | PASS | PASS | +-------------------------------+--------------------+------------------+ | Red Hat Enterprise Linux 9.5 | PASS | SKIPPED | +-------------------------------+--------------------+------------------+ | CentOS Stream 10 | PASS | SKIPPED | +-------------------------------+--------------------+------------------+ | Ubuntu 24.04 | PASS | PASS | +-------------------------------+--------------------+------------------+ | Red Hat Enterprise Linux 8.10 | PASS | SKIPPED | +-------------------------------+--------------------+------------------+ | openSUSE Leap 15.6 | PASS | SKIPPED | +-------------------------------+--------------------+------------------+ | Ubuntu 22.04 | PASS | SKIPPED | +-------------------------------+--------------------+------------------+ | Alpine Linux 3.22.0 | PASS | SKIPPED | +-------------------------------+--------------------+------------------+ FreeBSD 14.2 Kernel: 14.2-RELEASE Compiler: clang 18.1.6 Ubuntu 20.04 Kernel: 4.19 Compiler: gcc gcc (Ubuntu 9.4.0-1ubuntu1~20.04.2) 9.4.0 CentOS Stream 9 Kernel: 5.15 Compiler: gcc gcc (GCC) 11.5.0 20240719 (Red Hat 11.5.0-11) Debian GNU/Linux 12 Kernel: 5.15 Compiler: gcc gcc (Debian 12.2.0-14+deb12u1) 12.2.0 Fedora Linux 42 Kernel: 5.15 Compiler: gcc gcc (GCC) 15.2.1 20250808 (Red Hat 15.2.1-1) Red Hat Enterprise Linux 9.5 Kernel: 5.15 Compiler: gcc gcc (GCC) 11.5.0 20240719 (Red Hat 11.5.0-2) CentOS Stream 10 Kernel: 5.15 Compiler: gcc gcc (GCC) 14.2.1 20250110 (Red Hat 14.2.1-8) Ubuntu 24.04 Kernel: 5.15 Compiler: gcc gcc (Ubuntu 13.3.0-6ubuntu2~24.04) 13.3.0 Red Hat Enterprise Linux 8.10 Kernel: 5.15 Compiler: gcc gcc (GCC) 8.5.0 20210514 (Red Hat 8.5.0-22) openSUSE Leap 15.6 Kernel: 5.15 Compiler: gcc gcc (SUSE Linux) 7.5.0 Ubuntu 22.04 Kernel: 5.15 Compiler: gcc gcc (Ubuntu 11.4.0-1ubuntu1~22.04) 11.4.0 Alpine Linux 3.22.0 Kernel: 5.15 Compiler: gcc gcc (Alpine 14.2.0) 14.2.0 To view detailed results, visit: https://lab.dpdk.org/results/dashboard/patchsets/34524/ UNH-IOL DPDK Community Lab To manage your email subscriptions, visit: https://lab.dpdk.org/results/dashboard/preferences/subscriptions/