From mboxrd@z Thu Jan 1 00:00:00 1970 Return-Path: Received: from mails.dpdk.org (mails.dpdk.org [217.70.189.124]) by inbox.dpdk.org (Postfix) with ESMTP id 2C41548AD2 for ; Tue, 11 Nov 2025 01:09:52 +0100 (CET) Received: from mails.dpdk.org (localhost [127.0.0.1]) by mails.dpdk.org (Postfix) with ESMTP id 211D94026A; Tue, 11 Nov 2025 01:09:52 +0100 (CET) Received: from mail-vk1-f226.google.com (mail-vk1-f226.google.com [209.85.221.226]) by mails.dpdk.org (Postfix) with ESMTP id AC3474026A for ; Tue, 11 Nov 2025 01:09:51 +0100 (CET) Received: by mail-vk1-f226.google.com with SMTP id 71dfb90a1353d-5597330a34fso2556296e0c.2 for ; Mon, 10 Nov 2025 16:09:51 -0800 (PST) DKIM-Signature: v=1; a=rsa-sha256; c=relaxed/relaxed; d=iol.unh.edu; s=unh-iol; t=1762819791; x=1763424591; darn=dpdk.org; h=references:in-reply-to:cc:to:from:subject:message-id:date:from:to :cc:subject:date:message-id:reply-to; bh=2d29jO4gb84A6Rlvce1yxwU8A71Q2qSrYPYCDrWmngI=; b=KgmJrEwbLl1dpLg1GPn2aSLLAtQczx5oAJb6OZzx8MMXNO76WFHSUUCLX3Dd5p4j6k esn/hl6QEDp3PFfgOXrzPcleCz1VwshrfSIr7gVf/QZ68u9ovm16CSxlmHc6sAJSiqYG 1V9zgGwmpA8zJDqAFzi3bqx8CxpjoeJeaefCA= X-Google-DKIM-Signature: v=1; a=rsa-sha256; c=relaxed/relaxed; d=1e100.net; s=20230601; t=1762819791; x=1763424591; h=references:in-reply-to:cc:to:from:subject:message-id:date:x-gm-gg :x-gm-message-state:from:to:cc:subject:date:message-id:reply-to; bh=2d29jO4gb84A6Rlvce1yxwU8A71Q2qSrYPYCDrWmngI=; b=TMk/tUI9jUkdTtq7cPn7BiBf4uXjYdee+OEe67E4eWfY+tJ0av7iJTVhl2C/F3xDwK QQGoDdA204ABaITzSlzlBRF9rmCvkOiEbIVJLMWS5tk9gRur7oZpOUzCOvL9cvuD6yNF lEqjtUX13zSBlJDVDz3rJZYYM7/X2Q9qxp5w1IInijp5lrPY49NSt+bRHMhO6bDgBqlA rSPOTjBNFfvvxIxXcut/B36qanb55hOZXOlxzxlodtdcAxEhtKiIiCN+QOlZU/le2NfD OSXoTs5hFjqjrTaN9UiY/qQQmiyiPxGlIXewQupjzHmDafHAQFtZiR+rR3jqt8MHMHmH rwBA== X-Gm-Message-State: AOJu0YxK917+5QDQ3alolotZHcqH5mVyVraVraMZoUi8gDOHAj1KffCF n55kWD1ovEolWv7RtPpsydpyfNIv/hqi1cGaF20irhDonDDR7NZmWgO77ZZu123Ey09TG8C+Cb1 xN3fsmIbTbRjY9QuRmGhHS50yRbERqkn41NikuafU8jWeet5sJjvSdhU5Ydl9 X-Gm-Gg: ASbGncsRwdwt2Iy9w2tmisvZgB99L/OfPyXnwmaKyvNwmpmlZH4jjDTk0gfzdi/XmBo YjUAAnooFWEf0L0uLTyi+DFvt28WHZDi3eCeQ0VADSEC6mf46swM2MVRxkIA6mNZdEPKFnI9Y0j YR5/ICQC0WHtusPnu7PcU3tepSx5cnUgwp/uqXuGNDvNT1y+7htlCqw+dCtBrFypfaPGmz76EHv Y4vUal45LQ1io9NDnbklAUWXaAidfl2tq9b18n1yCVslCXXnTfRiON5k/sxgd0KceK+ndASLAj7 Y3F9EWKm0jM5BvbaFz1xEishNBJ7fbMG4uOoah9gzxuvzq1coxvBlXHNjjVkWOcCY1pRbs4sN6+ kpH5AulfN X-Google-Smtp-Source: AGHT+IHUOOA84+B/oEAKLLRk2FRqnTzmr0s58rJgFedWF90pkYQ8IwNZa4ssH6+MpjR8UwsehrLHsL6/qB0/ X-Received: by 2002:a05:6102:e12:b0:5dd:877c:8555 with SMTP id ada2fe7eead31-5ddc47e2109mr3481267137.43.1762819790930; Mon, 10 Nov 2025 16:09:50 -0800 (PST) Received: from postal.iol.unh.edu (postal.iol.unh.edu. [2606:4100:3880:1234::84]) by smtp-relay.gmail.com with ESMTPS id ada2fe7eead31-5dda1a738efsm1151345137.0.2025.11.10.16.09.50 (version=TLS1_2 cipher=ECDHE-ECDSA-AES128-GCM-SHA256 bits=128/128); Mon, 10 Nov 2025 16:09:50 -0800 (PST) X-Relaying-Domain: iol.unh.edu Date: Mon, 10 Nov 2025 16:09:50 -0800 (PST) Message-ID: <69127ece.050a0220.174f3a.b56cSMTPIN_ADDED_MISSING@mx.google.com> Received: from [172.21.0.3] (unknown [172.18.0.240]) by postal.iol.unh.edu (Postfix) with ESMTP id 6913E60003E8; Mon, 10 Nov 2025 19:09:50 -0500 (EST) Subject: |SUCCESS| pw158641 [PATCH] lib/ring: do not allow zero size ring From: dpdklab@iol.unh.edu To: Test Report Cc: dpdk-test-reports@iol.unh.edu In-Reply-To: <20251110222827.575488-1-iboukris@gmail.com> References: <20251110222827.575488-1-iboukris@gmail.com> Content-Type: text/plain X-BeenThere: test-report@dpdk.org X-Mailman-Version: 2.1.29 Precedence: list List-Id: automatic DPDK test reports List-Unsubscribe: , List-Archive: List-Post: List-Help: List-Subscribe: , Errors-To: test-report-bounces@dpdk.org Test-Label: iol-unit-amd64-testing Test-Status: SUCCESS http://dpdk.org/patch/158641 _Testing PASS_ Submitter: Isaac Boukris Date: Monday, November 10 2025 22:28:27 DPDK git baseline: Repo:dpdk Branch: master CommitID:660bde60e43c309ba4b58371e2ac3690593bda0b 158641 --> testing pass Upstream job id: Generic-Unit-Test-DPDK#390743 Test environment and result as below: +-------------------------------+----------------+ | Environment | dpdk_unit_test | +===============================+================+ | Fedora Linux 42 | PASS | +-------------------------------+----------------+ | Fedora Linux 40 | PASS | +-------------------------------+----------------+ | CentOS Stream 10 | PASS | +-------------------------------+----------------+ | Red Hat Enterprise Linux 8.10 | PASS | +-------------------------------+----------------+ | Debian GNU/Linux 12 | PASS | +-------------------------------+----------------+ | Fedora Linux 41 | PASS | +-------------------------------+----------------+ | Red Hat Enterprise Linux 9.5 | PASS | +-------------------------------+----------------+ | Ubuntu 20.04 | PASS | +-------------------------------+----------------+ | CentOS Stream 9 | PASS | +-------------------------------+----------------+ | Ubuntu 22.04 | PASS | +-------------------------------+----------------+ | Ubuntu 24.04 | PASS | +-------------------------------+----------------+ Fedora Linux 42 Kernel: 5.15 Compiler: clang gcc (GCC) 15.2.1 20250808 (Red Hat 15.2.1-1) Fedora Linux 40 Kernel: 5.15 Compiler: clang gcc (GCC) 14.2.1 20240912 (Red Hat 14.2.1-3) CentOS Stream 10 Kernel: 5.15 Compiler: gcc gcc (GCC) 14.2.1 20250110 (Red Hat 14.2.1-8) Red Hat Enterprise Linux 8.10 Kernel: 5.15 Compiler: gcc gcc (GCC) 8.5.0 20210514 (Red Hat 8.5.0-22) Debian GNU/Linux 12 Kernel: 5.15 Compiler: gcc gcc (Debian 12.2.0-14+deb12u1) 12.2.0 Fedora Linux 41 Kernel: 5.15 Compiler: gcc gcc (GCC) 14.3.1 20250523 (Red Hat 14.3.1-1) Red Hat Enterprise Linux 9.5 Kernel: 5.15 Compiler: gcc gcc (GCC) 11.5.0 20240719 (Red Hat 11.5.0-2) Ubuntu 20.04 Kernel: 5.15 Compiler: gcc gcc (Ubuntu 9.4.0-1ubuntu1~20.04.2) 9.4.0 CentOS Stream 9 Kernel: 5.15 Compiler: gcc gcc (GCC) 11.5.0 20240719 (Red Hat 11.5.0-11) Ubuntu 22.04 Kernel: 5.15 Compiler: gcc gcc (Ubuntu 11.4.0-1ubuntu1~22.04) 11.4.0 Ubuntu 24.04 Kernel: 5.15 Compiler: gcc gcc (Ubuntu 13.3.0-6ubuntu2~24.04) 13.3.0 To view detailed results, visit: https://lab.dpdk.org/results/dashboard/patchsets/34525/ UNH-IOL DPDK Community Lab To manage your email subscriptions, visit: https://lab.dpdk.org/results/dashboard/preferences/subscriptions/