From mboxrd@z Thu Jan 1 00:00:00 1970 Return-Path: Received: from mails.dpdk.org (mails.dpdk.org [217.70.189.124]) by inbox.dpdk.org (Postfix) with ESMTP id C4D9448AD2 for ; Tue, 11 Nov 2025 01:14:29 +0100 (CET) Received: from mails.dpdk.org (localhost [127.0.0.1]) by mails.dpdk.org (Postfix) with ESMTP id A6F204026A; Tue, 11 Nov 2025 01:14:29 +0100 (CET) Received: from mail-pj1-f100.google.com (mail-pj1-f100.google.com [209.85.216.100]) by mails.dpdk.org (Postfix) with ESMTP id ECCC04026A for ; Tue, 11 Nov 2025 01:14:28 +0100 (CET) Received: by mail-pj1-f100.google.com with SMTP id 98e67ed59e1d1-3436cbb723fso2154378a91.2 for ; Mon, 10 Nov 2025 16:14:28 -0800 (PST) DKIM-Signature: v=1; a=rsa-sha256; c=relaxed/relaxed; d=iol.unh.edu; s=unh-iol; t=1762820068; x=1763424868; darn=dpdk.org; h=references:in-reply-to:cc:to:from:subject:message-id:date:from:to :cc:subject:date:message-id:reply-to; bh=/GGzHxZ94ycmEXETomHK89VWHYxUoId6Prh4cPMGYO8=; b=ja8gdCd2Jsx2ol6e1KhQGOn/F2i4kjOul98ub1mtW/rRge3muwENNqcLfv7BEwOx7X bPGWlIrU4vjub0APnMlni0Cc7QMvD5g92N1SZJXL3x++sALFG3j4XFK7PZsIL3Hd3nxl 3u4ocJB+Yt2nChjSh9tXsXsRo4nnBjM++XYSI= X-Google-DKIM-Signature: v=1; a=rsa-sha256; c=relaxed/relaxed; d=1e100.net; s=20230601; t=1762820068; x=1763424868; h=references:in-reply-to:cc:to:from:subject:message-id:date:x-gm-gg :x-gm-message-state:from:to:cc:subject:date:message-id:reply-to; bh=/GGzHxZ94ycmEXETomHK89VWHYxUoId6Prh4cPMGYO8=; b=Ux8z51CRpSEFZ+7ZHBPcPZYoYEWjVuPnOadst1c0Dwu7Bfgp4Vvl6wtGEie6iTHRd9 7QCetwX56LTUzcELQSPRmLzBVw0ARKZWW515CYJEwVL6G5v/2ZiZIKLhrCwOK8gvzCiB al1m0t+PsaYafYzEWO7NfQRsKm8WZHKA2InTM1kc4tZzt5JV9WypIgAuiCctgJGnsseE yPEBeL55Ud8KOq4O1whsDbTZCyNFfgmVHT/geipNmASM/9XuEw6NUktKpK7t+WaO87b6 JgfR1O22qcdCoGjFeT1/EB6a9fxmB4m8Eq1HeITaGM0GymTTqNypnvfyy5ChC4bX9INf P+Sg== X-Gm-Message-State: AOJu0YxsFOffzrtAzy6deKAapffT8RpHY+RX3ahpXn+S1iSRPDQg/1L8 Jpt7lY9U290mFq4yXpB6DrBBB8X1Y0Cd0NW+X+RuzhjalP1VHtQaMek+9KXTpxC6IWnLlUumDT7 AwJy/Vs91B3lK0c5KPcTFqUoWfkYki87sqUaR5WVMPUtx X-Gm-Gg: ASbGnct9gxOdmcgUK87WY7VrIxCU07UKaXmqQAOyVd5N7z0BeSPAty7rK047IT63fN/ 9F3+WlmCi//fndqZg4uYCqV514vYr7CH96U1+cUW3sr3yuQcgvkVWa2h9cBl3PgVfs50IDKupoS yU743tv0rBLRviBsat62ATAn86/M5BLuK1HqmFNDdp5DqAWvuQRdM3J216Ip6KHYFZPgHdffRhb daKRG0bWj6fmijaRpU4RTj/4nEMOqDOYkH+7xM5dZkvHvcriLQQQUdjHINsQ4LHZqTYjcmFYnRU CCTG2jl/sQ5FvtMC+Dj35+XUYzzyeEs0gFhsxdKKW8EvW+HT5URu+kkvMeM5Gfptzypb3UBCRPt 5pqZwa+p/59Si3Uh3pjmmoD9nfi2sA3I= X-Google-Smtp-Source: AGHT+IFB8rCDZCM20H8HWmcNoTttlZVg/dGZZxKbu5rSzmzHXvoXgzRhZ64ERzAepBjenwOx5kVNQVeVLHK0 X-Received: by 2002:a17:90b:3512:b0:341:3ea2:b625 with SMTP id 98e67ed59e1d1-3436cb91984mr15902355a91.12.1762820067619; Mon, 10 Nov 2025 16:14:27 -0800 (PST) Received: from postal.iol.unh.edu (postal.iol.unh.edu. [132.177.123.84]) by smtp-relay.gmail.com with ESMTPS id 98e67ed59e1d1-341d04b009dsm1607515a91.1.2025.11.10.16.14.27 (version=TLS1_2 cipher=ECDHE-ECDSA-AES128-GCM-SHA256 bits=128/128); Mon, 10 Nov 2025 16:14:27 -0800 (PST) X-Relaying-Domain: iol.unh.edu Date: Mon, 10 Nov 2025 16:14:27 -0800 (PST) Message-ID: <69127fe3.170a0220.1fffba.2c50SMTPIN_ADDED_MISSING@mx.google.com> Received: from [172.21.0.2] (unknown [172.18.0.240]) by postal.iol.unh.edu (Postfix) with ESMTP id C02766051830; Mon, 10 Nov 2025 19:14:26 -0500 (EST) Subject: |SUCCESS| pw158641 [PATCH] lib/ring: do not allow zero size ring From: dpdklab@iol.unh.edu To: Test Report Cc: dpdk-test-reports@iol.unh.edu In-Reply-To: <20251110222827.575488-1-iboukris@gmail.com> References: <20251110222827.575488-1-iboukris@gmail.com> Content-Type: text/plain X-BeenThere: test-report@dpdk.org X-Mailman-Version: 2.1.29 Precedence: list List-Id: automatic DPDK test reports List-Unsubscribe: , List-Archive: List-Post: List-Help: List-Subscribe: , Errors-To: test-report-bounces@dpdk.org Test-Label: iol-compile-amd64-testing Test-Status: SUCCESS http://dpdk.org/patch/158641 _Testing PASS_ Submitter: Isaac Boukris Date: Monday, November 10 2025 22:28:27 DPDK git baseline: Repo:dpdk Branch: master CommitID:660bde60e43c309ba4b58371e2ac3690593bda0b 158641 --> testing pass Upstream job id: Generic-DPDK-Compile-Meson#442716 Test environment and result as below: +-------------------------------+--------------------+------------------+ | Environment | dpdk_meson_compile | dpdk_compile_ovs | +===============================+====================+==================+ | Ubuntu 20.04 | PASS | SKIPPED | +-------------------------------+--------------------+------------------+ | CentOS Stream 9 | PASS | SKIPPED | +-------------------------------+--------------------+------------------+ | Red Hat Enterprise Linux 8.10 | PASS | SKIPPED | +-------------------------------+--------------------+------------------+ | CentOS Stream 10 | PASS | SKIPPED | +-------------------------------+--------------------+------------------+ | Ubuntu 24.04 | PASS | PASS | +-------------------------------+--------------------+------------------+ | Fedora Linux 42 | PASS | PASS | +-------------------------------+--------------------+------------------+ | Debian GNU/Linux 12 | PASS | SKIPPED | +-------------------------------+--------------------+------------------+ | openSUSE Leap 15.6 | PASS | SKIPPED | +-------------------------------+--------------------+------------------+ | Red Hat Enterprise Linux 9.5 | PASS | SKIPPED | +-------------------------------+--------------------+------------------+ | Ubuntu 22.04 | PASS | SKIPPED | +-------------------------------+--------------------+------------------+ | Alpine Linux 3.22.0 | PASS | SKIPPED | +-------------------------------+--------------------+------------------+ | FreeBSD 14.2 | PASS | SKIPPED | +-------------------------------+--------------------+------------------+ Ubuntu 20.04 Kernel: 4.19 Compiler: gcc gcc (Ubuntu 9.4.0-1ubuntu1~20.04.2) 9.4.0 CentOS Stream 9 Kernel: 5.15 Compiler: gcc gcc (GCC) 11.5.0 20240719 (Red Hat 11.5.0-11) Red Hat Enterprise Linux 8.10 Kernel: 5.15 Compiler: gcc gcc (GCC) 8.5.0 20210514 (Red Hat 8.5.0-22) CentOS Stream 10 Kernel: 5.15 Compiler: gcc gcc (GCC) 14.2.1 20250110 (Red Hat 14.2.1-8) Ubuntu 24.04 Kernel: 5.15 Compiler: gcc gcc (Ubuntu 13.3.0-6ubuntu2~24.04) 13.3.0 Fedora Linux 42 Kernel: 5.15 Compiler: gcc gcc (GCC) 15.2.1 20250808 (Red Hat 15.2.1-1) Debian GNU/Linux 12 Kernel: 5.15 Compiler: gcc gcc (Debian 12.2.0-14+deb12u1) 12.2.0 openSUSE Leap 15.6 Kernel: 5.15 Compiler: gcc gcc (SUSE Linux) 7.5.0 Red Hat Enterprise Linux 9.5 Kernel: 5.15 Compiler: gcc gcc (GCC) 11.5.0 20240719 (Red Hat 11.5.0-2) Ubuntu 22.04 Kernel: 5.15 Compiler: gcc gcc (Ubuntu 11.4.0-1ubuntu1~22.04) 11.4.0 Alpine Linux 3.22.0 Kernel: 5.15 Compiler: gcc gcc (Alpine 14.2.0) 14.2.0 FreeBSD 14.2 Kernel: 14.2-RELEASE Compiler: clang 18.1.6 To view detailed results, visit: https://lab.dpdk.org/results/dashboard/patchsets/34525/ UNH-IOL DPDK Community Lab To manage your email subscriptions, visit: https://lab.dpdk.org/results/dashboard/preferences/subscriptions/