From mboxrd@z Thu Jan 1 00:00:00 1970 Return-Path: Received: from mails.dpdk.org (mails.dpdk.org [217.70.189.124]) by inbox.dpdk.org (Postfix) with ESMTP id EA10C48AD2 for ; Tue, 11 Nov 2025 01:25:53 +0100 (CET) Received: from mails.dpdk.org (localhost [127.0.0.1]) by mails.dpdk.org (Postfix) with ESMTP id E2E404026A; Tue, 11 Nov 2025 01:25:53 +0100 (CET) Received: from mail-qk1-f225.google.com (mail-qk1-f225.google.com [209.85.222.225]) by mails.dpdk.org (Postfix) with ESMTP id E7E5D4026A for ; Tue, 11 Nov 2025 01:25:52 +0100 (CET) Received: by mail-qk1-f225.google.com with SMTP id af79cd13be357-88e51cf965dso457681985a.2 for ; Mon, 10 Nov 2025 16:25:52 -0800 (PST) DKIM-Signature: v=1; a=rsa-sha256; c=relaxed/relaxed; d=iol.unh.edu; s=unh-iol; t=1762820752; x=1763425552; darn=dpdk.org; h=references:in-reply-to:cc:to:from:subject:message-id:date:from:to :cc:subject:date:message-id:reply-to; bh=M3TIZCrwKHzsHpNsb82HZSFFpmyaE+pSKSckEpkGXdM=; b=VSgjjB+/kpTvymWHwNz2VaU/CtIRC0VWiQEVMyOSLJvPva3AQHYbh1aC0Hud9HNXVF 0h3zLvX4eZaf6pa8JHhUWtaslBMFOcxL1N/VDTPA05kBhoBbdXa4Dh8DacQF7K2Fh2RM XjjD0w6zm0DJbFqv6KRrzxtTvNygBj6nJkCLg= X-Google-DKIM-Signature: v=1; a=rsa-sha256; c=relaxed/relaxed; d=1e100.net; s=20230601; t=1762820752; x=1763425552; h=references:in-reply-to:cc:to:from:subject:message-id:date:x-gm-gg :x-gm-message-state:from:to:cc:subject:date:message-id:reply-to; bh=M3TIZCrwKHzsHpNsb82HZSFFpmyaE+pSKSckEpkGXdM=; b=FmTg6k/K/guAWrn8iW0ABtJ8qLrVfYAfnDS1aimDE9n0nVUxAmxo49OvBvW0HKn+v8 JaX32SoBpTpVG+J8tOc7g0pKHHva/KsAcIxRLTSSvA8QDYoLJFWXbcAc1pq5/WIorfks 44iFw/lo3kDY4H5SPTkv7EF5Nr6bf4/WB2oupkWlP5qUTkp/NwVI3++K6W1TxRu8oEzR AeOPhF2nLl4/cuaRr0jXaVrNWjDnsWjYooj46B0RfVT2xNnV3JypXuVJGMYOLr/IKgl1 A7U6WzdiV4HmjUKZafY5Hs7feRWkKPV5Jm3c457QuaBBdilL3RUz9qAJwyyFu1/KrJBb KEiw== X-Gm-Message-State: AOJu0YxAz2vivtkP/wQJpvSKdinuFcrGI/AJJnjqEnlvToHbl5OVUuq7 rEzKb8Ptng1C//lQFdsMC02F82DcSnwENXuX767XarJfVnJtc9jx6QDhDo4QUmHxgV9SR28SUux GcHWsiZmZpR7ceflpVXm4BhuYCqlLoC6HTjxScIG+HykO X-Gm-Gg: ASbGncsMdiMWo9Qlw0OnipgCkn7rf8CxxfdwdPfzGfvELHhzDoL/lW9/p6d0hCXRwyj 90xtP0sYAHAahHC3Muhlxy4/qCSEFWdeoJmnYSo5jwL0oLHVVyjkCyyWfLWal5DpuXNKDw7Ul6Q hhyYosggHfMlZkrlttCugtySCHA7kcebJkpraSmvjeT+6AK6d3P1A66jCVguo5fybsuTKYSFVu5 1FKL74x2LwjFw6Vfern+GH90qI+LgmW9KUv1bZY458TgPzGQBdtfuNiRfJV3w+cIV2NU1D1r4qq 6mT7ufo3LJ1r1AtF5cF+MqoPATS8pwW9VF7mjDuCRHX+F4Oti+IdC/0IjFm3MSzv1fqJsAvUv0/ Vu3kZzKHD1tXgSmSDXAhXkf8eEwfyhRw= X-Google-Smtp-Source: AGHT+IEL2uCZDF3cWXFLNHOJdguNqOrdPVmfPk4mzVL/i29glUGLxopseCfritPusgvrSD4Of0L2LP4W5T/z X-Received: by 2002:a05:620a:170b:b0:8b2:7679:4d12 with SMTP id af79cd13be357-8b276794fcemr686650385a.26.1762820752020; Mon, 10 Nov 2025 16:25:52 -0800 (PST) Received: from postal.iol.unh.edu (postal.iol.unh.edu. [132.177.123.84]) by smtp-relay.gmail.com with ESMTPS id af79cd13be357-8b2357c98d0sm128334285a.7.2025.11.10.16.25.51 (version=TLS1_2 cipher=ECDHE-ECDSA-AES128-GCM-SHA256 bits=128/128); Mon, 10 Nov 2025 16:25:52 -0800 (PST) X-Relaying-Domain: iol.unh.edu Date: Mon, 10 Nov 2025 16:25:52 -0800 (PST) Message-ID: <69128290.050a0220.a48c6.16ecSMTPIN_ADDED_MISSING@mx.google.com> Received: from [172.21.0.3] (unknown [172.18.0.240]) by postal.iol.unh.edu (Postfix) with ESMTP id B6C306051830; Mon, 10 Nov 2025 19:25:51 -0500 (EST) Subject: |SUCCESS| pw158638-158640 [PATCH] [3/3] examples: re-enable format t From: dpdklab@iol.unh.edu To: Test Report Cc: dpdk-test-reports@iol.unh.edu, Chenbo Xia , Maxime Coquelin In-Reply-To: <20251110182209.104087-4-stephen@networkplumber.org> References: <20251110182209.104087-4-stephen@networkplumber.org> Content-Type: text/plain X-BeenThere: test-report@dpdk.org X-Mailman-Version: 2.1.29 Precedence: list List-Id: automatic DPDK test reports List-Unsubscribe: , List-Archive: List-Post: List-Help: List-Subscribe: , Errors-To: test-report-bounces@dpdk.org Test-Label: iol-unit-arm64-testing Test-Status: SUCCESS http://dpdk.org/patch/158640 _Testing PASS_ Submitter: Stephen Hemminger Date: Monday, November 10 2025 18:19:35 DPDK git baseline: Repo:dpdk-next-virtio Branch: master CommitID:6b37c26a95388aa41bb5267c7c42f604fd571a38 158638-158640 --> testing pass Upstream job id: Generic-Unit-Test-DPDK#390714 Test environment and result as below: +------------------------------+---------------------------+------------------------------+--------------+----------------+ | Environment | cryptodev_sw_zuc_autotest | cryptodev_sw_snow3g_autotest | lpm_autotest | dpdk_unit_test | +==============================+===========================+==============================+==============+================+ | Debian 12 (arm) | PASS | PASS | SKIPPED | SKIPPED | +------------------------------+---------------------------+------------------------------+--------------+----------------+ | Ubuntu 20.04 | SKIPPED | SKIPPED | PASS | PASS | +------------------------------+---------------------------+------------------------------+--------------+----------------+ | CentOS Stream 9 | SKIPPED | SKIPPED | SKIPPED | PASS | +------------------------------+---------------------------+------------------------------+--------------+----------------+ | Ubuntu 24.04 | SKIPPED | SKIPPED | SKIPPED | PASS | +------------------------------+---------------------------+------------------------------+--------------+----------------+ | Fedora Linux 40 | SKIPPED | SKIPPED | SKIPPED | PASS | +------------------------------+---------------------------+------------------------------+--------------+----------------+ | CentOS Stream 10 | SKIPPED | SKIPPED | SKIPPED | PASS | +------------------------------+---------------------------+------------------------------+--------------+----------------+ | Fedora Linux 41 | SKIPPED | SKIPPED | SKIPPED | PASS | +------------------------------+---------------------------+------------------------------+--------------+----------------+ | Debian GNU/Linux 12 | SKIPPED | SKIPPED | SKIPPED | PASS | +------------------------------+---------------------------+------------------------------+--------------+----------------+ | Fedora Linux 42 | SKIPPED | SKIPPED | SKIPPED | PASS | +------------------------------+---------------------------+------------------------------+--------------+----------------+ | Ubuntu 22.04 | SKIPPED | SKIPPED | SKIPPED | PASS | +------------------------------+---------------------------+------------------------------+--------------+----------------+ | Red Hat Enterprise Linux 9.5 | SKIPPED | SKIPPED | SKIPPED | PASS | +------------------------------+---------------------------+------------------------------+--------------+----------------+ Debian 12 (arm) Kernel: Depends on container host Compiler: gcc (Debian 12.2.0-14) 12.2.0 Ubuntu 20.04 Kernel: 5.4 Compiler: gcc gcc (Ubuntu 9.4.0-1ubuntu1~20.04.2) 9.4.0 CentOS Stream 9 Kernel: 5.4 Compiler: gcc gcc (GCC) 11.5.0 20240719 (Red Hat 11.5.0-11) Ubuntu 24.04 Kernel: 5.4 Compiler: gcc gcc (Ubuntu 13.3.0-6ubuntu2~24.04) 13.3.0 Fedora Linux 40 Kernel: 5.4 Compiler: clang gcc (GCC) 14.2.1 20240912 (Red Hat 14.2.1-3) CentOS Stream 10 Kernel: 5.4 Compiler: gcc gcc (GCC) 14.2.1 20250110 (Red Hat 14.2.1-8) Fedora Linux 41 Kernel: 5.4 Compiler: gcc gcc (GCC) 14.3.1 20250523 (Red Hat 14.3.1-1) Debian GNU/Linux 12 Kernel: 5.4 Compiler: gcc gcc (Debian 12.2.0-14+deb12u1) 12.2.0 Fedora Linux 42 Kernel: 5.4 Compiler: clang gcc (GCC) 15.2.1 20250808 (Red Hat 15.2.1-1) Ubuntu 22.04 Kernel: 5.4 Compiler: gcc gcc (Ubuntu 11.4.0-1ubuntu1~22.04) 11.4.0 Red Hat Enterprise Linux 9.5 Kernel: 5.4 Compiler: gcc gcc (GCC) 11.5.0 20240719 (Red Hat 11.5.0-2) To view detailed results, visit: https://lab.dpdk.org/results/dashboard/patchsets/34524/ UNH-IOL DPDK Community Lab To manage your email subscriptions, visit: https://lab.dpdk.org/results/dashboard/preferences/subscriptions/