From mboxrd@z Thu Jan 1 00:00:00 1970 Return-Path: Received: from mails.dpdk.org (mails.dpdk.org [217.70.189.124]) by inbox.dpdk.org (Postfix) with ESMTP id 7593948AD3 for ; Tue, 11 Nov 2025 03:57:17 +0100 (CET) Received: from mails.dpdk.org (localhost [127.0.0.1]) by mails.dpdk.org (Postfix) with ESMTP id 570A64026A; Tue, 11 Nov 2025 03:57:17 +0100 (CET) Received: from mail-oa1-f97.google.com (mail-oa1-f97.google.com [209.85.160.97]) by mails.dpdk.org (Postfix) with ESMTP id 77B0B4026A for ; Tue, 11 Nov 2025 03:57:15 +0100 (CET) Received: by mail-oa1-f97.google.com with SMTP id 586e51a60fabf-3e7f68df436so237794fac.1 for ; Mon, 10 Nov 2025 18:57:15 -0800 (PST) DKIM-Signature: v=1; a=rsa-sha256; c=relaxed/relaxed; d=iol.unh.edu; s=unh-iol; t=1762829835; x=1763434635; darn=dpdk.org; h=references:in-reply-to:cc:to:from:subject:message-id:date:from:to :cc:subject:date:message-id:reply-to; bh=XYVgtY+CAROhp2twA1p5w6Bn64HnRHC2kE147apk4d4=; b=G1hu5NdvHi5bSCG7I/mquO9FVFSY0OLcsbznFfsPY+Xmw+EMzpYKARC4o6Dhq7DQBy 2u2kJJ3ghL1N7Z8cwGTkesfTurL9NKYdnLfvJIcReGU8EKLpVIQbGeUyhPvBPl5H3GB5 mBeubfmwO7N7JNhGXa7eUsFxAnncvSngcFYVw= X-Google-DKIM-Signature: v=1; a=rsa-sha256; c=relaxed/relaxed; d=1e100.net; s=20230601; t=1762829835; x=1763434635; h=references:in-reply-to:cc:to:from:subject:message-id:date:x-gm-gg :x-gm-message-state:from:to:cc:subject:date:message-id:reply-to; bh=XYVgtY+CAROhp2twA1p5w6Bn64HnRHC2kE147apk4d4=; b=qw3hRs8NC56qHik8BGKhxPAv2ZWbPC8UgGCC+Wwz3DR37m6ht6kOgv5ScwkHP8MemP xizl2zgqVFR8UN7SkZT71sgA7DcBciPciOLSF1i9TIv+8B4X6swGHuqGG3N5yPosxigQ I6xpXka9GQ5OtX8WHN1WxDiYLxN8uKbIO1EFpzdmqExOaxlI4PL0p7zSVYcOouYzEWN0 xEDDvHDAs97vC4lBnpvbyZObw5TlaBIv8cUVE9LHQNyO+O/OvZ3AV1WFRXAxD5TlzOQp FHHeGmztVemdpEaYySjQWAKrE5vnIpPJWRanP5IAmpBYCur570lHz9g5oclftWyn5yUu F90g== X-Gm-Message-State: AOJu0YwCE52Ppq5wKb+mTweKsBKHLC800XWaP9YpGt5uDJlFd0aNuHVe uZFgtztck3QyuMIWDuGl9xUpW6CGw9xUz7w8tUtzV1WwLDoiDNdA39ev/0L2mI4/x+YsmYk+tnJ kF6D4afummVq28yJhI8QTUpzVwNQqUnPvpwNlNQhhnSTPQW5gL6Ph090H3B5T X-Gm-Gg: ASbGncujcu0WBL4NYsRe3JXPdABFtKELGczgVgFcoT1MMUglEXUIlAatXzMh1qOZCQZ RaOo04kd2wBnlDkK86ZmNw8MfKYlhlYOD0WeVWjVRau2oB2fOc+dBFryO5/Y1+bqXCj5WDaPp3Z fbZLCyLttwbug4Z1PcGgYIh2yp/uGrPV+4Q2JS1rxj3lSptScRCkHh8FOVzmJYjiSp5k6P7NkJF +zS4Ujy2H6zrg5HtbzENEfpBgtQSqdZcNKmp/Q8D+p5rvu6w/cFiFir8yjGXcSLQcJi41AzwoT5 pb2ZRwlBKDLH66qW6uYpu1qqlD+4DV6x+iQ31gdZsYt/KsoWNKyY3zLYOlhCyaOTydbrkuJsfAJ wJy3vZNW0 X-Google-Smtp-Source: AGHT+IHPE1tnlwSYhvE/+rCbztJpHJxEXR8Pv7UGFIUR2IROtCZvcL9su6/rKUp5JcU1y2Pe64qJzHybWL5C X-Received: by 2002:a05:6870:b91:b0:3d2:7f44:c161 with SMTP id 586e51a60fabf-3e8156ddb02mr781349fac.13.1762829834722; Mon, 10 Nov 2025 18:57:14 -0800 (PST) Received: from postal.iol.unh.edu (postal.iol.unh.edu. [2606:4100:3880:1234::84]) by smtp-relay.gmail.com with ESMTPS id 46e09a7af769-7c6f10c45bcsm952801a34.6.2025.11.10.18.57.14 (version=TLS1_2 cipher=ECDHE-ECDSA-AES128-GCM-SHA256 bits=128/128); Mon, 10 Nov 2025 18:57:14 -0800 (PST) X-Relaying-Domain: iol.unh.edu Date: Mon, 10 Nov 2025 18:57:14 -0800 (PST) Message-ID: <6912a60a.050a0220.1baf51.1b75SMTPIN_ADDED_MISSING@mx.google.com> Received: from [172.21.0.2] (unknown [172.18.0.240]) by postal.iol.unh.edu (Postfix) with ESMTP id C60756051830; Mon, 10 Nov 2025 21:57:13 -0500 (EST) Subject: |SUCCESS| pw158641 [PATCH] lib/ring: do not allow zero size ring From: dpdklab@iol.unh.edu To: Test Report Cc: dpdk-test-reports@iol.unh.edu In-Reply-To: <20251110222827.575488-1-iboukris@gmail.com> References: <20251110222827.575488-1-iboukris@gmail.com> Content-Type: text/plain X-BeenThere: test-report@dpdk.org X-Mailman-Version: 2.1.29 Precedence: list List-Id: automatic DPDK test reports List-Unsubscribe: , List-Archive: List-Post: List-Help: List-Subscribe: , Errors-To: test-report-bounces@dpdk.org Test-Label: iol-compile-arm64-testing Test-Status: SUCCESS http://dpdk.org/patch/158641 _Testing PASS_ Submitter: Isaac Boukris Date: Monday, November 10 2025 22:28:27 DPDK git baseline: Repo:dpdk Branch: master CommitID:660bde60e43c309ba4b58371e2ac3690593bda0b 158641 --> testing pass Upstream job id: Generic-DPDK-Compile-Meson#442731 Test environment and result as below: +------------------------------+--------------------+ | Environment | dpdk_meson_compile | +==============================+====================+ | Red Hat Enterprise Linux 9.5 | PASS | +------------------------------+--------------------+ | Ubuntu 20.04 | PASS | +------------------------------+--------------------+ | Debian GNU/Linux 12 | PASS | +------------------------------+--------------------+ | Fedora Linux 42 | PASS | +------------------------------+--------------------+ | Ubuntu 22.04 | PASS | +------------------------------+--------------------+ | Ubuntu 24.04 | PASS | +------------------------------+--------------------+ | CentOS Stream 9 | PASS | +------------------------------+--------------------+ | CentOS Stream 10 | PASS | +------------------------------+--------------------+ Red Hat Enterprise Linux 9.5 Kernel: 5.4 Compiler: gcc gcc (GCC) 11.5.0 20240719 (Red Hat 11.5.0-2) Ubuntu 20.04 Kernel: 5.15 Compiler: aarch64-linux-gnu-gcc gcc (Ubuntu 9.4.0-1ubuntu1~20.04.2) 9.4.0 Debian GNU/Linux 12 Kernel: 5.4 Compiler: gcc gcc (Debian 12.2.0-14+deb12u1) 12.2.0 Fedora Linux 42 Kernel: 5.4 Compiler: gcc gcc (GCC) 15.2.1 20250808 (Red Hat 15.2.1-1) Ubuntu 22.04 Kernel: 5.4 Compiler: gcc gcc (Ubuntu 11.4.0-1ubuntu1~22.04) 11.4.0 Ubuntu 24.04 Kernel: 5.4 Compiler: gcc gcc (Ubuntu 13.3.0-6ubuntu2~24.04) 13.3.0 CentOS Stream 9 Kernel: 5.4 Compiler: gcc gcc (GCC) 11.5.0 20240719 (Red Hat 11.5.0-11) CentOS Stream 10 Kernel: 5.4 Compiler: gcc gcc (GCC) 14.2.1 20250110 (Red Hat 14.2.1-8) To view detailed results, visit: https://lab.dpdk.org/results/dashboard/patchsets/34525/ UNH-IOL DPDK Community Lab To manage your email subscriptions, visit: https://lab.dpdk.org/results/dashboard/preferences/subscriptions/