From mboxrd@z Thu Jan 1 00:00:00 1970 Return-Path: Received: from mails.dpdk.org (mails.dpdk.org [217.70.189.124]) by inbox.dpdk.org (Postfix) with ESMTP id 4DA2A48AD5 for ; Tue, 11 Nov 2025 04:12:07 +0100 (CET) Received: from mails.dpdk.org (localhost [127.0.0.1]) by mails.dpdk.org (Postfix) with ESMTP id 49CE14026A; Tue, 11 Nov 2025 04:12:07 +0100 (CET) Received: from mail-qv1-f100.google.com (mail-qv1-f100.google.com [209.85.219.100]) by mails.dpdk.org (Postfix) with ESMTP id 391FE4026A for ; Tue, 11 Nov 2025 04:12:06 +0100 (CET) Received: by mail-qv1-f100.google.com with SMTP id 6a1803df08f44-882379c0b14so25507116d6.1 for ; Mon, 10 Nov 2025 19:12:06 -0800 (PST) DKIM-Signature: v=1; a=rsa-sha256; c=relaxed/relaxed; d=iol.unh.edu; s=unh-iol; t=1762830725; x=1763435525; darn=dpdk.org; h=references:in-reply-to:cc:to:from:subject:message-id:date:from:to :cc:subject:date:message-id:reply-to; bh=cwr9D3JqJA1wV1vVHtnenY34kHVOuV8mkxPVrj+oX3o=; b=OtgFSLk9YIblTBvehNDUEidqi5N0aVnk1v+dlaCgNQKd0c/ZTkRmPNn3v2+e4x8FzS uCM9NC0az8u4QJkL5jNIiMYlzzpBNM7fQCEihJP1LgjqyF0BTfpGYRMRWPKBtQBeTpwY xoXQEuS6UiS3nmNuHp7ytrOd0F7fCaJmnCDBY= X-Google-DKIM-Signature: v=1; a=rsa-sha256; c=relaxed/relaxed; d=1e100.net; s=20230601; t=1762830725; x=1763435525; h=references:in-reply-to:cc:to:from:subject:message-id:date:x-gm-gg :x-gm-message-state:from:to:cc:subject:date:message-id:reply-to; bh=cwr9D3JqJA1wV1vVHtnenY34kHVOuV8mkxPVrj+oX3o=; b=f8IlO403HUOmR7U0+EmvpLjmmMoAMLlaKfZtolNHNu3GohnuSYYf0hMUenLlkVwPzO MrLHmZxjN7T15tspfbbcJ7oB6pLzzQNvnLUEtvGdaPcsybcarJ5GLzT24zIowwJ7xTcB /y9gfyys9BS5thCRv1mactc6SVe7GnoSCsiGR41fCJo83VkFRBOiiQPjmJamRn44alTk enDx+hlAXeONyn1Gz3zWrD2FIT0BgFyQjqLVu8z3igH5WHe/PmY21MFD5cUxUgvhpk5m kJY95jVKtPQc7scAG30sPBHfatVION6LCm+tQUDBvurB0ie8NHwzdiUD9Xpp15WeGoWr V4Rw== X-Gm-Message-State: AOJu0Yyr7bZF83m78ncFXyVO88+NyJZ2R+XSereiVRNWIQ/P1Mxqyold HKJ5trTsxPymDvVzF3hXFyG0xMlApOIJssj8EckZ2Zw9huBN7KxGof0rKBoYaT2/UWlxTmRrE/t IB41M6hrUEzWQJI5cxVaQBP7nvwqKAvMNVqhkSHaEb+OLi0khBnP3MJwWT1Mb X-Gm-Gg: ASbGncvRYoXhMFEPmsVZgIBK0ZsycwlVaFxxnp1Tdh2Xe2rCSZ1o/XCSZMCkwz2egVp Fd+bLIKLqdVQhY6SxDs6MeH+2xEHnk6ZIcedEwewrtC922+13TDU7CttNDok+lG9RVOp8VDM1Cb pPWUEQGDYKKIKfAl7rPrR0LZKKz9IhQDqepxQTmk5EZY58gJhrdkUVJJkK/px8YAM0JPA2U0bnv 25MXPqYa2OaWPuliaWBq6dZqSOTn34a/cmnJ4kgGsVm8yQbymKi+ZvmHNdbsTva0Btkl9fPctNP q5g5kNeXVm1CKzNvaOArJIvW7/sXiaHLDSV5vtG+uG90n/LyouNGTngTbS5mikBKHNFFc1/HoSg ougFVOtP2 X-Google-Smtp-Source: AGHT+IHOFKnz6tA2E58jQ71Euq//Tpp1JPodXeTsIVqw6UEOTLHpi/hlofGMCfDdMm+LlhdhrjvWjppTzuyX X-Received: by 2002:a05:6214:5c89:b0:882:3c67:6c91 with SMTP id 6a1803df08f44-8823c676ef8mr113178936d6.39.1762830725542; Mon, 10 Nov 2025 19:12:05 -0800 (PST) Received: from postal.iol.unh.edu (postal.iol.unh.edu. [2606:4100:3880:1234::84]) by smtp-relay.gmail.com with ESMTPS id 6a1803df08f44-88238b8393esm10468526d6.32.2025.11.10.19.12.05 (version=TLS1_2 cipher=ECDHE-ECDSA-AES128-GCM-SHA256 bits=128/128); Mon, 10 Nov 2025 19:12:05 -0800 (PST) X-Relaying-Domain: iol.unh.edu Date: Mon, 10 Nov 2025 19:12:05 -0800 (PST) Message-ID: <6912a985.050a0220.3971cd.51acSMTPIN_ADDED_MISSING@mx.google.com> Received: from [172.21.0.2] (unknown [172.18.0.240]) by postal.iol.unh.edu (Postfix) with ESMTP id 2EA3760003E8; Mon, 10 Nov 2025 22:12:05 -0500 (EST) Subject: |SUCCESS| pw158642 [PATCH] [v2] lib/ring: do not allow zero size rin From: dpdklab@iol.unh.edu To: Test Report Cc: dpdk-test-reports@iol.unh.edu In-Reply-To: <20251110231546.576516-1-iboukris@gmail.com> References: <20251110231546.576516-1-iboukris@gmail.com> Content-Type: text/plain X-BeenThere: test-report@dpdk.org X-Mailman-Version: 2.1.29 Precedence: list List-Id: automatic DPDK test reports List-Unsubscribe: , List-Archive: List-Post: List-Help: List-Subscribe: , Errors-To: test-report-bounces@dpdk.org Test-Label: iol-unit-amd64-testing Test-Status: SUCCESS http://dpdk.org/patch/158642 _Testing PASS_ Submitter: Isaac Boukris Date: Monday, November 10 2025 23:15:45 DPDK git baseline: Repo:dpdk Branch: master CommitID:0cacbcd9e9595c1392629e151403b348917a2d50 158642 --> testing pass Upstream job id: Generic-Unit-Test-DPDK#390770 Test environment and result as below: +-------------------------------+----------------+ | Environment | dpdk_unit_test | +===============================+================+ | CentOS Stream 10 | PASS | +-------------------------------+----------------+ | Ubuntu 22.04 | PASS | +-------------------------------+----------------+ | CentOS Stream 9 | PASS | +-------------------------------+----------------+ | Debian GNU/Linux 12 | PASS | +-------------------------------+----------------+ | Fedora Linux 40 | PASS | +-------------------------------+----------------+ | Red Hat Enterprise Linux 8.10 | PASS | +-------------------------------+----------------+ | Ubuntu 24.04 | PASS | +-------------------------------+----------------+ | Ubuntu 20.04 | PASS | +-------------------------------+----------------+ | Red Hat Enterprise Linux 9.5 | PASS | +-------------------------------+----------------+ | Fedora Linux 42 | PASS | +-------------------------------+----------------+ | Fedora Linux 41 | PASS | +-------------------------------+----------------+ CentOS Stream 10 Kernel: 5.15 Compiler: gcc gcc (GCC) 14.2.1 20250110 (Red Hat 14.2.1-8) Ubuntu 22.04 Kernel: 5.15 Compiler: gcc gcc (Ubuntu 11.4.0-1ubuntu1~22.04) 11.4.0 CentOS Stream 9 Kernel: 5.15 Compiler: gcc gcc (GCC) 11.5.0 20240719 (Red Hat 11.5.0-11) Debian GNU/Linux 12 Kernel: 5.15 Compiler: gcc gcc (Debian 12.2.0-14+deb12u1) 12.2.0 Fedora Linux 40 Kernel: 5.15 Compiler: clang gcc (GCC) 14.2.1 20240912 (Red Hat 14.2.1-3) Red Hat Enterprise Linux 8.10 Kernel: 5.15 Compiler: gcc gcc (GCC) 8.5.0 20210514 (Red Hat 8.5.0-22) Ubuntu 24.04 Kernel: 5.15 Compiler: gcc gcc (Ubuntu 13.3.0-6ubuntu2~24.04) 13.3.0 Ubuntu 20.04 Kernel: 5.15 Compiler: gcc gcc (Ubuntu 9.4.0-1ubuntu1~20.04.2) 9.4.0 Red Hat Enterprise Linux 9.5 Kernel: 5.15 Compiler: gcc gcc (GCC) 11.5.0 20240719 (Red Hat 11.5.0-2) Fedora Linux 42 Kernel: 5.15 Compiler: clang gcc (GCC) 15.2.1 20250808 (Red Hat 15.2.1-1) Fedora Linux 41 Kernel: 5.15 Compiler: gcc gcc (GCC) 14.3.1 20250523 (Red Hat 14.3.1-1) To view detailed results, visit: https://lab.dpdk.org/results/dashboard/patchsets/34526/ UNH-IOL DPDK Community Lab To manage your email subscriptions, visit: https://lab.dpdk.org/results/dashboard/preferences/subscriptions/