From mboxrd@z Thu Jan 1 00:00:00 1970 Return-Path: Received: from mails.dpdk.org (mails.dpdk.org [217.70.189.124]) by inbox.dpdk.org (Postfix) with ESMTP id BB75048AD5 for ; Tue, 11 Nov 2025 04:14:23 +0100 (CET) Received: from mails.dpdk.org (localhost [127.0.0.1]) by mails.dpdk.org (Postfix) with ESMTP id 8153F4026A; Tue, 11 Nov 2025 04:14:23 +0100 (CET) Received: from mail-pf1-f227.google.com (mail-pf1-f227.google.com [209.85.210.227]) by mails.dpdk.org (Postfix) with ESMTP id 7414B4026A for ; Tue, 11 Nov 2025 04:14:22 +0100 (CET) Received: by mail-pf1-f227.google.com with SMTP id d2e1a72fcca58-79af647cef2so3100555b3a.3 for ; Mon, 10 Nov 2025 19:14:22 -0800 (PST) DKIM-Signature: v=1; a=rsa-sha256; c=relaxed/relaxed; d=iol.unh.edu; s=unh-iol; t=1762830861; x=1763435661; darn=dpdk.org; h=references:in-reply-to:cc:to:from:subject:message-id:date:from:to :cc:subject:date:message-id:reply-to; bh=E/3gcsbRF/siFX4GQwKZXapFh+SFM8wcQ+rsXdCIlrw=; b=ELoGyM22U0G8mvs5SW19grDsL+gD2HyYUaLPusXBYFK5+7zKXhD2b7cE7tEmWJqjfr bNcii4YjgyQOoSUobclIIzYVJqjtddW9Mbo6XafhzUO+Rv72wGeyU8MQWsBazygD9lDa eZ7i6YcpVSkwo7JHtNHMf9oaun7XZLr7xBYZU= X-Google-DKIM-Signature: v=1; a=rsa-sha256; c=relaxed/relaxed; d=1e100.net; s=20230601; t=1762830861; x=1763435661; h=references:in-reply-to:cc:to:from:subject:message-id:date:x-gm-gg :x-gm-message-state:from:to:cc:subject:date:message-id:reply-to; bh=E/3gcsbRF/siFX4GQwKZXapFh+SFM8wcQ+rsXdCIlrw=; b=ISNpYhRzXwuQI3SALBWK9EFigJfLqkOrJAO/sbsw9YNIktDhtE3SOM4bwR4w+fdvTd EFhKYIH9M/tl9838Soi/hYrAZOFmgw6XGWtHYqfYHfnPKMNmNmNGFS6jPE5MYNsOhrGE Vb/V/6odKLq8/6aTK28EYrOqxM4Fe8vy7rMIt4uMbq+3x6ovluwzawSvdMkkocDWX3o2 0JI1b6I3JExxwgjoHSOEoWyQ9k7bB8iJK1s+bimNfMdw3vr6cHD1m+NAoVQ82ElL9vng 0oflKg7ApZ7goFYxrwt6EGDWdRe5lRiZXN/WZg0wfDJ9yvOiiLaF1u5Zd6nZulru2ymM C+Kw== X-Gm-Message-State: AOJu0YxUrv9Dg5G/3SOJJp4SQbyKpqjk3FvC7vbdkamnkw6EIvd+Fwvy Pa7QkTjjhgDx2awx2z6/uOx3eSJJZ7hqcv2flOPszcctnZdCEcxROk6p4tB1tE4ZC1Zk2gEPL+n PfcWabjBIO07TKvdYOoxudBsmiifFUuS4HBpskifKB5Bw X-Gm-Gg: ASbGnctuG5xfLPJVuZ1u93NM/inlmnR7u7ak63MqohQDVs1MUwo02YUkqbrdklqWpoo EPmGX5u9t26jcTJCYhk87yaEE65sngVGQxow1VkqDlIzfofeJAGIDhbTclv9FEwTpBmM/suFKrH 2hecSv4okTc5YLNLJMZDxCmf538gV8fDHS+ZjWOfwkcUcdwVaIJXH1u5R49fJIqU4NcxvrpgovG 9ymaXrwrgfGRcnVUyNRuobk4GenY2uPSGoKuAcrM/boZfkp1vGlc7WdjK6P/kpzTDT5bziKQ0lV IiOV2BVOzpSG/WNbvBbbesD+g+tT04pQysv2Ry4pWiK2/6bXhTkd9MSxg59CVMFFdV7wzI0RVSf 824c/POlUdaSnBRoMZpFBUvOoGylwlWE= X-Google-Smtp-Source: AGHT+IG+UJvwf38jKy/swbFfB4JC6L4PZ1Z9kml7XJRD3BrlKEyex6bB51QBj0WTWTw100uz9qnkQr/mD+76 X-Received: by 2002:a05:6a00:124d:b0:7a9:c21a:559a with SMTP id d2e1a72fcca58-7b225b57733mr13196092b3a.8.1762830861519; Mon, 10 Nov 2025 19:14:21 -0800 (PST) Received: from postal.iol.unh.edu (postal.iol.unh.edu. [132.177.123.84]) by smtp-relay.gmail.com with ESMTPS id d2e1a72fcca58-7b0cc573cf4sm1143453b3a.8.2025.11.10.19.14.21 (version=TLS1_2 cipher=ECDHE-ECDSA-AES128-GCM-SHA256 bits=128/128); Mon, 10 Nov 2025 19:14:21 -0800 (PST) X-Relaying-Domain: iol.unh.edu Date: Mon, 10 Nov 2025 19:14:21 -0800 (PST) Message-ID: <6912aa0d.050a0220.2efb49.cfc3SMTPIN_ADDED_MISSING@mx.google.com> Received: from [172.21.0.2] (unknown [172.18.0.240]) by postal.iol.unh.edu (Postfix) with ESMTP id B156960003E8; Mon, 10 Nov 2025 22:14:20 -0500 (EST) Subject: |SUCCESS| pw158642 [PATCH] [v2] lib/ring: do not allow zero size rin From: dpdklab@iol.unh.edu To: Test Report Cc: dpdk-test-reports@iol.unh.edu In-Reply-To: <20251110231546.576516-1-iboukris@gmail.com> References: <20251110231546.576516-1-iboukris@gmail.com> Content-Type: text/plain X-BeenThere: test-report@dpdk.org X-Mailman-Version: 2.1.29 Precedence: list List-Id: automatic DPDK test reports List-Unsubscribe: , List-Archive: List-Post: List-Help: List-Subscribe: , Errors-To: test-report-bounces@dpdk.org Test-Label: iol-compile-amd64-testing Test-Status: SUCCESS http://dpdk.org/patch/158642 _Testing PASS_ Submitter: Isaac Boukris Date: Monday, November 10 2025 23:15:45 DPDK git baseline: Repo:dpdk Branch: master CommitID:0cacbcd9e9595c1392629e151403b348917a2d50 158642 --> testing pass Upstream job id: Generic-DPDK-Compile-Meson#442757 Test environment and result as below: +-------------------------------+--------------------+------------------+ | Environment | dpdk_meson_compile | dpdk_compile_ovs | +===============================+====================+==================+ | Ubuntu 20.04 | PASS | SKIPPED | +-------------------------------+--------------------+------------------+ | CentOS Stream 9 | PASS | SKIPPED | +-------------------------------+--------------------+------------------+ | FreeBSD 14.2 | PASS | SKIPPED | +-------------------------------+--------------------+------------------+ | Fedora Linux 42 | PASS | PASS | +-------------------------------+--------------------+------------------+ | openSUSE Leap 15.6 | PASS | SKIPPED | +-------------------------------+--------------------+------------------+ | Debian GNU/Linux 12 | PASS | SKIPPED | +-------------------------------+--------------------+------------------+ | Red Hat Enterprise Linux 9.5 | PASS | SKIPPED | +-------------------------------+--------------------+------------------+ | Red Hat Enterprise Linux 8.10 | PASS | SKIPPED | +-------------------------------+--------------------+------------------+ | Ubuntu 24.04 | PASS | PASS | +-------------------------------+--------------------+------------------+ | CentOS Stream 10 | PASS | SKIPPED | +-------------------------------+--------------------+------------------+ | Alpine Linux 3.22.0 | PASS | SKIPPED | +-------------------------------+--------------------+------------------+ | Ubuntu 22.04 | PASS | SKIPPED | +-------------------------------+--------------------+------------------+ Ubuntu 20.04 Kernel: 5.15 Compiler: gcc gcc (Ubuntu 9.4.0-1ubuntu1~20.04.2) 9.4.0 CentOS Stream 9 Kernel: 5.15 Compiler: gcc gcc (GCC) 11.5.0 20240719 (Red Hat 11.5.0-11) FreeBSD 14.2 Kernel: 14.2-RELEASE Compiler: clang 18.1.6 Fedora Linux 42 Kernel: 5.15 Compiler: gcc gcc (GCC) 15.2.1 20250808 (Red Hat 15.2.1-1) openSUSE Leap 15.6 Kernel: 5.15 Compiler: gcc gcc (SUSE Linux) 7.5.0 Debian GNU/Linux 12 Kernel: 5.15 Compiler: gcc gcc (Debian 12.2.0-14+deb12u1) 12.2.0 Red Hat Enterprise Linux 9.5 Kernel: 5.15 Compiler: gcc gcc (GCC) 11.5.0 20240719 (Red Hat 11.5.0-2) Red Hat Enterprise Linux 8.10 Kernel: 5.15 Compiler: gcc gcc (GCC) 8.5.0 20210514 (Red Hat 8.5.0-22) Ubuntu 24.04 Kernel: 5.15 Compiler: gcc gcc (Ubuntu 13.3.0-6ubuntu2~24.04) 13.3.0 CentOS Stream 10 Kernel: 5.15 Compiler: gcc gcc (GCC) 14.2.1 20250110 (Red Hat 14.2.1-8) Alpine Linux 3.22.0 Kernel: 5.15 Compiler: gcc gcc (Alpine 14.2.0) 14.2.0 Ubuntu 22.04 Kernel: 5.15 Compiler: gcc gcc (Ubuntu 11.4.0-1ubuntu1~22.04) 11.4.0 To view detailed results, visit: https://lab.dpdk.org/results/dashboard/patchsets/34526/ UNH-IOL DPDK Community Lab To manage your email subscriptions, visit: https://lab.dpdk.org/results/dashboard/preferences/subscriptions/