From mboxrd@z Thu Jan 1 00:00:00 1970 Return-Path: Received: from mails.dpdk.org (mails.dpdk.org [217.70.189.124]) by inbox.dpdk.org (Postfix) with ESMTP id 786CD48AD6 for ; Tue, 11 Nov 2025 06:55:32 +0100 (CET) Received: from mails.dpdk.org (localhost [127.0.0.1]) by mails.dpdk.org (Postfix) with ESMTP id 729C34026A; Tue, 11 Nov 2025 06:55:32 +0100 (CET) Received: from mail-pf1-f228.google.com (mail-pf1-f228.google.com [209.85.210.228]) by mails.dpdk.org (Postfix) with ESMTP id D1F984026A for ; Tue, 11 Nov 2025 06:55:30 +0100 (CET) Received: by mail-pf1-f228.google.com with SMTP id d2e1a72fcca58-7b18c6cc278so3871973b3a.0 for ; Mon, 10 Nov 2025 21:55:30 -0800 (PST) DKIM-Signature: v=1; a=rsa-sha256; c=relaxed/relaxed; d=iol.unh.edu; s=unh-iol; t=1762840530; x=1763445330; darn=dpdk.org; h=cc:to:from:subject:message-id:date:from:to:cc:subject:date :message-id:reply-to; bh=ycKBfNHtqHLlQPjorhJ1vknz9IYQkg0iypH80R7NUQ8=; b=bzbhXf/KIPx9coGKXdRlsbMkNKBgRbgLHcQL8DSlj6+1Eeyl7LQ9j5x3B0xiygBlhT YuRD+conlbNooB0oISMlToyrr9h9HwhBgqwq65XCud7c2F+OL3CAJJ6NiLvKke14EYse c2+ufVsuqhaM+MF03n5CkYfbPKdvOWWzh/bYI= X-Google-DKIM-Signature: v=1; a=rsa-sha256; c=relaxed/relaxed; d=1e100.net; s=20230601; t=1762840530; x=1763445330; h=cc:to:from:subject:message-id:date:x-gm-gg:x-gm-message-state:from :to:cc:subject:date:message-id:reply-to; bh=ycKBfNHtqHLlQPjorhJ1vknz9IYQkg0iypH80R7NUQ8=; b=xQJ93TBNmOA/lY+ESFN51QcZVWFzBwz//r+gbntvGmYhTbwAfaVsI4Ukdcpearmsj0 W2spTp0pSH6Mcwsa2/HqN+Gt3980SIKj1Waz0hM5gZ99TNBxp54kK37Fq88wQ2+VnyGb aPO9ptcJklV7X5rfrD6NPiOkpi4lvlvbREBsqP+4n6F2TkBaSr09d96Em9/FpnMZSZKi 5dtjk2Qh4Y2nVYKVs8yjLu9xsh+dOYrCbnWWLVEimG1nFlo71ZFJSlZy7C8TzPbkNLHq 3UFoTLTzjL+Ub1c6nKPzdMCGm38D6q+WUvrw7IFiJ+EfPHyR7hWsr/bwwwt50AV5bk93 zhhQ== X-Gm-Message-State: AOJu0Yzpnk73267U8FPdYdtbJiDIWzjm1XPxpCNwEYb/G3dR0ppHU3l6 a53Ub5h9dMuWWBmanII4FVBt/miLGeKg3ZI0unq+pMsVzPfM6UlMFFOpn6mkUhJaER3948ZZg4f WldYSH5BQ3xXxMfDcwsAZU3/FdSitMq6VZCSjJcRqk2jPJSPfeJ9o X-Gm-Gg: ASbGncsvT67xcInHqcMR1xWR5N01ceQUMNfy9ykRcOng2cIgJF3pWzbKQ3aZ6Sjsj4J odFYXIrJmdDpWYGbd3c4HpQs0Aycfq3BiIvtSHf3SnyeIrTvK0J4NtbbtJKe/s2Xc2kYUFFX8G5 MVa6jjt8+9JiNqofqRmUggXUR0eHDE6wLjLtDyWPM4ydQweg6dw376DKVg7c3RKFc4W6kv083VN hee8LMpQbd9k4XwsIlt0yy27lzDiCV0uLw8JsxRIlejtb2wrmK9HjsPxMOU7jszmWHoMIPERsse 2n1oVD1Nu6cttynhlIq1O80kWIFNVEtYw+aYU3dsVi1WYXT8bW3ftOZZchABX5vGDjLVjnyE9Qm I5dUIGLQ9 X-Google-Smtp-Source: AGHT+IG1rlBmAueUnDkZnQhOS1bR2RpDwouswI/tMKACFMNKu3OP50I0dlfkp4bZP+O6G3zx+FUUTUgGsyWk X-Received: by 2002:a05:6a20:94c8:b0:33f:4e3d:b004 with SMTP id adf61e73a8af0-353a24f9c26mr12453742637.47.1762840529995; Mon, 10 Nov 2025 21:55:29 -0800 (PST) Received: from postal.iol.unh.edu (postal.iol.unh.edu. [2606:4100:3880:1234::84]) by smtp-relay.gmail.com with ESMTPS id 41be03b00d2f7-ba8f612b778sm841088a12.4.2025.11.10.21.55.29 (version=TLS1_2 cipher=ECDHE-ECDSA-AES128-GCM-SHA256 bits=128/128); Mon, 10 Nov 2025 21:55:29 -0800 (PST) X-Relaying-Domain: iol.unh.edu Date: Mon, 10 Nov 2025 21:55:29 -0800 (PST) Message-ID: <6912cfd1.050a0220.1fefc1.b873SMTPIN_ADDED_MISSING@mx.google.com> Received: from [172.21.0.2] (unknown [172.18.0.240]) by postal.iol.unh.edu (Postfix) with ESMTP id 44AC66051830; Tue, 11 Nov 2025 00:55:29 -0500 (EST) Subject: |SUCCESS| [GIT MASTER] 9784db2c5af1eecd02fc21132b59b5b266039b87 From: dpdklab@iol.unh.edu To: Test Report Cc: dpdk-test-reports@iol.unh.edu, Xueming Li , Christian Ehrhardt , Kevin Traynor , Luca Boccassi Content-Type: text/plain X-BeenThere: test-report@dpdk.org X-Mailman-Version: 2.1.29 Precedence: list List-Id: automatic DPDK test reports List-Unsubscribe: , List-Archive: List-Post: List-Help: List-Subscribe: , Errors-To: test-report-bounces@dpdk.org _Testing PASS_ Branch: tags/v22.11 9784db2c5af1eecd02fc21132b59b5b266039b87 --> testing pass Upstream job id: Generic-Unit-Test-DPDK#390802 Test environment and result as below: +-----------------+--------------+------------------------------+---------------------------+----------------+ | Environment | lpm_autotest | cryptodev_sw_snow3g_autotest | cryptodev_sw_zuc_autotest | dpdk_unit_test | +=================+==============+==============================+===========================+================+ | Ubuntu 20.04 | PASS | SKIPPED | SKIPPED | SKIPPED | +-----------------+--------------+------------------------------+---------------------------+----------------+ | Debian 12 (arm) | SKIPPED | PASS | PASS | SKIPPED | +-----------------+--------------+------------------------------+---------------------------+----------------+ | Ubuntu 22.04 | SKIPPED | SKIPPED | SKIPPED | PASS | +-----------------+--------------+------------------------------+---------------------------+----------------+ Ubuntu 20.04 Kernel: 5.4 Compiler: gcc gcc (Ubuntu 9.4.0-1ubuntu1~20.04.2) 9.4.0 Debian 12 (arm) Kernel: Depends on container host Compiler: gcc (Debian 12.2.0-14) 12.2.0 Ubuntu 22.04 Kernel: 5.15 Compiler: gcc gcc (Ubuntu 11.4.0-1ubuntu1~22.04.2) 11.4.0 To view detailed results, visit: https://lab.dpdk.org/results/dashboard/tarballs/35531/ UNH-IOL DPDK Community Lab To manage your email subscriptions, visit: https://lab.dpdk.org/results/dashboard/preferences/subscriptions/