From mboxrd@z Thu Jan 1 00:00:00 1970 Return-Path: Received: from mails.dpdk.org (mails.dpdk.org [217.70.189.124]) by inbox.dpdk.org (Postfix) with ESMTP id 213A948AD6 for ; Tue, 11 Nov 2025 07:01:47 +0100 (CET) Received: from mails.dpdk.org (localhost [127.0.0.1]) by mails.dpdk.org (Postfix) with ESMTP id 0B3574026A; Tue, 11 Nov 2025 07:01:47 +0100 (CET) Received: from mail-pf1-f228.google.com (mail-pf1-f228.google.com [209.85.210.228]) by mails.dpdk.org (Postfix) with ESMTP id 3AF1C4026A for ; Tue, 11 Nov 2025 07:01:46 +0100 (CET) Received: by mail-pf1-f228.google.com with SMTP id d2e1a72fcca58-7b4933bc4bbso432628b3a.1 for ; Mon, 10 Nov 2025 22:01:46 -0800 (PST) DKIM-Signature: v=1; a=rsa-sha256; c=relaxed/relaxed; d=iol.unh.edu; s=unh-iol; t=1762840905; x=1763445705; darn=dpdk.org; h=cc:to:from:subject:message-id:date:from:to:cc:subject:date :message-id:reply-to; bh=GmD88PRq/azEMDmwLAL3/rz/xaQgu73OQ53FOtUcVtU=; b=VQ9qw9tMMZSafjoGiIWVtLhkX0rKs/en1t7QwDOSoe0c+YPyohQ6nU/QhXv3w3XB3V CheY4P212GFyRpEwAMcIMVSvE3nn9hv6yatKhIoTbgGQU2ECENDXlI+yELN/8BapTc3H U/wOLbV3LLtpSErzVFhRwI3Tsf3/ENvtDVoY4= X-Google-DKIM-Signature: v=1; a=rsa-sha256; c=relaxed/relaxed; d=1e100.net; s=20230601; t=1762840905; x=1763445705; h=cc:to:from:subject:message-id:date:x-gm-gg:x-gm-message-state:from :to:cc:subject:date:message-id:reply-to; bh=GmD88PRq/azEMDmwLAL3/rz/xaQgu73OQ53FOtUcVtU=; b=DcQLVMrnGodpL9tGA606+NQKzhEqSHU8JWQ+KbwWhTim2p/2ZHQJ6s8lcmhXnIQQDD HFVwH6zvE9r/A2us5RXrSinuB9sjneFI8L0hn45LKsYhn8wTkbKdGoJVitre/+vm4/ie 1W08Q5+YzCquTGX6TW79DNSXiACUjWrJtZqmefUtMGV6A92aLnhUOOCGJGLQAY3xjgK9 FyWJpbODOdiZzeYxRngRqOTBUmOpY5SzEgHH1Ro0SwI/76/8TKABCE4gVo0eKbEahMgj JW2FfXl8IfZO8W2qkMEFdpKraGqh4nynQxPq7woRwyW21RICsL1/efagEPBarr50pjpO 03hw== X-Gm-Message-State: AOJu0YxDkaYZ0CgfT06lw5L5pl1qPaL1tfYwAmoA06KsSNBAALXGRkoG pJE2S0DQADEAG0P7HXT0FGVgMuj6v5SUQqATMC1xB7i16E74lasftwZRraNfZHUzB8AkbrNqUfX cw5TIO0w7DSuFfwJJhweLQ6tsTnD5Rz/fF3XXfJCvxXqEskPJs+cs X-Gm-Gg: ASbGncueACXBNjGAuEFNozBhv23ftSYIn4+zvZ7NlLA+TREJvgKD+82mFV5MJmxfodC 7xjkAom/w8Wc2CpxqOFRScZtQHk6+0CT62fImmvVzue7SJkA3ISbww7mTPUdmicynbYSTY6SQgy enHYeKfrX/hgAgveRjUP4jbczOAnxtraF4QSB0XQfEMLYdQVhzak8phnfpEpqWX7T+YAASWl3sH 7yvJzPnP3+hRML5avDG9BoYefS1qhTwfrNqwVdWDB1DOIA3QnHD2MN1o3I0Sa/qKaJ1GIMlge/Q J3F1D/khEJ0W1o9Y7TVBqPMOYL7fuGcw5QwvUOLlqL9tbha/boEmWUgk2rMJ/kuyYBD2iSavI6a 9h/RJ2KDa X-Google-Smtp-Source: AGHT+IEso2NBbeXUKmsm+1CPHbE8D54tuBzwJv64GmeTm+XCHT++9JZ9di7Ef0RtJnLGsivsmwUcR8rAE2pO X-Received: by 2002:a05:6a20:6a25:b0:33d:7c17:deb4 with SMTP id adf61e73a8af0-3579b19c1fdmr3206249637.18.1762840905247; Mon, 10 Nov 2025 22:01:45 -0800 (PST) Received: from postal.iol.unh.edu (postal.iol.unh.edu. [2606:4100:3880:1234::84]) by smtp-relay.gmail.com with ESMTPS id d2e1a72fcca58-7b0cca5c3e2sm1223242b3a.9.2025.11.10.22.01.45 (version=TLS1_2 cipher=ECDHE-ECDSA-AES128-GCM-SHA256 bits=128/128); Mon, 10 Nov 2025 22:01:45 -0800 (PST) X-Relaying-Domain: iol.unh.edu Date: Mon, 10 Nov 2025 22:01:45 -0800 (PST) Message-ID: <6912d149.050a0220.3a6a0d.fabdSMTPIN_ADDED_MISSING@mx.google.com> Received: from [172.21.0.3] (unknown [172.18.0.240]) by postal.iol.unh.edu (Postfix) with ESMTP id 85A2D6051830; Tue, 11 Nov 2025 01:01:44 -0500 (EST) Subject: |SUCCESS| [GIT MASTER] 0bd935abcb823f581ce53986986aa54eaf6f8140 From: dpdklab@iol.unh.edu To: Test Report Cc: dpdk-test-reports@iol.unh.edu, Xueming Li , Christian Ehrhardt , Kevin Traynor , Luca Boccassi Content-Type: text/plain X-BeenThere: test-report@dpdk.org X-Mailman-Version: 2.1.29 Precedence: list List-Id: automatic DPDK test reports List-Unsubscribe: , List-Archive: List-Post: List-Help: List-Subscribe: , Errors-To: test-report-bounces@dpdk.org _Testing PASS_ Branch: tags/v24.11 0bd935abcb823f581ce53986986aa54eaf6f8140 --> testing pass Upstream job id: Generic-DPDK-Compile-Meson#442803 Test environment and result as below: +-------------------------------+--------------------+------------------+ | Environment | dpdk_meson_compile | dpdk_compile_ovs | +===============================+====================+==================+ | CentOS Stream 10 | PASS | SKIPPED | +-------------------------------+--------------------+------------------+ | CentOS Stream 9 | PASS | SKIPPED | +-------------------------------+--------------------+------------------+ | Fedora Linux 42 | PASS | PASS | +-------------------------------+--------------------+------------------+ | Debian GNU/Linux 12 | PASS | SKIPPED | +-------------------------------+--------------------+------------------+ | Ubuntu 20.04 | PASS | SKIPPED | +-------------------------------+--------------------+------------------+ | Ubuntu 22.04 | PASS | SKIPPED | +-------------------------------+--------------------+------------------+ | Red Hat Enterprise Linux 8.10 | PASS | SKIPPED | +-------------------------------+--------------------+------------------+ | Ubuntu 24.04 | PASS | PASS | +-------------------------------+--------------------+------------------+ | Alpine Linux 3.22.0 | PASS | SKIPPED | +-------------------------------+--------------------+------------------+ | Red Hat Enterprise Linux 9.5 | PASS | SKIPPED | +-------------------------------+--------------------+------------------+ | openSUSE Leap 15.6 | PASS | SKIPPED | +-------------------------------+--------------------+------------------+ | FreeBSD 14.2 | PASS | SKIPPED | +-------------------------------+--------------------+------------------+ CentOS Stream 10 Kernel: 5.15 Compiler: gcc gcc (GCC) 14.2.1 20250110 (Red Hat 14.2.1-8) CentOS Stream 9 Kernel: 5.15 Compiler: gcc gcc (GCC) 11.5.0 20240719 (Red Hat 11.5.0-11) Fedora Linux 42 Kernel: 5.15 Compiler: clang gcc (GCC) 15.2.1 20250808 (Red Hat 15.2.1-1) Debian GNU/Linux 12 Kernel: 5.15 Compiler: gcc gcc (Debian 12.2.0-14+deb12u1) 12.2.0 Ubuntu 20.04 Kernel: 5.15 Compiler: gcc gcc (Ubuntu 9.4.0-1ubuntu1~20.04.2) 9.4.0 Ubuntu 22.04 Kernel: 5.15 Compiler: gcc gcc (Ubuntu 11.4.0-1ubuntu1~22.04) 11.4.0 Red Hat Enterprise Linux 8.10 Kernel: 5.15 Compiler: gcc gcc (GCC) 8.5.0 20210514 (Red Hat 8.5.0-22) Ubuntu 24.04 Kernel: 5.15 Compiler: gcc gcc (Ubuntu 13.3.0-6ubuntu2~24.04) 13.3.0 Alpine Linux 3.22.0 Kernel: 5.15 Compiler: gcc gcc (Alpine 14.2.0) 14.2.0 Red Hat Enterprise Linux 9.5 Kernel: 5.15 Compiler: gcc gcc (GCC) 11.5.0 20240719 (Red Hat 11.5.0-2) openSUSE Leap 15.6 Kernel: 5.15 Compiler: gcc gcc (SUSE Linux) 7.5.0 FreeBSD 14.2 Kernel: 14.2-RELEASE Compiler: clang 18.1.6 To view detailed results, visit: https://lab.dpdk.org/results/dashboard/tarballs/35533/ UNH-IOL DPDK Community Lab To manage your email subscriptions, visit: https://lab.dpdk.org/results/dashboard/preferences/subscriptions/