From mboxrd@z Thu Jan 1 00:00:00 1970 Return-Path: Received: from mails.dpdk.org (mails.dpdk.org [217.70.189.124]) by inbox.dpdk.org (Postfix) with ESMTP id 28F2C48AD6 for ; Tue, 11 Nov 2025 07:02:34 +0100 (CET) Received: from mails.dpdk.org (localhost [127.0.0.1]) by mails.dpdk.org (Postfix) with ESMTP id 247D64026A; Tue, 11 Nov 2025 07:02:34 +0100 (CET) Received: from mail-io1-f98.google.com (mail-io1-f98.google.com [209.85.166.98]) by mails.dpdk.org (Postfix) with ESMTP id 4431E4026A for ; Tue, 11 Nov 2025 07:02:33 +0100 (CET) Received: by mail-io1-f98.google.com with SMTP id ca18e2360f4ac-93e9b5bafa5so134330839f.3 for ; Mon, 10 Nov 2025 22:02:33 -0800 (PST) DKIM-Signature: v=1; a=rsa-sha256; c=relaxed/relaxed; d=iol.unh.edu; s=unh-iol; t=1762840952; x=1763445752; darn=dpdk.org; h=references:in-reply-to:cc:to:from:subject:message-id:date:from:to :cc:subject:date:message-id:reply-to; bh=PsYJkeUQGy66geuL23+5LemknzpYmebvkVJgItZs/ZU=; b=a5z7uMJmDO2UOU2GEgxFVV+odxFJE7Gg6PzeiUWuZmNWiqzafgLRh0B2lCRcZyyQuz ogCaa5VJUsatzyRnS+owbkaBlEqdZkKP4+dZl1/dogh4P81XzIJe3dHmwPb8nFh9OR3H iHEAnNSwKf3j62+fuNX8VZYCjaEHvsQIxJvw8= X-Google-DKIM-Signature: v=1; a=rsa-sha256; c=relaxed/relaxed; d=1e100.net; s=20230601; t=1762840952; x=1763445752; h=references:in-reply-to:cc:to:from:subject:message-id:date:x-gm-gg :x-gm-message-state:from:to:cc:subject:date:message-id:reply-to; bh=PsYJkeUQGy66geuL23+5LemknzpYmebvkVJgItZs/ZU=; b=mX0zxu3umgHTSwL/3NGXMgkjd8300KAsjpXVCRQ3aJj/307BNZ1w7pzT7h1QmxwpDU /8SaOJgnb/CNwCsG3SrSC8SsGSibWkqXJMjT9RRHwauRLyejPAGiCbMYQu5ui3DsGDDp 2VY2XLNtrglna8SQNzMBAKrZqOHE11XUrYYfMGUVrFQISgIGS2SF1blPg1fPrXpam5G/ 11saRKVYiUmC2Rse24+JZxwmk/uysqPau92uDKDNaKq6r4A2wbQv3x1ffWNuNNcqdSKH MUI+Gep08rrcT2X3XK7eJoY1Eg5w9qlryNlvY6SnPtMN1qMQKf6vCxfXD7PwCHuqX6Qn RiNw== X-Gm-Message-State: AOJu0YwjR4F2mr7oZ2B8M8757xA6dlMQL6FVnhBZVrdpp8sdvCOUAepi RWuh6ru8h9tZ0IBo8I+Ud+1T4S9yZrm5D2+nHi6Pbcth68j2jgK5BP82T5JCcwzhR1zv//5uziE 5HlkwuCmZFZdN2CPXszUpTKGX1w/gCceWdoo23oUujsAP X-Gm-Gg: ASbGncvp+esDEh5DJkP8qhDOmo1eXN8fky/GJW9arM5tdw5Gc7KqE613z5OKCw1fhBK UNmLzTsEwKxFxgMUrhFvYPjHRb5jnB9XQsn9cdrU8UVgm/9LMVQQaWToZxUb09K19J3tHGkjRNy M28917cBBtHoKt+kaUD+/tAcY5SO9DVUZP8KpkYAiCShKpla7dXqRPb9nnAEl5PfrOSIbo6R9WK mYntk99dVpqGu1rjueGMUJEaavtb+gs3cX+cAy7lcg7OyHridG/tRHyn+rCaiwcB3a60ikhsqra +xhmfhLSrzsuUnxxzkcScw43kx2XSyT/r2VN2/BtsRNejFGm0LpcH+FwnS5wINGkd2L3S2W4jCl 3HJAY47eoZklh9UWuvxLO0NRgeNMT8sg= X-Google-Smtp-Source: AGHT+IFtUr4Y4/eeT6P/KQlZwoBj+BpjdmRxIJoXAcHvAZZ6K2VWpCFmcgxPRNvzzl02PBy4ulYPW/c3m0sY X-Received: by 2002:a05:6602:640d:b0:945:a7ce:646c with SMTP id ca18e2360f4ac-94895ff2b5cmr1487014639f.10.1762840952537; Mon, 10 Nov 2025 22:02:32 -0800 (PST) Received: from postal.iol.unh.edu (postal.iol.unh.edu. [132.177.123.84]) by smtp-relay.gmail.com with ESMTPS id 8926c6da1cb9f-5b746872796sm1787872173.22.2025.11.10.22.02.32 (version=TLS1_2 cipher=ECDHE-ECDSA-AES128-GCM-SHA256 bits=128/128); Mon, 10 Nov 2025 22:02:32 -0800 (PST) X-Relaying-Domain: iol.unh.edu Date: Mon, 10 Nov 2025 22:02:32 -0800 (PST) Message-ID: <6912d178.050a0220.65ce7.cc5aSMTPIN_ADDED_MISSING@mx.google.com> Received: from [172.21.0.2] (unknown [172.18.0.240]) by postal.iol.unh.edu (Postfix) with ESMTP id 19C736051830; Tue, 11 Nov 2025 01:02:32 -0500 (EST) Subject: |SUCCESS| pw158642 [PATCH] [v2] lib/ring: do not allow zero size rin From: dpdklab@iol.unh.edu To: Test Report Cc: dpdk-test-reports@iol.unh.edu In-Reply-To: <20251110231546.576516-1-iboukris@gmail.com> References: <20251110231546.576516-1-iboukris@gmail.com> Content-Type: text/plain X-BeenThere: test-report@dpdk.org X-Mailman-Version: 2.1.29 Precedence: list List-Id: automatic DPDK test reports List-Unsubscribe: , List-Archive: List-Post: List-Help: List-Subscribe: , Errors-To: test-report-bounces@dpdk.org Test-Label: iol-compile-arm64-testing Test-Status: SUCCESS http://dpdk.org/patch/158642 _Testing PASS_ Submitter: Isaac Boukris Date: Monday, November 10 2025 23:15:45 DPDK git baseline: Repo:dpdk Branch: master CommitID:0cacbcd9e9595c1392629e151403b348917a2d50 158642 --> testing pass Upstream job id: Generic-DPDK-Compile-Meson#442745 Test environment and result as below: +------------------------------+--------------------+ | Environment | dpdk_meson_compile | +==============================+====================+ | CentOS Stream 9 | PASS | +------------------------------+--------------------+ | CentOS Stream 10 | PASS | +------------------------------+--------------------+ | Debian GNU/Linux 12 | PASS | +------------------------------+--------------------+ | Ubuntu 20.04 | PASS | +------------------------------+--------------------+ | Red Hat Enterprise Linux 9.5 | PASS | +------------------------------+--------------------+ | Fedora Linux 42 | PASS | +------------------------------+--------------------+ | Ubuntu 24.04 | PASS | +------------------------------+--------------------+ | Ubuntu 22.04 | PASS | +------------------------------+--------------------+ CentOS Stream 9 Kernel: 5.4 Compiler: gcc gcc (GCC) 11.5.0 20240719 (Red Hat 11.5.0-11) CentOS Stream 10 Kernel: 5.4 Compiler: gcc gcc (GCC) 14.2.1 20250110 (Red Hat 14.2.1-8) Debian GNU/Linux 12 Kernel: 5.4 Compiler: gcc gcc (Debian 12.2.0-14+deb12u1) 12.2.0 Ubuntu 20.04 Kernel: 5.15 Compiler: aarch64-linux-gnu-gcc gcc (Ubuntu 9.4.0-1ubuntu1~20.04.2) 9.4.0 Red Hat Enterprise Linux 9.5 Kernel: 5.4 Compiler: gcc gcc (GCC) 11.5.0 20240719 (Red Hat 11.5.0-2) Fedora Linux 42 Kernel: 5.4 Compiler: gcc gcc (GCC) 15.2.1 20250808 (Red Hat 15.2.1-1) Ubuntu 24.04 Kernel: 5.4 Compiler: gcc gcc (Ubuntu 13.3.0-6ubuntu2~24.04) 13.3.0 Ubuntu 22.04 Kernel: 5.4 Compiler: gcc gcc (Ubuntu 11.4.0-1ubuntu1~22.04) 11.4.0 To view detailed results, visit: https://lab.dpdk.org/results/dashboard/patchsets/34526/ UNH-IOL DPDK Community Lab To manage your email subscriptions, visit: https://lab.dpdk.org/results/dashboard/preferences/subscriptions/