From mboxrd@z Thu Jan 1 00:00:00 1970 Return-Path: Received: from mails.dpdk.org (mails.dpdk.org [217.70.189.124]) by inbox.dpdk.org (Postfix) with ESMTP id 2E05E48AD6 for ; Tue, 11 Nov 2025 07:27:41 +0100 (CET) Received: from mails.dpdk.org (localhost [127.0.0.1]) by mails.dpdk.org (Postfix) with ESMTP id 119134026A; Tue, 11 Nov 2025 07:27:41 +0100 (CET) Received: from mail-io1-f97.google.com (mail-io1-f97.google.com [209.85.166.97]) by mails.dpdk.org (Postfix) with ESMTP id B5EE64026A for ; Tue, 11 Nov 2025 07:27:39 +0100 (CET) Received: by mail-io1-f97.google.com with SMTP id ca18e2360f4ac-9486696aafeso352774439f.3 for ; Mon, 10 Nov 2025 22:27:39 -0800 (PST) DKIM-Signature: v=1; a=rsa-sha256; c=relaxed/relaxed; d=iol.unh.edu; s=unh-iol; t=1762842459; x=1763447259; darn=dpdk.org; h=cc:to:from:subject:message-id:date:from:to:cc:subject:date :message-id:reply-to; bh=CXXvep4M/cbHZFLCek/Pz6gz2BUQH6IKrM6+h3rlG4c=; b=fVLx8S0RuuMBigWCwQRXqSVslbkWn7BMRc83Ln761d3i27ThL43SVNcewAhQQ2BLsO BiMfLB/In253LDaOKdglbq+8an9hcX+pe8Yq5LfA5T/HwNVvZF0XfhqLPopstDiSMAHe XeRQi54ht8qsgWfl7ylFqFUksxwT/mK+4sT48= X-Google-DKIM-Signature: v=1; a=rsa-sha256; c=relaxed/relaxed; d=1e100.net; s=20230601; t=1762842459; x=1763447259; h=cc:to:from:subject:message-id:date:x-gm-gg:x-gm-message-state:from :to:cc:subject:date:message-id:reply-to; bh=CXXvep4M/cbHZFLCek/Pz6gz2BUQH6IKrM6+h3rlG4c=; b=uzO2Ov/NbNW7oe5jxTOBR3l1Mzdp1tT/VPSJ1NCm4MEGkIkaWWSZ2hXUnHrLkuj16b 9+K9ecAvnwkI08o5LxtI0/fntEn1NhGXB5Jjf2/ftR8PsAo1aYDBwa/dg3KHNaxGghv4 mtA/fegABKtvofJU+c+eu53joHZTpQSckWX0FHBJleJ3mamISewNjQMg03BP2fyA14lx rXJSni3c/qOglbTERIN2ZVRFSG75dBiSMgZ5ENJ9uykjaG42TKuACRwd4qbBr4ho3vf4 jdg9HxJVyN9KPezwuy8HkmxY5yhMjy+iVUKGTmosuFl1B4lPq+ZqrRR2WuWsvVOigXwT PurA== X-Gm-Message-State: AOJu0YwLhyk31cOfoBwvoxNVWRciFW/Xj/aItbMpbX5JRKNKmVNu0YcG xp/yPMMpY10edGWClCYq0NKbQi2ZmC7ZQgIcszKufBeNEjCUTfq6JL3ZGXkRBGqOrOmXaiBPw21 xw0oHyLm6aWdAVSwle3iFGvdmmcWTytSxSrTANf7HnKG6LBvkvmWM X-Gm-Gg: ASbGncsjFF2YcH4cPEcUZshojg1JtV1dn4qhYFGxQiM64vC97pCjGSgxGnZDuZW/Li9 xnOG5GLJRh3PLMc4mZJo0IMhaeRoW7EclDy1PMtcFbZGUx3GWdZIoXaao9BLUdjGVmRZ/aG7VNR lcFXSa2QpjEXBEkVzHpoB4nuDt19jHGV1OeLzRiUtp9AnzgioKLVcKyWrn/ssbH+9Ttwe1qG47w CozXqxXq/mVVqd59bCjg+dI8R1+O8NpAGxiXCHWo357u8/39JtzjpfUaU/ej44p9RHJBsxBqXSv YcWrWZQbGt7W40zSjm1Pp9eL/dQEw1GcUwj3OUBFWQj6Zq+zA9dmlVsHV8VBeCIP0dvqyekDMrl Cxc6xO8cQ X-Google-Smtp-Source: AGHT+IF+kv8FZchJXBpmdyUNoKxKMbE2/J4hxp7BNws4NE8V3azsV+sZPBIJ+Iwu3btLts8dIYdLNDwy4Zea X-Received: by 2002:a05:6602:26d3:b0:948:7821:b4e3 with SMTP id ca18e2360f4ac-94895fd13c3mr1507815139f.10.1762842458953; Mon, 10 Nov 2025 22:27:38 -0800 (PST) Received: from postal.iol.unh.edu (postal.iol.unh.edu. [2606:4100:3880:1234::84]) by smtp-relay.gmail.com with ESMTPS id ca18e2360f4ac-94888b07a53sm70021039f.2.2025.11.10.22.27.38 (version=TLS1_2 cipher=ECDHE-ECDSA-AES128-GCM-SHA256 bits=128/128); Mon, 10 Nov 2025 22:27:38 -0800 (PST) X-Relaying-Domain: iol.unh.edu Date: Mon, 10 Nov 2025 22:27:38 -0800 (PST) Message-ID: <6912d75a.050a0220.127767.3ab0SMTPIN_ADDED_MISSING@mx.google.com> Received: from [172.21.0.2] (unknown [172.18.0.240]) by postal.iol.unh.edu (Postfix) with ESMTP id 818CE6051830; Tue, 11 Nov 2025 01:27:38 -0500 (EST) Subject: |SUCCESS| [GIT MASTER] 9784db2c5af1eecd02fc21132b59b5b266039b87 From: dpdklab@iol.unh.edu To: Test Report Cc: dpdk-test-reports@iol.unh.edu, Xueming Li , Christian Ehrhardt , Kevin Traynor , Luca Boccassi Content-Type: text/plain X-BeenThere: test-report@dpdk.org X-Mailman-Version: 2.1.29 Precedence: list List-Id: automatic DPDK test reports List-Unsubscribe: , List-Archive: List-Post: List-Help: List-Subscribe: , Errors-To: test-report-bounces@dpdk.org _Testing PASS_ Branch: tags/v22.11 9784db2c5af1eecd02fc21132b59b5b266039b87 --> testing pass Upstream job id: Generic-DPDK-Compile-Meson#442781 Test environment and result as below: +-------------------------------+--------------------+ | Environment | dpdk_meson_compile | +===============================+====================+ | FreeBSD 14.2 | PASS | +-------------------------------+--------------------+ | Ubuntu 20.04 | PASS | +-------------------------------+--------------------+ | Fedora Linux 42 | PASS | +-------------------------------+--------------------+ | Ubuntu 24.04 | PASS | +-------------------------------+--------------------+ | CentOS Stream 10 | PASS | +-------------------------------+--------------------+ | Debian GNU/Linux 12 | PASS | +-------------------------------+--------------------+ | CentOS Stream 9 | PASS | +-------------------------------+--------------------+ | Red Hat Enterprise Linux 9.5 | PASS | +-------------------------------+--------------------+ | Red Hat Enterprise Linux 8.10 | PASS | +-------------------------------+--------------------+ | openSUSE Leap 15.6 | PASS | +-------------------------------+--------------------+ | Ubuntu 22.04 | PASS | +-------------------------------+--------------------+ FreeBSD 14.2 Kernel: 14.2-RELEASE Compiler: clang 18.1.6 Ubuntu 20.04 Kernel: 4.19 Compiler: gcc gcc (Ubuntu 9.4.0-1ubuntu1~20.04.2) 9.4.0 Fedora Linux 42 Kernel: 5.15 Compiler: gcc gcc (GCC) 15.2.1 20250808 (Red Hat 15.2.1-1) Ubuntu 24.04 Kernel: 5.15 Compiler: gcc gcc (Ubuntu 13.3.0-6ubuntu2~24.04) 13.3.0 CentOS Stream 10 Kernel: 5.15 Compiler: gcc gcc (GCC) 14.2.1 20250110 (Red Hat 14.2.1-8) Debian GNU/Linux 12 Kernel: 5.15 Compiler: gcc gcc (Debian 12.2.0-14+deb12u1) 12.2.0 CentOS Stream 9 Kernel: 5.15 Compiler: gcc gcc (GCC) 11.5.0 20240719 (Red Hat 11.5.0-11) Red Hat Enterprise Linux 9.5 Kernel: 5.15 Compiler: gcc gcc (GCC) 11.5.0 20240719 (Red Hat 11.5.0-2) Red Hat Enterprise Linux 8.10 Kernel: 5.15 Compiler: gcc gcc (GCC) 8.5.0 20210514 (Red Hat 8.5.0-22) openSUSE Leap 15.6 Kernel: 5.15 Compiler: gcc gcc (SUSE Linux) 7.5.0 Ubuntu 22.04 Kernel: 5.15 Compiler: gcc gcc (Ubuntu 11.4.0-1ubuntu1~22.04) 11.4.0 To view detailed results, visit: https://lab.dpdk.org/results/dashboard/tarballs/35531/ UNH-IOL DPDK Community Lab To manage your email subscriptions, visit: https://lab.dpdk.org/results/dashboard/preferences/subscriptions/