From mboxrd@z Thu Jan 1 00:00:00 1970 Return-Path: Received: from mails.dpdk.org (mails.dpdk.org [217.70.189.124]) by inbox.dpdk.org (Postfix) with ESMTP id 4068A48AD6 for ; Tue, 11 Nov 2025 07:48:05 +0100 (CET) Received: from mails.dpdk.org (localhost [127.0.0.1]) by mails.dpdk.org (Postfix) with ESMTP id 39C404026A; Tue, 11 Nov 2025 07:48:05 +0100 (CET) Received: from mail-yx1-f100.google.com (mail-yx1-f100.google.com [74.125.224.100]) by mails.dpdk.org (Postfix) with ESMTP id 77CAA4026D for ; Tue, 11 Nov 2025 07:48:03 +0100 (CET) Received: by mail-yx1-f100.google.com with SMTP id 956f58d0204a3-640d0895d7cso761937d50.1 for ; Mon, 10 Nov 2025 22:48:03 -0800 (PST) DKIM-Signature: v=1; a=rsa-sha256; c=relaxed/relaxed; d=iol.unh.edu; s=unh-iol; t=1762843683; x=1763448483; darn=dpdk.org; h=cc:to:from:subject:message-id:date:from:to:cc:subject:date :message-id:reply-to; bh=l3x5A19XVqvkzhU1aOnKrvknY8yegO8jrbILvgJNd0M=; b=Vvslz8ez3KQbMPQirRP1is3bNRD4+b6esEA8H9cp4NKLKF96xw7UUOZVOm+owXmn/6 uCzyXqVvolEaRnQNeSyi+yDknJg/4X0a1VMwIj5Ib5xX3J6ErSkvXFo1G9qsCbMELSXc E24OTEVoUzhB9eK7OlBN1J/ikXF7qX1jV57NM= X-Google-DKIM-Signature: v=1; a=rsa-sha256; c=relaxed/relaxed; d=1e100.net; s=20230601; t=1762843683; x=1763448483; h=cc:to:from:subject:message-id:date:x-gm-gg:x-gm-message-state:from :to:cc:subject:date:message-id:reply-to; bh=l3x5A19XVqvkzhU1aOnKrvknY8yegO8jrbILvgJNd0M=; b=EJp3/Wbn56iJQcbnnl+DM/1aokYYSzErgx6zOTswZdWsw+FxO/e/6MWEtqY76ipoJB 3q4EHFFsRP3fevzj/xdJgKfLE0FoonEQtco46vlnPul1SB0gjQOx2EhGczgwqQoii0yM YurRRnrFNQ5ghtw9c8jeIrcoht4XFKlg7IQHNdj6YEggkmXzfLxcXdLqc/2b9KeartX6 ZSRLL5oxDD2/TrAO9vnq49cJtluGJGSM35AmSA0Dk2bRJTznnEjAsL3bGedY3tSKOIDM /Bu1ueBvbbnIF+NEaWYjtwAXco/nm2iKYWJK0cNx0BaMEn5H0GU0DicCxYHS0QM62WDm mRwQ== X-Gm-Message-State: AOJu0YxWT9qK7xVOgq5jsv382Wu/fxIlsLTRq2QxsTx/iwrP07PotNUT D0fgtbKOfOItcizIThD+9v0vYud1AdGwHDzGKXt38feYHfxotoGUKQHSQ/fdGjAbFYd4w+JmBLx nj4ygcOVxhs42iI6SPmKCc+05tnt8sM0LJcqo X-Gm-Gg: ASbGncsUa0ZByxfjF21Rs1uMjizw+WxfUlzE7snLmOFa90aFQXJmI3JzQK3UtarIqkT thGg0odgxNeOfyAxcICze5UjnXJuYU5vst2VKUYhavDzfg7v5WpbbBybr4nLK3nvXwQij12l9ie a6YPmFBQVfEUU1NPAb9ziAMMiD20pUEdRSJPZ9M3RfNTx2HbJQRzr4aYrvuIfZPg48RIEmmxypq Nb3u0LvKZ9qmSVfAPMq9d7gl6l62bI5hOCQmoatkPFPhkPUNloBUkEoETwYj/yBYT0ASAazXVFw 0ckwvaRFDJ/ji0oTSwkojxPBD5KmU4aNVvbbelg/R4jLKH3xr+f5uVQ+Ovg9DBJHfQTKaVqIOkW dtd2vLaMktwN/eCikPotWbruRUnALL+Y= X-Google-Smtp-Source: AGHT+IGCRcplI5758KbXEftE/tn/fB7IvOcZy4hEKCG4pyouz1wEZ7ZO1lXV5fs2frpTv9pCk3YJNHuJ5Tfk X-Received: by 2002:a05:690e:2404:b0:63f:a6e9:4048 with SMTP id 956f58d0204a3-640f743d197mr1233297d50.26.1762843682717; Mon, 10 Nov 2025 22:48:02 -0800 (PST) Received: from postal.iol.unh.edu (postal.iol.unh.edu. [132.177.123.84]) by smtp-relay.gmail.com with ESMTPS id 956f58d0204a3-640b5c910c8sm1000753d50.2.2025.11.10.22.48.02 (version=TLS1_2 cipher=ECDHE-ECDSA-AES128-GCM-SHA256 bits=128/128); Mon, 10 Nov 2025 22:48:02 -0800 (PST) X-Relaying-Domain: iol.unh.edu Date: Mon, 10 Nov 2025 22:48:02 -0800 (PST) Message-ID: <6912dc22.530a0220.18918f.39b6SMTPIN_ADDED_MISSING@mx.google.com> Received: from [172.21.0.2] (unknown [172.18.0.240]) by postal.iol.unh.edu (Postfix) with ESMTP id 58D0760003E8; Tue, 11 Nov 2025 01:48:02 -0500 (EST) Subject: |SUCCESS| [GIT MASTER] 0bd935abcb823f581ce53986986aa54eaf6f8140 From: dpdklab@iol.unh.edu To: Test Report Cc: dpdk-test-reports@iol.unh.edu, Xueming Li , Christian Ehrhardt , Kevin Traynor , Luca Boccassi Content-Type: text/plain X-BeenThere: test-report@dpdk.org X-Mailman-Version: 2.1.29 Precedence: list List-Id: automatic DPDK test reports List-Unsubscribe: , List-Archive: List-Post: List-Help: List-Subscribe: , Errors-To: test-report-bounces@dpdk.org _Testing PASS_ Branch: tags/v24.11 0bd935abcb823f581ce53986986aa54eaf6f8140 --> testing pass Upstream job id: Generic-Unit-Test-DPDK#390815 Test environment and result as below: +-------------------------------+----------------+ | Environment | dpdk_unit_test | +===============================+================+ | Ubuntu 22.04 | PASS | +-------------------------------+----------------+ | Fedora Linux 40 | PASS | +-------------------------------+----------------+ | Red Hat Enterprise Linux 8.10 | PASS | +-------------------------------+----------------+ | Ubuntu 24.04 | PASS | +-------------------------------+----------------+ | Fedora Linux 42 | PASS | +-------------------------------+----------------+ | CentOS Stream 9 | PASS | +-------------------------------+----------------+ | CentOS Stream 10 | PASS | +-------------------------------+----------------+ | Fedora Linux 41 | PASS | +-------------------------------+----------------+ | Red Hat Enterprise Linux 9.5 | PASS | +-------------------------------+----------------+ | Debian GNU/Linux 12 | PASS | +-------------------------------+----------------+ | Ubuntu 20.04 | PASS | +-------------------------------+----------------+ Ubuntu 22.04 Kernel: 5.15 Compiler: gcc gcc (Ubuntu 11.4.0-1ubuntu1~22.04) 11.4.0 Fedora Linux 40 Kernel: 5.15 Compiler: gcc gcc (GCC) 14.2.1 20240912 (Red Hat 14.2.1-3) Red Hat Enterprise Linux 8.10 Kernel: 5.15 Compiler: gcc gcc (GCC) 8.5.0 20210514 (Red Hat 8.5.0-22) Ubuntu 24.04 Kernel: 5.15 Compiler: gcc gcc (Ubuntu 13.3.0-6ubuntu2~24.04) 13.3.0 Fedora Linux 42 Kernel: 5.15 Compiler: clang gcc (GCC) 15.2.1 20250808 (Red Hat 15.2.1-1) CentOS Stream 9 Kernel: 5.15 Compiler: gcc gcc (GCC) 11.5.0 20240719 (Red Hat 11.5.0-11) CentOS Stream 10 Kernel: 5.15 Compiler: gcc gcc (GCC) 14.2.1 20250110 (Red Hat 14.2.1-8) Fedora Linux 41 Kernel: 5.15 Compiler: gcc gcc (GCC) 14.3.1 20250523 (Red Hat 14.3.1-1) Red Hat Enterprise Linux 9.5 Kernel: 5.15 Compiler: gcc gcc (GCC) 11.5.0 20240719 (Red Hat 11.5.0-2) Debian GNU/Linux 12 Kernel: 5.15 Compiler: gcc gcc (Debian 12.2.0-14+deb12u1) 12.2.0 Ubuntu 20.04 Kernel: 5.15 Compiler: gcc gcc (Ubuntu 9.4.0-1ubuntu1~20.04.2) 9.4.0 To view detailed results, visit: https://lab.dpdk.org/results/dashboard/tarballs/35533/ UNH-IOL DPDK Community Lab To manage your email subscriptions, visit: https://lab.dpdk.org/results/dashboard/preferences/subscriptions/