From mboxrd@z Thu Jan 1 00:00:00 1970 Return-Path: Received: from mails.dpdk.org (mails.dpdk.org [217.70.189.124]) by inbox.dpdk.org (Postfix) with ESMTP id 47AE448AD6 for ; Tue, 11 Nov 2025 07:56:39 +0100 (CET) Received: from mails.dpdk.org (localhost [127.0.0.1]) by mails.dpdk.org (Postfix) with ESMTP id 428B34026A; Tue, 11 Nov 2025 07:56:39 +0100 (CET) Received: from mail-pj1-f99.google.com (mail-pj1-f99.google.com [209.85.216.99]) by mails.dpdk.org (Postfix) with ESMTP id E84654026A for ; Tue, 11 Nov 2025 07:56:37 +0100 (CET) Received: by mail-pj1-f99.google.com with SMTP id 98e67ed59e1d1-3437af844afso2348870a91.0 for ; Mon, 10 Nov 2025 22:56:37 -0800 (PST) DKIM-Signature: v=1; a=rsa-sha256; c=relaxed/relaxed; d=iol.unh.edu; s=unh-iol; t=1762844197; x=1763448997; darn=dpdk.org; h=cc:to:from:subject:message-id:date:from:to:cc:subject:date :message-id:reply-to; bh=GZcA+zaQAquvyX0e0UAQhMZK2RlTyRJDPdfh/UfQ7j4=; b=PbrHKwKYldN601PE5ljXhSm2wnD72hol/AAXTNcl5R1N8dhtDOsp6F7OP1S3RmvDZV al3DcTaZjBYEOqpkZgZ9AGeAmiJ8ereJ4XfyVaqu6K5gGceLUu9gwLfYeE09s9CriyZl lhae2O4i/NKx/ciV7FO+aFmff1XGdRC9N/EOg= X-Google-DKIM-Signature: v=1; a=rsa-sha256; c=relaxed/relaxed; d=1e100.net; s=20230601; t=1762844197; x=1763448997; h=cc:to:from:subject:message-id:date:x-gm-gg:x-gm-message-state:from :to:cc:subject:date:message-id:reply-to; bh=GZcA+zaQAquvyX0e0UAQhMZK2RlTyRJDPdfh/UfQ7j4=; b=vrtb8PedbdIfymT9DdcbL3xjbmfd6rhHbf873DorIftHRj0wt17UeswENIoY+QyRnV 5u506HRzWXP288ApuB3fH8tZrpl0i4VlMfS0qjl3wqdytTcFy8aSOQuodb80dlWiLf3w kQThvxyQa22SKeLKhmsGDAD2vK9U17+frUNfaHrR1qZG5f4tOhDxh7cgUvB6OxGJs2h/ CtqVe6hNZin5C18Oy+mRYwTvLJr0qTSR58mVM2XSk1sXP2kmKUGwNTWWqZ+wcLM3yhO2 Mxzmr4oS4vxDWxTz4px2BU3Fgx7g2abgjDVlVzvRM9VDbOxvkSi9UKmIz/gRvDl8QWMq 3iog== X-Gm-Message-State: AOJu0Yw2tggUbFfP3Xdhb8K2z8UDDPtKCIAStSImqBGxmeV7yzWynPEL aove7/iY1nl3Lz/P+kRrXL+0dalBJTpIR8cw/fko+D0ohTAN0ZjJUpGPIHTRXsDonJ0S/XO72JX mAQhWjAF3Qbtd5I+BK3t3PaR7AedZx083IVCvGNLcR5Yr/6U1vTqn X-Gm-Gg: ASbGncvZGKPxMmHELKmd4FjAIse9HufVBCW6DZevkbP9kPGWGIjCl07f7lNszOGzBxz A3G4Vt5A9NIrRycTNypv6Dxpkvdo/OCVJARt3KmkGaosnm5+CjsyJv634ARfO7NWczNlKrUbSgK 1wRGxvVP9et9kUJBRgumUE9jQjvHw3JnDYkzitr2Pykp9VWWJtqVfgQKRDCBzq3mIJGtWCeo67m gyfJ8C+LwK+XKs0bL1oZlVm+1M6k5y7/XmT1C9So9x5P7r9mHp0ujz6ofOitSg9P3pFn8seA6RF u7SkDMnm4t1NMtB525AGHxkzCL7NGRO5yUv2oMzipAJhoH+ub0XecaKUeoeKoiWrffvpWKfHZuR vjwkyn1mb X-Google-Smtp-Source: AGHT+IF4+YF30MxbVmpx4QbHjr+jWR5rSEy1sB9BQG65G48R48yrIHW3g5mPhgFOzp+56Hlr9rGOHjN3Vg8c X-Received: by 2002:a17:902:f707:b0:297:f09a:51db with SMTP id d9443c01a7336-297f09a5380mr120846435ad.15.1762844197056; Mon, 10 Nov 2025 22:56:37 -0800 (PST) Received: from postal.iol.unh.edu (postal.iol.unh.edu. [2606:4100:3880:1234::84]) by smtp-relay.gmail.com with ESMTPS id d9443c01a7336-298009d834asm8083805ad.16.2025.11.10.22.56.36 (version=TLS1_2 cipher=ECDHE-ECDSA-AES128-GCM-SHA256 bits=128/128); Mon, 10 Nov 2025 22:56:37 -0800 (PST) X-Relaying-Domain: iol.unh.edu Date: Mon, 10 Nov 2025 22:56:37 -0800 (PST) Message-ID: <6912de25.170a0220.2c7a58.a243SMTPIN_ADDED_MISSING@mx.google.com> Received: from [172.21.0.4] (unknown [172.18.0.240]) by postal.iol.unh.edu (Postfix) with ESMTP id 7D24F6051830; Tue, 11 Nov 2025 01:56:36 -0500 (EST) Subject: |SUCCESS| [GIT MASTER] 0bd935abcb823f581ce53986986aa54eaf6f8140 From: dpdklab@iol.unh.edu To: Test Report Cc: dpdk-test-reports@iol.unh.edu, Xueming Li , Christian Ehrhardt , Kevin Traynor , Luca Boccassi Content-Type: text/plain X-BeenThere: test-report@dpdk.org X-Mailman-Version: 2.1.29 Precedence: list List-Id: automatic DPDK test reports List-Unsubscribe: , List-Archive: List-Post: List-Help: List-Subscribe: , Errors-To: test-report-bounces@dpdk.org _Testing PASS_ Branch: tags/v24.11 0bd935abcb823f581ce53986986aa54eaf6f8140 --> testing pass Upstream job id: Generic-Unit-Test-DPDK#390822 Test environment and result as below: +------------------------------+----------------+---------------------------+--------------+------------------------------+ | Environment | dpdk_unit_test | cryptodev_sw_zuc_autotest | lpm_autotest | cryptodev_sw_snow3g_autotest | +==============================+================+===========================+==============+==============================+ | Debian GNU/Linux 12 | PASS | SKIPPED | SKIPPED | SKIPPED | +------------------------------+----------------+---------------------------+--------------+------------------------------+ | Ubuntu 24.04 | PASS | SKIPPED | SKIPPED | SKIPPED | +------------------------------+----------------+---------------------------+--------------+------------------------------+ | Ubuntu 20.04 | PASS | SKIPPED | PASS | SKIPPED | +------------------------------+----------------+---------------------------+--------------+------------------------------+ | Red Hat Enterprise Linux 9.5 | PASS | SKIPPED | SKIPPED | SKIPPED | +------------------------------+----------------+---------------------------+--------------+------------------------------+ | Fedora Linux 42 | PASS | SKIPPED | SKIPPED | SKIPPED | +------------------------------+----------------+---------------------------+--------------+------------------------------+ | CentOS Stream 9 | PASS | SKIPPED | SKIPPED | SKIPPED | +------------------------------+----------------+---------------------------+--------------+------------------------------+ | Fedora Linux 41 | PASS | SKIPPED | SKIPPED | SKIPPED | +------------------------------+----------------+---------------------------+--------------+------------------------------+ | Ubuntu 22.04 | PASS | SKIPPED | SKIPPED | SKIPPED | +------------------------------+----------------+---------------------------+--------------+------------------------------+ | Fedora Linux 40 | PASS | SKIPPED | SKIPPED | SKIPPED | +------------------------------+----------------+---------------------------+--------------+------------------------------+ | CentOS Stream 10 | PASS | SKIPPED | SKIPPED | SKIPPED | +------------------------------+----------------+---------------------------+--------------+------------------------------+ | Debian 12 (arm) | SKIPPED | PASS | SKIPPED | PASS | +------------------------------+----------------+---------------------------+--------------+------------------------------+ Debian GNU/Linux 12 Kernel: 5.4 Compiler: gcc gcc (Debian 12.2.0-14+deb12u1) 12.2.0 Ubuntu 24.04 Kernel: 5.4 Compiler: gcc gcc (Ubuntu 13.3.0-6ubuntu2~24.04) 13.3.0 Ubuntu 20.04 Kernel: 5.4 Compiler: gcc gcc (Ubuntu 9.4.0-1ubuntu1~20.04.2) 9.4.0 Red Hat Enterprise Linux 9.5 Kernel: 5.4 Compiler: gcc gcc (GCC) 11.5.0 20240719 (Red Hat 11.5.0-2) Fedora Linux 42 Kernel: 5.4 Compiler: gcc gcc (GCC) 15.2.1 20250808 (Red Hat 15.2.1-1) CentOS Stream 9 Kernel: 5.4 Compiler: gcc gcc (GCC) 11.5.0 20240719 (Red Hat 11.5.0-11) Fedora Linux 41 Kernel: 5.4 Compiler: clang gcc (GCC) 14.3.1 20250523 (Red Hat 14.3.1-1) Ubuntu 22.04 Kernel: 5.4 Compiler: gcc gcc (Ubuntu 11.4.0-1ubuntu1~22.04) 11.4.0 Fedora Linux 40 Kernel: 5.4 Compiler: clang gcc (GCC) 14.2.1 20240912 (Red Hat 14.2.1-3) CentOS Stream 10 Kernel: 5.4 Compiler: gcc gcc (GCC) 14.2.1 20250110 (Red Hat 14.2.1-8) Debian 12 (arm) Kernel: Depends on container host Compiler: gcc (Debian 12.2.0-14) 12.2.0 To view detailed results, visit: https://lab.dpdk.org/results/dashboard/tarballs/35533/ UNH-IOL DPDK Community Lab To manage your email subscriptions, visit: https://lab.dpdk.org/results/dashboard/preferences/subscriptions/