From mboxrd@z Thu Jan 1 00:00:00 1970 Return-Path: Received: from mails.dpdk.org (mails.dpdk.org [217.70.189.124]) by inbox.dpdk.org (Postfix) with ESMTP id A7F4E48AD8 for ; Tue, 11 Nov 2025 08:18:35 +0100 (CET) Received: from mails.dpdk.org (localhost [127.0.0.1]) by mails.dpdk.org (Postfix) with ESMTP id 8857C4026A; Tue, 11 Nov 2025 08:18:35 +0100 (CET) Received: from mail-vs1-f100.google.com (mail-vs1-f100.google.com [209.85.217.100]) by mails.dpdk.org (Postfix) with ESMTP id 843D74026A for ; Tue, 11 Nov 2025 08:18:34 +0100 (CET) Received: by mail-vs1-f100.google.com with SMTP id ada2fe7eead31-5dd83dec0b3so1304395137.0 for ; Mon, 10 Nov 2025 23:18:34 -0800 (PST) DKIM-Signature: v=1; a=rsa-sha256; c=relaxed/relaxed; d=iol.unh.edu; s=unh-iol; t=1762845513; x=1763450313; darn=dpdk.org; h=references:in-reply-to:cc:to:from:subject:message-id:date:from:to :cc:subject:date:message-id:reply-to; bh=NlFyUBCcgXCeTCOMOxlb7xoepAkqaXDXdfvT/hpeZG8=; b=hSB5ZUVbgXJNOIqpgtypfPdOnYa6mS6HNNG4uEG0eesEe5PRdvgMoXb50/M2MxgwIC FUk6rihoNI81cSeahoS+ysBYtGvYIHrZO8WIa0LFYrLNsYfSQjJhc+/W9njHfXz563Wz apGx974ln3WHgzZd1soPcnBJkKVjg+cE9pNv4= X-Google-DKIM-Signature: v=1; a=rsa-sha256; c=relaxed/relaxed; d=1e100.net; s=20230601; t=1762845513; x=1763450313; h=references:in-reply-to:cc:to:from:subject:message-id:date:x-gm-gg :x-gm-message-state:from:to:cc:subject:date:message-id:reply-to; bh=NlFyUBCcgXCeTCOMOxlb7xoepAkqaXDXdfvT/hpeZG8=; b=QXhQUFhRk7TMrR7b2ETZJ3VfCYQAU4SG2GAhVJVsO6fiKA0TigQKlLdvC7I0/iFLNJ O2k5Fii7vlAMUMP6enokLs52ZjzjKQSzZQxQvWAK/GbrL8lgVcNELiVlicn7U1xxdsg8 sIb7lTADzewBw0R3hYwcxh6wITDSJnXqSJL1MWwMyB/ffqBxt/QAkYz0ru/x5L+fR+n/ O7+05z24Otda5SJZbbfBin/fYaVl2fE+4V45eZjAvtLyrf7idSpHvRxBrK9MVVVj9P4/ kMY8COiQtep8qPF2+6yCFIL7Zlz4cv8Sa0uAItt/wvZNiB05uVixh1w7BTXp6bWg5zYe dXWg== X-Gm-Message-State: AOJu0Yx/+eHzDRqNAt63o6msubIm8mN4ONeoDD+3D5pYRgHXkF2ZhoAe E57Muurhu7wai0U9v7AZbTSqZrvuWFwKfnpltOIUDHH5dsXLuWXd1HNkcJ8DaFMq+xKrHIC93na i4GRVRuEQ9nzlngexDuIAZREl/kR9uRZjjJ2KI5ohAvew X-Gm-Gg: ASbGncvMSdSFShE4wudNiy2Y3SFpkFe3cUtOa0kQgJUhVHTydfaOXD+D/dicLpZ6acM HkKDxK/MJRxraG2lja/BtK66UHwT3Vp+6YjcKl2OKGRbX8Zb3gfh/Rzy/FOmPESXjdYYX2sp1+x AqvCRj/b0TNj8oiueAHqDGNKml0YQA1glZZvdOS010TP2OyhRAe9NXivMLp8yEKR8GhA2uH5NJf uLjAcPJIgxzD+IhO94UX2Y84/T2xJ3bgQomh75RAyP7kIP+b+FN950HaSgjkBLKHJqMpKSbhRbi xL4H13Ah/k6Ug6R5eQTpY7wF/miFQYhAO+sAC7cr1Bq7Urf54SYaoMGZxxMoFUeA/bJBApgAVmQ bcAUI/HzY3Nye/l85NEgREQr2sovBR7c= X-Google-Smtp-Source: AGHT+IEISo2Yfq0/cPINmduigV1kr0QWFwskeWk/DojOlArEW8lieottD9HrcWQ9A5N457PV2WVb3AfxoK4N X-Received: by 2002:a05:6102:41a8:b0:5db:a481:5639 with SMTP id ada2fe7eead31-5ddc471bc90mr3744619137.20.1762845513517; Mon, 10 Nov 2025 23:18:33 -0800 (PST) Received: from postal.iol.unh.edu (postal.iol.unh.edu. [132.177.123.84]) by smtp-relay.gmail.com with ESMTPS id ada2fe7eead31-5dda1d361ddsm1349569137.2.2025.11.10.23.18.33 (version=TLS1_2 cipher=ECDHE-ECDSA-AES128-GCM-SHA256 bits=128/128); Mon, 10 Nov 2025 23:18:33 -0800 (PST) X-Relaying-Domain: iol.unh.edu Date: Mon, 10 Nov 2025 23:18:33 -0800 (PST) Message-ID: <6912e349.050a0220.76024.4f83SMTPIN_ADDED_MISSING@mx.google.com> Received: from [172.21.0.2] (unknown [172.18.0.240]) by postal.iol.unh.edu (Postfix) with ESMTP id 3BA9C60003E8; Tue, 11 Nov 2025 02:18:33 -0500 (EST) Subject: |SUCCESS| pw158644 [PATCH] [v2] net/mlx5: fix spurious CPU wakeups c From: dpdklab@iol.unh.edu To: Test Report Cc: dpdk-test-reports@iol.unh.edu In-Reply-To: <20251111034057.3177641-1-sivaprasad.tummala@amd.com> References: <20251111034057.3177641-1-sivaprasad.tummala@amd.com> Content-Type: text/plain X-BeenThere: test-report@dpdk.org X-Mailman-Version: 2.1.29 Precedence: list List-Id: automatic DPDK test reports List-Unsubscribe: , List-Archive: List-Post: List-Help: List-Subscribe: , Errors-To: test-report-bounces@dpdk.org Test-Label: iol-unit-amd64-testing Test-Status: SUCCESS http://dpdk.org/patch/158644 _Testing PASS_ Submitter: Sivaprasad Tummala Date: Tuesday, November 11 2025 03:40:57 DPDK git baseline: Repo:dpdk-next-net-mlx Branch: master CommitID:9f99559f7b850add599b7cff247d8b4e28c9b71a 158644 --> testing pass Upstream job id: Generic-Unit-Test-DPDK#390873 Test environment and result as below: +-------------------------------+----------------+ | Environment | dpdk_unit_test | +===============================+================+ | Ubuntu 20.04 | PASS | +-------------------------------+----------------+ | Debian GNU/Linux 12 | PASS | +-------------------------------+----------------+ | Red Hat Enterprise Linux 9.5 | PASS | +-------------------------------+----------------+ | Fedora Linux 42 | PASS | +-------------------------------+----------------+ | Ubuntu 22.04 | PASS | +-------------------------------+----------------+ | Fedora Linux 40 | PASS | +-------------------------------+----------------+ | CentOS Stream 10 | PASS | +-------------------------------+----------------+ | CentOS Stream 9 | PASS | +-------------------------------+----------------+ | Ubuntu 24.04 | PASS | +-------------------------------+----------------+ | Fedora Linux 41 | PASS | +-------------------------------+----------------+ | Red Hat Enterprise Linux 8.10 | PASS | +-------------------------------+----------------+ Ubuntu 20.04 Kernel: 5.15 Compiler: gcc gcc (Ubuntu 9.4.0-1ubuntu1~20.04.2) 9.4.0 Debian GNU/Linux 12 Kernel: 5.15 Compiler: gcc gcc (Debian 12.2.0-14+deb12u1) 12.2.0 Red Hat Enterprise Linux 9.5 Kernel: 5.15 Compiler: gcc gcc (GCC) 11.5.0 20240719 (Red Hat 11.5.0-2) Fedora Linux 42 Kernel: 5.15 Compiler: clang gcc (GCC) 15.2.1 20250808 (Red Hat 15.2.1-1) Ubuntu 22.04 Kernel: 5.15 Compiler: gcc gcc (Ubuntu 11.4.0-1ubuntu1~22.04) 11.4.0 Fedora Linux 40 Kernel: 5.15 Compiler: gcc gcc (GCC) 14.2.1 20240912 (Red Hat 14.2.1-3) CentOS Stream 10 Kernel: 5.15 Compiler: gcc gcc (GCC) 14.2.1 20250110 (Red Hat 14.2.1-8) CentOS Stream 9 Kernel: 5.15 Compiler: gcc gcc (GCC) 11.5.0 20240719 (Red Hat 11.5.0-11) Ubuntu 24.04 Kernel: 5.15 Compiler: gcc gcc (Ubuntu 13.3.0-6ubuntu2~24.04) 13.3.0 Fedora Linux 41 Kernel: 5.15 Compiler: gcc gcc (GCC) 14.3.1 20250523 (Red Hat 14.3.1-1) Red Hat Enterprise Linux 8.10 Kernel: 5.15 Compiler: gcc gcc (GCC) 8.5.0 20210514 (Red Hat 8.5.0-22) To view detailed results, visit: https://lab.dpdk.org/results/dashboard/patchsets/34528/ UNH-IOL DPDK Community Lab To manage your email subscriptions, visit: https://lab.dpdk.org/results/dashboard/preferences/subscriptions/