From mboxrd@z Thu Jan 1 00:00:00 1970 Return-Path: Received: from mails.dpdk.org (mails.dpdk.org [217.70.189.124]) by inbox.dpdk.org (Postfix) with ESMTP id 823A348AD8 for ; Tue, 11 Nov 2025 08:38:13 +0100 (CET) Received: from mails.dpdk.org (localhost [127.0.0.1]) by mails.dpdk.org (Postfix) with ESMTP id 7580E4026A; Tue, 11 Nov 2025 08:38:13 +0100 (CET) Received: from mail-io1-f98.google.com (mail-io1-f98.google.com [209.85.166.98]) by mails.dpdk.org (Postfix) with ESMTP id EE1B44026A for ; Tue, 11 Nov 2025 08:38:11 +0100 (CET) Received: by mail-io1-f98.google.com with SMTP id ca18e2360f4ac-94861514a5cso377592839f.1 for ; Mon, 10 Nov 2025 23:38:11 -0800 (PST) DKIM-Signature: v=1; a=rsa-sha256; c=relaxed/relaxed; d=iol.unh.edu; s=unh-iol; t=1762846691; x=1763451491; darn=dpdk.org; h=references:in-reply-to:cc:to:from:subject:message-id:date:from:to :cc:subject:date:message-id:reply-to; bh=qp9CGh8/5via+RgYwJsk4zemYYEQvV6zAZ3Y7X6yYA0=; b=QfePkT19d0RQzYOH9Udwksrcwbm0/1v0RqV3jAezIgZn1UB2V2jYJftt3Ox4gRaUrm eGWCP80JE+cRa+crmjhB4h90ZqPR0bM79LbfviNajepLoi5CbKaJWMvc1bIGUNWdZRhi gasvWdyjlTe/sXLJjtXIhGBanzKCq5RMHv500= X-Google-DKIM-Signature: v=1; a=rsa-sha256; c=relaxed/relaxed; d=1e100.net; s=20230601; t=1762846691; x=1763451491; h=references:in-reply-to:cc:to:from:subject:message-id:date:x-gm-gg :x-gm-message-state:from:to:cc:subject:date:message-id:reply-to; bh=qp9CGh8/5via+RgYwJsk4zemYYEQvV6zAZ3Y7X6yYA0=; b=VJrpAALLDvZAvnqSjflhjAB3t9Z3/x0j8mXHLAeerq3Vz/XXBjcBrxz7asC21/uLiX ze9gfaXZsCJOxL3m7iUhsbP1N2IKnGTp1fSOZK5DEJ+aWyrXA0zBnLvdKhPPVv6TSBO3 ph9w4+GZ3Zx/C3vEX73Imv51yrHd0It0T4yjUl+Qm6Yd/W/JbDbFkQ3rlmFArGI1FXAI n6RB8LkWVsogrsoODDqgy0c9q8TXbN/83A3BcAEEZk3Y8BOrRm2EJ8Ej9tTWX9oaxAmi M59hKw+4DpBcXfpiX+xEV720/R6htkdtPRni43LfCHW+gEJd7zpP5uWNsfGj4llANeFK xYCg== X-Gm-Message-State: AOJu0Yy7bNwLc6J/SuEipBjgdKohfeto6GPbouVT0KdEZc5MNZPggjX9 Y2q6uw7aFiTVFoNcHuBnoP00ULI4a1FekPREgiT0PkLzMoMHIGxXKnDshZKpe0saZTHD+W9H+i7 mzY8Hf/n191RsKpLrWvnlS2YWk9wRCITojI/+5YM/h1ON X-Gm-Gg: ASbGncsqXckFkF2PHngBh/qX3U76hSZ6akQ1xKqrKdGL0UXbk/dInEWSJG+OGQwuI+Q DMVseOULF26yj9znjYkwuDz8g3VCN9W3Yu1UVeVJ7CbNh3PDtVE4VBvBwlNZYsDE4eMkHXtJRH5 wQQaNMRcxlDi2twV8/FxIyT5mPK9HYcfLHuOuMpueOrsPNP1uSh7ECGFQGORwx9PHaODr7j9Kww o2rDTK51jkzSocd99ZrYnNKyB/eCdwHnyR7UhVQ1GF7tsIO7w0PkWtIGVNaDeVKTcWIwJogUqpP Emt4sxOBgbkNz5iiOI54WF+BJy+uQaXUSRC2AqxXHHpB50J9AoInS8OPUKuJtkxrMIVH7wE0Jw+ UPZZG5ppTAA58n1vCVDtGC9OvxQ1MJqg= X-Google-Smtp-Source: AGHT+IHlgTbGlEHiTIs2e+eJsUImbCKDgOJcbngXqfY0dGT8QUMtAlxxELBvUF8D6Q1F23Qg9VOYeBCqA42f X-Received: by 2002:a05:6602:148d:b0:887:6ce4:8e07 with SMTP id ca18e2360f4ac-94895fd1446mr1512074439f.9.1762846691239; Mon, 10 Nov 2025 23:38:11 -0800 (PST) Received: from postal.iol.unh.edu (postal.iol.unh.edu. [132.177.123.84]) by smtp-relay.gmail.com with ESMTPS id 8926c6da1cb9f-5b746872bfdsm1835124173.26.2025.11.10.23.38.11 (version=TLS1_2 cipher=ECDHE-ECDSA-AES128-GCM-SHA256 bits=128/128); Mon, 10 Nov 2025 23:38:11 -0800 (PST) X-Relaying-Domain: iol.unh.edu Date: Mon, 10 Nov 2025 23:38:11 -0800 (PST) Message-ID: <6912e7e3.050a0220.320ffd.e8caSMTPIN_ADDED_MISSING@mx.google.com> Received: from [172.21.0.4] (unknown [172.18.0.240]) by postal.iol.unh.edu (Postfix) with ESMTP id BCC926051830; Tue, 11 Nov 2025 02:38:10 -0500 (EST) Subject: |SUCCESS| pw158644 [PATCH] [v2] net/mlx5: fix spurious CPU wakeups c From: dpdklab@iol.unh.edu To: Test Report Cc: dpdk-test-reports@iol.unh.edu In-Reply-To: <20251111034057.3177641-1-sivaprasad.tummala@amd.com> References: <20251111034057.3177641-1-sivaprasad.tummala@amd.com> Content-Type: text/plain X-BeenThere: test-report@dpdk.org X-Mailman-Version: 2.1.29 Precedence: list List-Id: automatic DPDK test reports List-Unsubscribe: , List-Archive: List-Post: List-Help: List-Subscribe: , Errors-To: test-report-bounces@dpdk.org Test-Label: iol-compile-amd64-testing Test-Status: SUCCESS http://dpdk.org/patch/158644 _Testing PASS_ Submitter: Sivaprasad Tummala Date: Tuesday, November 11 2025 03:40:57 DPDK git baseline: Repo:dpdk-next-net-mlx Branch: master CommitID:9f99559f7b850add599b7cff247d8b4e28c9b71a 158644 --> testing pass Upstream job id: Generic-DPDK-Compile-Meson#442841 Test environment and result as below: +-------------------------------+--------------------+------------------+ | Environment | dpdk_meson_compile | dpdk_compile_ovs | +===============================+====================+==================+ | Fedora Linux 42 | PASS | PASS | +-------------------------------+--------------------+------------------+ | CentOS Stream 9 | PASS | SKIPPED | +-------------------------------+--------------------+------------------+ | CentOS Stream 10 | PASS | SKIPPED | +-------------------------------+--------------------+------------------+ | Debian GNU/Linux 12 | PASS | SKIPPED | +-------------------------------+--------------------+------------------+ | openSUSE Leap 15.6 | PASS | SKIPPED | +-------------------------------+--------------------+------------------+ | Red Hat Enterprise Linux 9.5 | PASS | SKIPPED | +-------------------------------+--------------------+------------------+ | Red Hat Enterprise Linux 8.10 | PASS | SKIPPED | +-------------------------------+--------------------+------------------+ | Ubuntu 20.04 | PASS | SKIPPED | +-------------------------------+--------------------+------------------+ | FreeBSD 14.2 | PASS | SKIPPED | +-------------------------------+--------------------+------------------+ | Ubuntu 22.04 | PASS | SKIPPED | +-------------------------------+--------------------+------------------+ | Alpine Linux 3.22.0 | PASS | SKIPPED | +-------------------------------+--------------------+------------------+ | Ubuntu 24.04 | PASS | PASS | +-------------------------------+--------------------+------------------+ Fedora Linux 42 Kernel: 5.15 Compiler: clang gcc (GCC) 15.2.1 20250808 (Red Hat 15.2.1-1) CentOS Stream 9 Kernel: 5.15 Compiler: gcc gcc (GCC) 11.5.0 20240719 (Red Hat 11.5.0-11) CentOS Stream 10 Kernel: 5.15 Compiler: gcc gcc (GCC) 14.2.1 20250110 (Red Hat 14.2.1-8) Debian GNU/Linux 12 Kernel: 5.15 Compiler: gcc gcc (Debian 12.2.0-14+deb12u1) 12.2.0 openSUSE Leap 15.6 Kernel: 5.15 Compiler: gcc gcc (SUSE Linux) 7.5.0 Red Hat Enterprise Linux 9.5 Kernel: 5.15 Compiler: gcc gcc (GCC) 11.5.0 20240719 (Red Hat 11.5.0-2) Red Hat Enterprise Linux 8.10 Kernel: 5.15 Compiler: gcc gcc (GCC) 8.5.0 20210514 (Red Hat 8.5.0-22) Ubuntu 20.04 Kernel: 5.15 Compiler: gcc gcc (Ubuntu 9.4.0-1ubuntu1~20.04.2) 9.4.0 FreeBSD 14.2 Kernel: 14.2-RELEASE Compiler: clang 18.1.6 Ubuntu 22.04 Kernel: 5.15 Compiler: gcc gcc (Ubuntu 11.4.0-1ubuntu1~22.04) 11.4.0 Alpine Linux 3.22.0 Kernel: 5.15 Compiler: gcc gcc (Alpine 14.2.0) 14.2.0 Ubuntu 24.04 Kernel: 5.15 Compiler: gcc gcc (Ubuntu 13.3.0-6ubuntu2~24.04) 13.3.0 To view detailed results, visit: https://lab.dpdk.org/results/dashboard/patchsets/34528/ UNH-IOL DPDK Community Lab To manage your email subscriptions, visit: https://lab.dpdk.org/results/dashboard/preferences/subscriptions/