From mboxrd@z Thu Jan 1 00:00:00 1970 Return-Path: Received: from mails.dpdk.org (mails.dpdk.org [217.70.189.124]) by inbox.dpdk.org (Postfix) with ESMTP id 0D93A48ADA for ; Tue, 11 Nov 2025 11:07:28 +0100 (CET) Received: from mails.dpdk.org (localhost [127.0.0.1]) by mails.dpdk.org (Postfix) with ESMTP id 0829D4026A; Tue, 11 Nov 2025 11:07:28 +0100 (CET) Received: from mail-pj1-f100.google.com (mail-pj1-f100.google.com [209.85.216.100]) by mails.dpdk.org (Postfix) with ESMTP id 434E94026A for ; Tue, 11 Nov 2025 11:07:27 +0100 (CET) Received: by mail-pj1-f100.google.com with SMTP id 98e67ed59e1d1-340c39ee02dso3335737a91.1 for ; Tue, 11 Nov 2025 02:07:27 -0800 (PST) DKIM-Signature: v=1; a=rsa-sha256; c=relaxed/relaxed; d=iol.unh.edu; s=unh-iol; t=1762855646; x=1763460446; darn=dpdk.org; h=cc:to:from:subject:message-id:date:from:to:cc:subject:date :message-id:reply-to; bh=TJhpKN2Oc4Fil01VkmN3QhyDrw9i/6Gdv8dKWmuzsaU=; b=IQhd2m/zsCC0HECbcyG2HUAO80p47rr7cYKc2Qttbcbkgm+kokWQNexmso18Mv4Rjq /B+IqNIRUn2HRkeutUnQke+raKsKIqnCz+JB84dqiw1lzoNFrmQmx/ZeStyq7XzCLq8U fs8YxOXRbf5YzYgjnhkB+faxakkItQdXeu2vw= X-Google-DKIM-Signature: v=1; a=rsa-sha256; c=relaxed/relaxed; d=1e100.net; s=20230601; t=1762855646; x=1763460446; h=cc:to:from:subject:message-id:date:x-gm-gg:x-gm-message-state:from :to:cc:subject:date:message-id:reply-to; bh=TJhpKN2Oc4Fil01VkmN3QhyDrw9i/6Gdv8dKWmuzsaU=; b=g5gU8zbcLj4eaefBIk/IIrByT4XzXwkCDBOAcgisNlbajAY3XsVrfiUyDTJOLTUz5i M0WjNrfrONFuUatmx9mP/7hRFoxLOEygi3IFRQw9TAKREBXqPhD3j85y0V0lguOE+iqx CSgIcMVsHeWzEz/hpSMU/fLpAZqQ55fONcrgONKUCWszzessWzxzcOrj7Y3jBYFRVXu0 2qWkjfqJqeUAatuZVQh9hcNgIJ1jlLAq6+5MlUB7vwdEE+yjoxyov3GFdDDRnP1m/hS2 raWtlJXU/phyOZyKB54ZRYmOnyRZPVnnSz0hPyxlFcnpZnCpltL+xp8FHhGVntDuf6eA /Mog== X-Gm-Message-State: AOJu0YxjW+FDHoqQL0h/O+cq6ipuPtfX4nbYfl/EuhqVkiY7iV/H4rHB t3gdpQVBGQdBZk984D4snYlE/jI/ZYkPn/kbtpqXLDiEXAHNcv6380W/AKankN/+/HRNqGJG4qR B6EpmBgCKKR+I6tFzl5Evxn1flJOncHrDtSfu4qYXHfNb6HLvEQoO X-Gm-Gg: ASbGnct9WKDs8oAyCUsJzkLinfMd40zdpbnXGMDdBegXiULLSSoVK14ltNJ1LYPyLsT k0yszGa0Z+R5kxGV/pFeYZ1AUXv0eCSXSaICWT4w5dvRZAl/tm0RrY0dasuipPb4NVR2JMJKaaL IIItYp7EzeV+IxIgUUhXuJhO51a6X5pvEX8N4rJnC/0jA8o1clxls7j9R4DCGk4cbijGsRWyT88 Ft4B8qgmAfre5dHxQ0Of9/cbXoCTPBP0m3ebedjgRUh1CIydRlQpXmKZAYGWo2INnCAkrW07399 rJy0QP+0+dsACt562e4CTAKGAgLJE2/uw9dRhR/rZDoAEMHhz1QON2CBRFY+9fOkQcglA79iPDq oIWey5cd6 X-Google-Smtp-Source: AGHT+IHvzSrEkiyhYtgg2uemz7xJbYMZivEUb7cHemAo7BIvZ6ZGmy+7z+nWKVwyiDohqYasW1kef1m1Jztz X-Received: by 2002:a17:90b:5284:b0:341:761c:3330 with SMTP id 98e67ed59e1d1-3436ccf9e05mr14602400a91.23.1762855646528; Tue, 11 Nov 2025 02:07:26 -0800 (PST) Received: from postal.iol.unh.edu (postal.iol.unh.edu. [2606:4100:3880:1234::84]) by smtp-relay.gmail.com with ESMTPS id 98e67ed59e1d1-341d0593ff4sm1718316a91.3.2025.11.11.02.07.26 (version=TLS1_2 cipher=ECDHE-ECDSA-AES128-GCM-SHA256 bits=128/128); Tue, 11 Nov 2025 02:07:26 -0800 (PST) X-Relaying-Domain: iol.unh.edu Date: Tue, 11 Nov 2025 02:07:26 -0800 (PST) Message-ID: <69130ade.170a0220.1af38.70e2SMTPIN_ADDED_MISSING@mx.google.com> Received: from [172.21.0.2] (unknown [172.18.0.240]) by postal.iol.unh.edu (Postfix) with ESMTP id 0C6CF6051830; Tue, 11 Nov 2025 05:07:26 -0500 (EST) Subject: |SUCCESS| [GIT MASTER] 0bd935abcb823f581ce53986986aa54eaf6f8140 From: dpdklab@iol.unh.edu To: Test Report Cc: dpdk-test-reports@iol.unh.edu, Xueming Li , Christian Ehrhardt , Kevin Traynor , Luca Boccassi Content-Type: text/plain X-BeenThere: test-report@dpdk.org X-Mailman-Version: 2.1.29 Precedence: list List-Id: automatic DPDK test reports List-Unsubscribe: , List-Archive: List-Post: List-Help: List-Subscribe: , Errors-To: test-report-bounces@dpdk.org _Testing PASS_ Branch: tags/v24.11 0bd935abcb823f581ce53986986aa54eaf6f8140 --> testing pass Upstream job id: Generic-DPDK-Compile-Meson#442799 Test environment and result as below: +------------------------------+--------------------+ | Environment | dpdk_meson_compile | +==============================+====================+ | Ubuntu 20.04 | PASS | +------------------------------+--------------------+ | Red Hat Enterprise Linux 9.5 | PASS | +------------------------------+--------------------+ | Debian GNU/Linux 12 | PASS | +------------------------------+--------------------+ | CentOS Stream 9 | PASS | +------------------------------+--------------------+ | Ubuntu 22.04 | PASS | +------------------------------+--------------------+ | Fedora Linux 42 | PASS | +------------------------------+--------------------+ | CentOS Stream 10 | PASS | +------------------------------+--------------------+ | Ubuntu 24.04 | PASS | +------------------------------+--------------------+ Ubuntu 20.04 Kernel: 5.15 Compiler: aarch64-linux-gnu-gcc gcc (Ubuntu 9.4.0-1ubuntu1~20.04.2) 9.4.0 Red Hat Enterprise Linux 9.5 Kernel: 5.4 Compiler: gcc gcc (GCC) 11.5.0 20240719 (Red Hat 11.5.0-2) Debian GNU/Linux 12 Kernel: 5.4 Compiler: gcc gcc (Debian 12.2.0-14+deb12u1) 12.2.0 CentOS Stream 9 Kernel: 5.4 Compiler: gcc gcc (GCC) 11.5.0 20240719 (Red Hat 11.5.0-11) Ubuntu 22.04 Kernel: 5.4 Compiler: gcc gcc (Ubuntu 11.4.0-1ubuntu1~22.04) 11.4.0 Fedora Linux 42 Kernel: 5.4 Compiler: gcc gcc (GCC) 15.2.1 20250808 (Red Hat 15.2.1-1) CentOS Stream 10 Kernel: 5.4 Compiler: gcc gcc (GCC) 14.2.1 20250110 (Red Hat 14.2.1-8) Ubuntu 24.04 Kernel: 5.4 Compiler: gcc gcc (Ubuntu 13.3.0-6ubuntu2~24.04) 13.3.0 To view detailed results, visit: https://lab.dpdk.org/results/dashboard/tarballs/35533/ UNH-IOL DPDK Community Lab To manage your email subscriptions, visit: https://lab.dpdk.org/results/dashboard/preferences/subscriptions/