From mboxrd@z Thu Jan 1 00:00:00 1970 Return-Path: Received: from mails.dpdk.org (mails.dpdk.org [217.70.189.124]) by inbox.dpdk.org (Postfix) with ESMTP id 0129848ADA for ; Tue, 11 Nov 2025 11:17:14 +0100 (CET) Received: from mails.dpdk.org (localhost [127.0.0.1]) by mails.dpdk.org (Postfix) with ESMTP id F17A64026D; Tue, 11 Nov 2025 11:17:13 +0100 (CET) Received: from mail-qt1-f226.google.com (mail-qt1-f226.google.com [209.85.160.226]) by mails.dpdk.org (Postfix) with ESMTP id A0C9E4026D for ; Tue, 11 Nov 2025 11:17:12 +0100 (CET) Received: by mail-qt1-f226.google.com with SMTP id d75a77b69052e-4ed86157911so48587221cf.3 for ; Tue, 11 Nov 2025 02:17:12 -0800 (PST) DKIM-Signature: v=1; a=rsa-sha256; c=relaxed/relaxed; d=iol.unh.edu; s=unh-iol; t=1762856232; x=1763461032; darn=dpdk.org; h=references:in-reply-to:cc:to:from:subject:message-id:date:from:to :cc:subject:date:message-id:reply-to; bh=O0PgoTTQM8czNFr3kqNzZhGc74Q2pQLw3pqz9hJTS1A=; b=gutKRjFiYIFgqNZnlsTWfySmffsB6NM5JMmktWRIwxzV+rwRENtYjJgxuAVwH+bWkm UlGOOGOZdIrFZ5svIVN+EYfH1ErhAO1s4XISxqquw9lWlzso2HG8uL0Px2LHuOnga3s3 Jtm7HiAEz9utvSKGSuIryF2rENCTOLu6PYgDA= X-Google-DKIM-Signature: v=1; a=rsa-sha256; c=relaxed/relaxed; d=1e100.net; s=20230601; t=1762856232; x=1763461032; h=references:in-reply-to:cc:to:from:subject:message-id:date:x-gm-gg :x-gm-message-state:from:to:cc:subject:date:message-id:reply-to; bh=O0PgoTTQM8czNFr3kqNzZhGc74Q2pQLw3pqz9hJTS1A=; b=Z2mzXwAi1jd6w0H1FmtLYQF0sWHrDsyJXQwH+MkQmAxmvSDDMcnZgaXjLUqrhnug5w Oq9YappkhRVxZJBPLe37kal3BySgMTItXzBnO7pscdgIDFJaQzaoz5q7A2IiOZwqucXv H/b2OEkBMkqhFTmmPvl4LaAmuUMn8HS9BvB7kRFNp1NCio6/h4aOv3CqQ9QF1KoMoP7U 3mUGptb/a7k28aKwAW1+XUV2TftF+t4ByDPmbakahySQRKPR71WG40bsgUfOizMRsFXg eQglkCV0oGwaFuEEaN3tuByFZR/MKxbbMWQeoHjB7gk7ya5/bjJCc7Bq9O1J/sgAvAOK edIQ== X-Gm-Message-State: AOJu0Yys7RSyjyZ+PItfIAHgmzju/7HZzcsTM5oUfU3CnYiqp6MnOEw3 U6DUmjcHrWPpCMS68LGuH67CdIczrdktOOEzcYWzLDt5Op6NzzXKdldmJG48ixUG7Opkfjh7AVw S8VihF9uIPSB/54H/Zyk+bdmvvC6XdT9NEYf3yaYTDfm8UoLNlI6jnG74owJ7 X-Gm-Gg: ASbGncswrr8rncsxD+sRSJsrNkghoU5zirZKyvgSQT090tpPN+N8YX9fb6mFDtGsJtc szQSqn600Fxh5TYLZLSYzMeueNw8Os5l65lHvzwzyZ1cq2TeP8Qop79bQq8TyVBLcxyRlupdmWd 7qpBV8nvq6sI1YV3IWTtvRl8pVTZafpRutDKWY1e6GZtupET9eOD4jcsrzXc2Jf2+OWeHu6ehSE X2XdPaccvvQ+sxzP81KhdMi4sgTmd6eedVKu6J2RMs7Q/fBt1e3f0f56qdMohHULuvQq3K4gpCM zRB3OppHZc/24NbcJOo/yQJDyw39iSZtIaR83S0XyF1mbHL+5Pw3ng2HrTWO9bFi7V48hQl4N0z rFGBE44I/ X-Google-Smtp-Source: AGHT+IF0E8O20PMJGEtAalf09Dhsb+dQEfpJxDKakTBQfwOUM9omDrrVrLbnhCR2TJQpTb5cE1xpDhDUYbOt X-Received: by 2002:a05:622a:2d6:b0:4ed:181c:298c with SMTP id d75a77b69052e-4eda4fa2b05mr158744951cf.38.1762856231917; Tue, 11 Nov 2025 02:17:11 -0800 (PST) Received: from postal.iol.unh.edu (postal.iol.unh.edu. [2606:4100:3880:1234::84]) by smtp-relay.gmail.com with ESMTPS id 6a1803df08f44-88238992da2sm11268616d6.8.2025.11.11.02.17.11 (version=TLS1_2 cipher=ECDHE-ECDSA-AES128-GCM-SHA256 bits=128/128); Tue, 11 Nov 2025 02:17:11 -0800 (PST) X-Relaying-Domain: iol.unh.edu Date: Tue, 11 Nov 2025 02:17:11 -0800 (PST) Message-ID: <69130d27.050a0220.2b1107.8a1aSMTPIN_ADDED_MISSING@mx.google.com> Received: from [172.21.0.2] (unknown [172.18.0.240]) by postal.iol.unh.edu (Postfix) with ESMTP id A879D6051830; Tue, 11 Nov 2025 05:17:11 -0500 (EST) Subject: |SUCCESS| pw158644 [PATCH] [v2] net/mlx5: fix spurious CPU wakeups c From: dpdklab@iol.unh.edu To: Test Report Cc: dpdk-test-reports@iol.unh.edu In-Reply-To: <20251111034057.3177641-1-sivaprasad.tummala@amd.com> References: <20251111034057.3177641-1-sivaprasad.tummala@amd.com> Content-Type: text/plain X-BeenThere: test-report@dpdk.org X-Mailman-Version: 2.1.29 Precedence: list List-Id: automatic DPDK test reports List-Unsubscribe: , List-Archive: List-Post: List-Help: List-Subscribe: , Errors-To: test-report-bounces@dpdk.org Test-Label: iol-compile-arm64-testing Test-Status: SUCCESS http://dpdk.org/patch/158644 _Testing PASS_ Submitter: Sivaprasad Tummala Date: Tuesday, November 11 2025 03:40:57 DPDK git baseline: Repo:dpdk-next-net-mlx Branch: master CommitID:9f99559f7b850add599b7cff247d8b4e28c9b71a 158644 --> testing pass Upstream job id: Generic-DPDK-Compile-Meson#442857 Test environment and result as below: +------------------------------+--------------------+ | Environment | dpdk_meson_compile | +==============================+====================+ | Ubuntu 20.04 | PASS | +------------------------------+--------------------+ | Debian GNU/Linux 12 | PASS | +------------------------------+--------------------+ | Red Hat Enterprise Linux 9.5 | PASS | +------------------------------+--------------------+ | Fedora Linux 42 | PASS | +------------------------------+--------------------+ | CentOS Stream 9 | PASS | +------------------------------+--------------------+ | Ubuntu 24.04 | PASS | +------------------------------+--------------------+ | Ubuntu 22.04 | PASS | +------------------------------+--------------------+ | CentOS Stream 10 | PASS | +------------------------------+--------------------+ Ubuntu 20.04 Kernel: 5.4 Compiler: gcc gcc (Ubuntu 9.4.0-1ubuntu1~20.04.2) 9.4.0 Debian GNU/Linux 12 Kernel: 5.4 Compiler: gcc gcc (Debian 12.2.0-14+deb12u1) 12.2.0 Red Hat Enterprise Linux 9.5 Kernel: 5.4 Compiler: gcc gcc (GCC) 11.5.0 20240719 (Red Hat 11.5.0-2) Fedora Linux 42 Kernel: 5.4 Compiler: clang gcc (GCC) 15.2.1 20250808 (Red Hat 15.2.1-1) CentOS Stream 9 Kernel: 5.4 Compiler: gcc gcc (GCC) 11.5.0 20240719 (Red Hat 11.5.0-11) Ubuntu 24.04 Kernel: 5.4 Compiler: gcc gcc (Ubuntu 13.3.0-6ubuntu2~24.04) 13.3.0 Ubuntu 22.04 Kernel: 5.4 Compiler: gcc gcc (Ubuntu 11.4.0-1ubuntu1~22.04) 11.4.0 CentOS Stream 10 Kernel: 5.4 Compiler: gcc gcc (GCC) 14.2.1 20250110 (Red Hat 14.2.1-8) To view detailed results, visit: https://lab.dpdk.org/results/dashboard/patchsets/34528/ UNH-IOL DPDK Community Lab To manage your email subscriptions, visit: https://lab.dpdk.org/results/dashboard/preferences/subscriptions/