From mboxrd@z Thu Jan 1 00:00:00 1970 Return-Path: Received: from mails.dpdk.org (mails.dpdk.org [217.70.189.124]) by inbox.dpdk.org (Postfix) with ESMTP id 1648648ADA for ; Tue, 11 Nov 2025 11:17:49 +0100 (CET) Received: from mails.dpdk.org (localhost [127.0.0.1]) by mails.dpdk.org (Postfix) with ESMTP id 10F724026D; Tue, 11 Nov 2025 11:17:49 +0100 (CET) Received: from mail-pg1-f228.google.com (mail-pg1-f228.google.com [209.85.215.228]) by mails.dpdk.org (Postfix) with ESMTP id 1CF4D4026D for ; Tue, 11 Nov 2025 11:17:48 +0100 (CET) Received: by mail-pg1-f228.google.com with SMTP id 41be03b00d2f7-b679450ecb6so3266995a12.2 for ; Tue, 11 Nov 2025 02:17:48 -0800 (PST) DKIM-Signature: v=1; a=rsa-sha256; c=relaxed/relaxed; d=iol.unh.edu; s=unh-iol; t=1762856267; x=1763461067; darn=dpdk.org; h=references:in-reply-to:cc:to:from:subject:message-id:date:from:to :cc:subject:date:message-id:reply-to; bh=LkQG49Cm3JYQpvrK/+uI1PxcN/WugPOJardek4M6cj8=; b=jzIxQMhzOcLLtAFq/nroxi5ErkvmrG2iDTBeu7X3j+Fs+qJht31xuh+cyEP0GYvw/R ROlzan6Q7O4BtgqwoB+qvdL3a77N34bouDXzLfFSJ90Yd9chP+jE7RVNcaxCG6lC/kSZ W15kpnETH1O5Sy8MoTdVCX4j+rfuIxdXlOf2A= X-Google-DKIM-Signature: v=1; a=rsa-sha256; c=relaxed/relaxed; d=1e100.net; s=20230601; t=1762856267; x=1763461067; h=references:in-reply-to:cc:to:from:subject:message-id:date:x-gm-gg :x-gm-message-state:from:to:cc:subject:date:message-id:reply-to; bh=LkQG49Cm3JYQpvrK/+uI1PxcN/WugPOJardek4M6cj8=; b=gIz3QpwRIi10Iu8jmJD7kgmUVhMZIV6S1jqeGBGqtxUlr1vIlq9K6k7TiNveGmFB4V ljXiz3tUv030tE6AZNTjs+ixPpyRVrUvAQHD18Br/juRIDJ3sPjBhi83Fi8mtGrbk15r Na5XDQKfiFg7ZZTYBlCysNFUmcDjWtEz6oDJN+acrolxVqJDpXkc8s6x/lkmQcuowLaq PB79ABRcEYN2Cub8N3B1805HmT4G4bxgaoIwu3SyqdoZ6N7UjUwCuxovvB4V4h9ePABW j0P6b5MsVUtR5YVXAC1HW+ETZtn/r8PSa2nUXq+Zg0G2SCvZHciUYovSeLP+O5sr88Wa ooAA== X-Gm-Message-State: AOJu0YyBsOQZkeE9vs+7lMr6ebjwY+lWXY01G14m7fc+dzeMTzkE7+X5 JetXxG5Y0ALuTGgHC5lRk3+kKfpYVHVJKS5Ksh64/iqnS9Vh3WRz8HekbgjRuUcewx0zdhM1bwS x8MMj5Qok5fzu5kyjC9xnyP1urZwoD1wBPFHsqOf5ITJV X-Gm-Gg: ASbGncuZsNrgbvqGMRbJqwnabGa+rJv3g686o6n6M01pFENrYy+CMRSzX9QdF3mo5pD QR+aCgbcw5FZRXP6WUMhmketMGeEPzOH4LdLc4AeN+E4agpDlAIv0BeWJjWCzLb/3ujGYVcE3If c6ArM3m4EqhXf2UdAgZDfkQLub/Bg5HzhCcQeB2SxJbgzNeNKUYmP1jE/WJ2l2Go6nx7dCflen5 2FYzfopka3OMDXcHp6DCq2pH8UqwgCueyynMh8vZdJBwZo2GEEVsoY4Tk5+mLgBXXfyQofS0PZQ IbSv3iyQTkwBBgFmXlRmuck3WewXWMGn5SR7OJ6Hl6ycMKnSk0we8KwePpSxuLN/0pNTQepXBaC vs3nIOjh0Gg3eMJmx/aIgjlRApBmQ10w= X-Google-Smtp-Source: AGHT+IESdf47d+kQlkP0oSuVNq/v0t9kkLqiUxCX0zJO1m499ES1roxxPhljP8oFskLyKwmmrYB1KboDBPNq X-Received: by 2002:a17:903:2f46:b0:297:e1f5:191a with SMTP id d9443c01a7336-297e56120cfmr163033775ad.17.1762856267121; Tue, 11 Nov 2025 02:17:47 -0800 (PST) Received: from postal.iol.unh.edu (postal.iol.unh.edu. [132.177.123.84]) by smtp-relay.gmail.com with ESMTPS id d9443c01a7336-29651c6af48sm16255465ad.32.2025.11.11.02.17.47 (version=TLS1_2 cipher=ECDHE-ECDSA-AES128-GCM-SHA256 bits=128/128); Tue, 11 Nov 2025 02:17:47 -0800 (PST) X-Relaying-Domain: iol.unh.edu Date: Tue, 11 Nov 2025 02:17:47 -0800 (PST) Message-ID: <69130d4b.170a0220.359e70.2d28SMTPIN_ADDED_MISSING@mx.google.com> Received: from [172.21.0.2] (unknown [172.18.0.240]) by postal.iol.unh.edu (Postfix) with ESMTP id 9EA266051830; Tue, 11 Nov 2025 05:17:46 -0500 (EST) Subject: |SUCCESS| pw158645 [PATCH] [v3] lib/ring: do not allow zero size rin From: dpdklab@iol.unh.edu To: Test Report Cc: dpdk-test-reports@iol.unh.edu In-Reply-To: <20251111062253.578121-1-iboukris@gmail.com> References: <20251111062253.578121-1-iboukris@gmail.com> Content-Type: text/plain X-BeenThere: test-report@dpdk.org X-Mailman-Version: 2.1.29 Precedence: list List-Id: automatic DPDK test reports List-Unsubscribe: , List-Archive: List-Post: List-Help: List-Subscribe: , Errors-To: test-report-bounces@dpdk.org Test-Label: iol-unit-amd64-testing Test-Status: SUCCESS http://dpdk.org/patch/158645 _Testing PASS_ Submitter: Isaac Boukris Date: Tuesday, November 11 2025 06:22:52 DPDK git baseline: Repo:dpdk Branch: master CommitID:8ae4f1d511226fd65a979e9f8a1e51835281a59b 158645 --> testing pass Upstream job id: Generic-Unit-Test-DPDK#390904 Test environment and result as below: +-------------------------------+----------------+ | Environment | dpdk_unit_test | +===============================+================+ | Fedora Linux 42 | PASS | +-------------------------------+----------------+ | Debian GNU/Linux 12 | PASS | +-------------------------------+----------------+ | CentOS Stream 10 | PASS | +-------------------------------+----------------+ | CentOS Stream 9 | PASS | +-------------------------------+----------------+ | Fedora Linux 41 | PASS | +-------------------------------+----------------+ | Fedora Linux 40 | PASS | +-------------------------------+----------------+ | Red Hat Enterprise Linux 8.10 | PASS | +-------------------------------+----------------+ | Red Hat Enterprise Linux 9.5 | PASS | +-------------------------------+----------------+ | Ubuntu 20.04 | PASS | +-------------------------------+----------------+ | Ubuntu 22.04 | PASS | +-------------------------------+----------------+ | Ubuntu 24.04 | PASS | +-------------------------------+----------------+ Fedora Linux 42 Kernel: 5.15 Compiler: gcc gcc (GCC) 15.2.1 20250808 (Red Hat 15.2.1-1) Debian GNU/Linux 12 Kernel: 5.15 Compiler: gcc gcc (Debian 12.2.0-14+deb12u1) 12.2.0 CentOS Stream 10 Kernel: 5.15 Compiler: gcc gcc (GCC) 14.2.1 20250110 (Red Hat 14.2.1-8) CentOS Stream 9 Kernel: 5.15 Compiler: gcc gcc (GCC) 11.5.0 20240719 (Red Hat 11.5.0-11) Fedora Linux 41 Kernel: 5.15 Compiler: gcc gcc (GCC) 14.3.1 20250523 (Red Hat 14.3.1-1) Fedora Linux 40 Kernel: 5.15 Compiler: clang gcc (GCC) 14.2.1 20240912 (Red Hat 14.2.1-3) Red Hat Enterprise Linux 8.10 Kernel: 5.15 Compiler: gcc gcc (GCC) 8.5.0 20210514 (Red Hat 8.5.0-22) Red Hat Enterprise Linux 9.5 Kernel: 5.15 Compiler: gcc gcc (GCC) 11.5.0 20240719 (Red Hat 11.5.0-2) Ubuntu 20.04 Kernel: 5.15 Compiler: gcc gcc (Ubuntu 9.4.0-1ubuntu1~20.04.2) 9.4.0 Ubuntu 22.04 Kernel: 5.15 Compiler: gcc gcc (Ubuntu 11.4.0-1ubuntu1~22.04) 11.4.0 Ubuntu 24.04 Kernel: 5.15 Compiler: gcc gcc (Ubuntu 13.3.0-6ubuntu2~24.04) 13.3.0 To view detailed results, visit: https://lab.dpdk.org/results/dashboard/patchsets/34529/ UNH-IOL DPDK Community Lab To manage your email subscriptions, visit: https://lab.dpdk.org/results/dashboard/preferences/subscriptions/