From mboxrd@z Thu Jan 1 00:00:00 1970 Return-Path: Received: from mails.dpdk.org (mails.dpdk.org [217.70.189.124]) by inbox.dpdk.org (Postfix) with ESMTP id 3157E48ADA for ; Tue, 11 Nov 2025 11:18:40 +0100 (CET) Received: from mails.dpdk.org (localhost [127.0.0.1]) by mails.dpdk.org (Postfix) with ESMTP id 2B7574026D; Tue, 11 Nov 2025 11:18:40 +0100 (CET) Received: from mail-io1-f99.google.com (mail-io1-f99.google.com [209.85.166.99]) by mails.dpdk.org (Postfix) with ESMTP id CB3784026D for ; Tue, 11 Nov 2025 11:18:38 +0100 (CET) Received: by mail-io1-f99.google.com with SMTP id ca18e2360f4ac-948733e7810so157102839f.0 for ; Tue, 11 Nov 2025 02:18:38 -0800 (PST) DKIM-Signature: v=1; a=rsa-sha256; c=relaxed/relaxed; d=iol.unh.edu; s=unh-iol; t=1762856318; x=1763461118; darn=dpdk.org; h=references:in-reply-to:cc:to:from:subject:message-id:date:from:to :cc:subject:date:message-id:reply-to; bh=Fs+86kKDdjIwURkgfL3HfOtlDkPfNO8ausVO9vUwaJc=; b=aa9hJ2el0BAwxjyo8JmfjeRmCwVmTfXXA+Cp4sbpeEd9YCGUIjNkJihkuJb0YQrdAO 45W7UREnYXsfU7pBo9DMVkgKXTBcgFewjCLHdAuzLYkCPTiqrsq5FCkIkWK3MSDe8fLb dSosC8/7aWssmJxp68VcZlMJjVX6GdcS1KwO0= X-Google-DKIM-Signature: v=1; a=rsa-sha256; c=relaxed/relaxed; d=1e100.net; s=20230601; t=1762856318; x=1763461118; h=references:in-reply-to:cc:to:from:subject:message-id:date:x-gm-gg :x-gm-message-state:from:to:cc:subject:date:message-id:reply-to; bh=Fs+86kKDdjIwURkgfL3HfOtlDkPfNO8ausVO9vUwaJc=; b=jzCwxVfyn9yoOaqK4ezciHo+t2lFfhSRGSUoYkYGPDfuI76IYPpTHmmN19tfKHIOWZ 4PoJoJyRM87QAk6hhLLabr/T8uv2aWDHuFKYnNPtpEXUOjy+RraMqlHo7m7ksuFtNCgp aaHRx+93GC23Lz7b3dsTFPJv37YOrtn49tLnpECaLBjGjoiOWFjzf1SoLt9kZuGZ6Jka iHJDI4IyZZViBkd0/fpX3WuXXgXsrY3HoyCXFprRc5L1PiSCPMIeIZAyeu7gdTl8M3U5 +21Ome/PBgBh8S1sb1k30A4paz/wNb1zq/8TliptbSIWvvTwataQnL2KqQsya4rJIxFX wg2Q== X-Gm-Message-State: AOJu0YycT/6k8B77Xte9ctyHgpM7zymcRQ8FMBlEeUXTd6yeFTr9gM7i VkNdnHNfHqATU9BTOSrkrxtOuhDQG2z7oMjWGG0jWz21cprb5vakiB31w5qZ67rcdK+mE4tmb5s MXdVHS8dSmJEPRAon3aMv/8qfJo5AoVcZ8CwKT4rhe5ap X-Gm-Gg: ASbGnct++T3Pn1Vd6s44lSonrdkW9qxahKyq0aoNZoHh3e8GGUAo9obXBJvF9K6GjcA L1sMCY6sSeu/NJ5ImrpfBke4HTa8oghT7S+HykXhyZa6INKeUWw+6Lc9ghtt3qHSdhc5fc70IVD 94D19XPc8z9jvJ2Bvwa2ztRW5vV6SbNaRumHlF9RcDpOHEYKsMXZAQqISVO01ZKm4KTCte74+nd 8nAW0CXe5i+bTxJR0RkULn73ihpta+o/1zeoqg+ex+LbCoUaV3Ee8wJwxkkFw6BkrMIgyq/yKj0 GKlg/LLyD1Ck3X8atZTH6JcRP5aVHE7k+yl02t3h7H0KES/pobWiO4630s8aaXT5B0JBV/d+Yr3 NdqftcQUeiE5XzAskaRvvwF0NtgHA2qs= X-Google-Smtp-Source: AGHT+IGE8SePLqqoNMDzZjxxsWXLNrJJoJU7h27F+xd6D90oNu2Rv2sgOLo5n1ks3iBHWLWBftcMbVlH1nfR X-Received: by 2002:a05:6602:6b85:b0:948:a2aa:edc8 with SMTP id ca18e2360f4ac-948a2aaf576mr1075805739f.4.1762856318027; Tue, 11 Nov 2025 02:18:38 -0800 (PST) Received: from postal.iol.unh.edu (postal.iol.unh.edu. [132.177.123.84]) by smtp-relay.gmail.com with ESMTPS id ca18e2360f4ac-94888b07bafsm79561839f.3.2025.11.11.02.18.37 (version=TLS1_2 cipher=ECDHE-ECDSA-AES128-GCM-SHA256 bits=128/128); Tue, 11 Nov 2025 02:18:38 -0800 (PST) X-Relaying-Domain: iol.unh.edu Date: Tue, 11 Nov 2025 02:18:38 -0800 (PST) Message-ID: <69130d7e.050a0220.2e31c7.86efSMTPIN_ADDED_MISSING@mx.google.com> Received: from [172.21.0.2] (unknown [172.18.0.240]) by postal.iol.unh.edu (Postfix) with ESMTP id 602886051830; Tue, 11 Nov 2025 05:18:37 -0500 (EST) Subject: |SUCCESS| pw158645 [PATCH] [v3] lib/ring: do not allow zero size rin From: dpdklab@iol.unh.edu To: Test Report Cc: dpdk-test-reports@iol.unh.edu In-Reply-To: <20251111062253.578121-1-iboukris@gmail.com> References: <20251111062253.578121-1-iboukris@gmail.com> Content-Type: text/plain X-BeenThere: test-report@dpdk.org X-Mailman-Version: 2.1.29 Precedence: list List-Id: automatic DPDK test reports List-Unsubscribe: , List-Archive: List-Post: List-Help: List-Subscribe: , Errors-To: test-report-bounces@dpdk.org Test-Label: iol-compile-amd64-testing Test-Status: SUCCESS http://dpdk.org/patch/158645 _Testing PASS_ Submitter: Isaac Boukris Date: Tuesday, November 11 2025 06:22:52 DPDK git baseline: Repo:dpdk Branch: master CommitID:8ae4f1d511226fd65a979e9f8a1e51835281a59b 158645 --> testing pass Upstream job id: Generic-DPDK-Compile-Meson#442869 Test environment and result as below: +-------------------------------+--------------------+------------------+ | Environment | dpdk_meson_compile | dpdk_compile_ovs | +===============================+====================+==================+ | Ubuntu 20.04 | PASS | SKIPPED | +-------------------------------+--------------------+------------------+ | FreeBSD 14.2 | PASS | SKIPPED | +-------------------------------+--------------------+------------------+ | Fedora Linux 42 | PASS | PASS | +-------------------------------+--------------------+------------------+ | CentOS Stream 10 | PASS | SKIPPED | +-------------------------------+--------------------+------------------+ | CentOS Stream 9 | PASS | SKIPPED | +-------------------------------+--------------------+------------------+ | Debian GNU/Linux 12 | PASS | SKIPPED | +-------------------------------+--------------------+------------------+ | openSUSE Leap 15.6 | PASS | SKIPPED | +-------------------------------+--------------------+------------------+ | Ubuntu 22.04 | PASS | SKIPPED | +-------------------------------+--------------------+------------------+ | Red Hat Enterprise Linux 8.10 | PASS | SKIPPED | +-------------------------------+--------------------+------------------+ | Red Hat Enterprise Linux 9.5 | PASS | SKIPPED | +-------------------------------+--------------------+------------------+ | Ubuntu 24.04 | PASS | PASS | +-------------------------------+--------------------+------------------+ | Alpine Linux 3.22.0 | PASS | SKIPPED | +-------------------------------+--------------------+------------------+ Ubuntu 20.04 Kernel: 4.19 Compiler: gcc gcc (Ubuntu 9.4.0-1ubuntu1~20.04.2) 9.4.0 FreeBSD 14.2 Kernel: 14.2-RELEASE Compiler: clang 18.1.6 Fedora Linux 42 Kernel: 5.15 Compiler: gcc gcc (GCC) 15.2.1 20250808 (Red Hat 15.2.1-1) CentOS Stream 10 Kernel: 5.15 Compiler: gcc gcc (GCC) 14.2.1 20250110 (Red Hat 14.2.1-8) CentOS Stream 9 Kernel: 5.15 Compiler: gcc gcc (GCC) 11.5.0 20240719 (Red Hat 11.5.0-11) Debian GNU/Linux 12 Kernel: 5.15 Compiler: gcc gcc (Debian 12.2.0-14+deb12u1) 12.2.0 openSUSE Leap 15.6 Kernel: 5.15 Compiler: gcc gcc (SUSE Linux) 7.5.0 Ubuntu 22.04 Kernel: 5.15 Compiler: gcc gcc (Ubuntu 11.4.0-1ubuntu1~22.04) 11.4.0 Red Hat Enterprise Linux 8.10 Kernel: 5.15 Compiler: gcc gcc (GCC) 8.5.0 20210514 (Red Hat 8.5.0-22) Red Hat Enterprise Linux 9.5 Kernel: 5.15 Compiler: gcc gcc (GCC) 11.5.0 20240719 (Red Hat 11.5.0-2) Ubuntu 24.04 Kernel: 5.15 Compiler: gcc gcc (Ubuntu 13.3.0-6ubuntu2~24.04) 13.3.0 Alpine Linux 3.22.0 Kernel: 5.15 Compiler: gcc gcc (Alpine 14.2.0) 14.2.0 To view detailed results, visit: https://lab.dpdk.org/results/dashboard/patchsets/34529/ UNH-IOL DPDK Community Lab To manage your email subscriptions, visit: https://lab.dpdk.org/results/dashboard/preferences/subscriptions/