From mboxrd@z Thu Jan 1 00:00:00 1970 Return-Path: Received: from mails.dpdk.org (mails.dpdk.org [217.70.189.124]) by inbox.dpdk.org (Postfix) with ESMTP id 5012B48ACF for ; Tue, 11 Nov 2025 13:38:42 +0100 (CET) Received: from mails.dpdk.org (localhost [127.0.0.1]) by mails.dpdk.org (Postfix) with ESMTP id 4A6B940144; Tue, 11 Nov 2025 13:38:42 +0100 (CET) Received: from mail-pj1-f100.google.com (mail-pj1-f100.google.com [209.85.216.100]) by mails.dpdk.org (Postfix) with ESMTP id D900C40144 for ; Tue, 11 Nov 2025 13:38:40 +0100 (CET) Received: by mail-pj1-f100.google.com with SMTP id 98e67ed59e1d1-3436d6bdce8so3811633a91.3 for ; Tue, 11 Nov 2025 04:38:40 -0800 (PST) DKIM-Signature: v=1; a=rsa-sha256; c=relaxed/relaxed; d=iol.unh.edu; s=unh-iol; t=1762864720; x=1763469520; darn=dpdk.org; h=references:in-reply-to:cc:to:from:subject:message-id:date:from:to :cc:subject:date:message-id:reply-to; bh=SHyBOSsLfWbVeqrlzJkCtCYBiKAUKVTv/ze34Kl4HGo=; b=FT1bLk203Q4dHFjUr9EnNAdGmJh8k3oN/sfQtbo6NJuJ27bOHw9M54KkWF2Bby61f5 RKPL18VoyZQxszSzZgBQ9enHBG/yBUR2ZuzCxWLJYVgLYAW8LwJZHrgNLZAgV/n5VK9X 9oCm386MgkDCb+EJTr9z/VxJ6tfs5de9DHhME= X-Google-DKIM-Signature: v=1; a=rsa-sha256; c=relaxed/relaxed; d=1e100.net; s=20230601; t=1762864720; x=1763469520; h=references:in-reply-to:cc:to:from:subject:message-id:date:x-gm-gg :x-gm-message-state:from:to:cc:subject:date:message-id:reply-to; bh=SHyBOSsLfWbVeqrlzJkCtCYBiKAUKVTv/ze34Kl4HGo=; b=Y1Kso9pyW3nGGMFl/gTTYzSU0eRHFFYYbKxA9bPxcrHTyM6WbpFEaK/6mCosQOZ9rA /cWjog2auFvJ+Bx+LhnZCs6HfqybdQBgiY6T5MZPfsr1NJxliJOfcPFaKd+wNwV2FOAy F3Q0qyQbiaxuWHvVBs6crrLiWLmVL8IDPKxrA1ehPV9t15skE9FnBkMULQIqgh7dnQFa cyj/JoU/x00nnpbVbuEcXiuI9pwC5KkOENQ712eO4cAruqaQ24IBlkaAvrBgwNP4ageA KWmENpcMJA12L2dqqXrH8I9mSA/QRjwj2dxjpzjumEUjV5ZeoQqbfrbb60Ah3CMHnP0K kemg== X-Gm-Message-State: AOJu0YzIRuaUAk3XItqLeTCJhjlgcpt5wkzshw+qoLtV7QBL45U4uxM+ 70ExgOEaOjPadTvRxcQNRoppSi2Ci4GRdrMPjvtNH/z3lkIc+W7jYnE3zNDBQwPBB10IILK0q5i UCms8W3HyVQB9ikv1lJmoQ7dF9V9KZ9GJNZl0M9wTSQUvKGSaOI8G9g3uBEuS X-Gm-Gg: ASbGnctil8ZRF2SqaVrYXiB5jSzDDLoGrY6oosejr7y84tLw11THlaK9cq63RLeoNBQ lan9FXTKDuANJPKYsbo/S42QkylbgpPPmDwZ/fR9JYdGC7vnDv4A0fnAbBXG5kF4ElgSrrgViLa GZXS0O6sJzPyu6yMxK/yFEGn6Fr2Gmr7AKAu/lY6Oufr1Oyz/pBDw/kndklp5KODvJQqcUMSPPS 5TjphIxpgixeQwatyfUSe3+J7lDmDOFA1B/OIzDlJzixjk3bD64ZdCDs6PXdno+BsoLsW8efuXa 6YlEbxrowKG5p4/CKPnEdF8/XhSFsiCKNuWO5mjBZWGQvRLDtvTpN9Fr0Zt6WOYdFkVEfC4EMct 7nYlcyh+7 X-Google-Smtp-Source: AGHT+IEmqfwUnsm0cO9hdQk2IDJ9FfM9i1BRwYRh+nX52Ct3kBYyo7e8I7WsH/3rAnEmyDH9KLdl2JyTYo6H X-Received: by 2002:a17:90b:4c8a:b0:340:fb6a:cb4c with SMTP id 98e67ed59e1d1-3436cd064efmr15697550a91.30.1762864720038; Tue, 11 Nov 2025 04:38:40 -0800 (PST) Received: from postal.iol.unh.edu (postal.iol.unh.edu. [2606:4100:3880:1234::84]) by smtp-relay.gmail.com with ESMTPS id 98e67ed59e1d1-341a6916acdsm1881190a91.3.2025.11.11.04.38.39 (version=TLS1_2 cipher=ECDHE-ECDSA-AES128-GCM-SHA256 bits=128/128); Tue, 11 Nov 2025 04:38:40 -0800 (PST) X-Relaying-Domain: iol.unh.edu Date: Tue, 11 Nov 2025 04:38:40 -0800 (PST) Message-ID: <69132e50.170a0220.2b2d98.1a7bSMTPIN_ADDED_MISSING@mx.google.com> Received: from [172.21.0.2] (unknown [172.18.0.240]) by postal.iol.unh.edu (Postfix) with ESMTP id 76F686051830; Tue, 11 Nov 2025 07:38:39 -0500 (EST) Subject: |SUCCESS| pw158646-158647 [PATCH] [v7,2/2] app/testpmd: support mult From: dpdklab@iol.unh.edu To: Test Report Cc: dpdk-test-reports@iol.unh.edu, Stephen Hemminger In-Reply-To: <20251111091303.39491-3-fengchengwen@huawei.com> References: <20251111091303.39491-3-fengchengwen@huawei.com> Content-Type: text/plain X-BeenThere: test-report@dpdk.org X-Mailman-Version: 2.1.29 Precedence: list List-Id: automatic DPDK test reports List-Unsubscribe: , List-Archive: List-Post: List-Help: List-Subscribe: , Errors-To: test-report-bounces@dpdk.org Test-Label: iol-compile-amd64-testing Test-Status: SUCCESS http://dpdk.org/patch/158647 _Testing PASS_ Submitter: Chengwen Feng Date: Tuesday, November 11 2025 09:13:03 DPDK git baseline: Repo:dpdk-next-net Branch: master CommitID:591ee7f468aebec30d68d30afa8d5e4dcfc897dc 158646-158647 --> testing pass Upstream job id: Generic-DPDK-Compile-Meson#442937 Test environment and result as below: +-------------------------------+--------------------+------------------+ | Environment | dpdk_meson_compile | dpdk_compile_ovs | +===============================+====================+==================+ | openSUSE Leap 15.6 | PASS | SKIPPED | +-------------------------------+--------------------+------------------+ | CentOS Stream 9 | PASS | SKIPPED | +-------------------------------+--------------------+------------------+ | Red Hat Enterprise Linux 9.5 | PASS | SKIPPED | +-------------------------------+--------------------+------------------+ | CentOS Stream 10 | PASS | SKIPPED | +-------------------------------+--------------------+------------------+ | Fedora Linux 42 | PASS | PASS | +-------------------------------+--------------------+------------------+ | Ubuntu 20.04 | PASS | SKIPPED | +-------------------------------+--------------------+------------------+ | Alpine Linux 3.22.0 | PASS | SKIPPED | +-------------------------------+--------------------+------------------+ | Red Hat Enterprise Linux 8.10 | PASS | SKIPPED | +-------------------------------+--------------------+------------------+ | Ubuntu 24.04 | PASS | PASS | +-------------------------------+--------------------+------------------+ | Debian GNU/Linux 12 | PASS | SKIPPED | +-------------------------------+--------------------+------------------+ | Ubuntu 22.04 | PASS | SKIPPED | +-------------------------------+--------------------+------------------+ | FreeBSD 14.2 | PASS | SKIPPED | +-------------------------------+--------------------+------------------+ openSUSE Leap 15.6 Kernel: 5.15 Compiler: gcc gcc (SUSE Linux) 7.5.0 CentOS Stream 9 Kernel: 5.15 Compiler: gcc gcc (GCC) 11.5.0 20240719 (Red Hat 11.5.0-11) Red Hat Enterprise Linux 9.5 Kernel: 5.15 Compiler: gcc gcc (GCC) 11.5.0 20240719 (Red Hat 11.5.0-2) CentOS Stream 10 Kernel: 5.15 Compiler: gcc gcc (GCC) 14.2.1 20250110 (Red Hat 14.2.1-8) Fedora Linux 42 Kernel: 5.15 Compiler: clang gcc (GCC) 15.2.1 20250808 (Red Hat 15.2.1-1) Ubuntu 20.04 Kernel: 5.15 Compiler: gcc gcc (Ubuntu 9.4.0-1ubuntu1~20.04.2) 9.4.0 Alpine Linux 3.22.0 Kernel: 5.15 Compiler: gcc gcc (Alpine 14.2.0) 14.2.0 Red Hat Enterprise Linux 8.10 Kernel: 5.15 Compiler: gcc gcc (GCC) 8.5.0 20210514 (Red Hat 8.5.0-22) Ubuntu 24.04 Kernel: 5.15 Compiler: gcc gcc (Ubuntu 13.3.0-6ubuntu2~24.04) 13.3.0 Debian GNU/Linux 12 Kernel: 5.15 Compiler: gcc gcc (Debian 12.2.0-14+deb12u1) 12.2.0 Ubuntu 22.04 Kernel: 5.15 Compiler: gcc gcc (Ubuntu 11.4.0-1ubuntu1~22.04) 11.4.0 FreeBSD 14.2 Kernel: 14.2-RELEASE Compiler: clang 18.1.6 To view detailed results, visit: https://lab.dpdk.org/results/dashboard/patchsets/34531/ UNH-IOL DPDK Community Lab To manage your email subscriptions, visit: https://lab.dpdk.org/results/dashboard/preferences/subscriptions/