From mboxrd@z Thu Jan 1 00:00:00 1970 Return-Path: Received: from mails.dpdk.org (mails.dpdk.org [217.70.189.124]) by inbox.dpdk.org (Postfix) with ESMTP id 775A348ACF for ; Tue, 11 Nov 2025 13:39:02 +0100 (CET) Received: from mails.dpdk.org (localhost [127.0.0.1]) by mails.dpdk.org (Postfix) with ESMTP id 6A9FE40673; Tue, 11 Nov 2025 13:39:02 +0100 (CET) Received: from mail-vk1-f225.google.com (mail-vk1-f225.google.com [209.85.221.225]) by mails.dpdk.org (Postfix) with ESMTP id 832654026A for ; Tue, 11 Nov 2025 13:39:00 +0100 (CET) Received: by mail-vk1-f225.google.com with SMTP id 71dfb90a1353d-5598e714938so453514e0c.0 for ; Tue, 11 Nov 2025 04:39:00 -0800 (PST) DKIM-Signature: v=1; a=rsa-sha256; c=relaxed/relaxed; d=iol.unh.edu; s=unh-iol; t=1762864740; x=1763469540; darn=dpdk.org; h=references:in-reply-to:cc:to:from:subject:message-id:date:from:to :cc:subject:date:message-id:reply-to; bh=bCH0QSLn2y7Fl9wRddnusc2ZNLIKY+ufAxqXAMp4goU=; b=SS51OHzUw8sB8gNUZlvjbPBTD6TqdQhWz8mfj7B7BJUshcitcn8MDYkSdg/FBtgcFx UaTtIDvpc/Cx9BzCTDdGnBeHEQa0qyadG6JKmZ/9Gnay1XxZSWHOnCPaW+6GuekLMl56 5PG9VrYOOv/u5aZ5Td7pspMUVrKC5ojky6QPM= X-Google-DKIM-Signature: v=1; a=rsa-sha256; c=relaxed/relaxed; d=1e100.net; s=20230601; t=1762864740; x=1763469540; h=references:in-reply-to:cc:to:from:subject:message-id:date:x-gm-gg :x-gm-message-state:from:to:cc:subject:date:message-id:reply-to; bh=bCH0QSLn2y7Fl9wRddnusc2ZNLIKY+ufAxqXAMp4goU=; b=Y5WiPZTbQhJMLVDSUlr8onYSdDzk2Dj7b1g+MpeskQfjpwdoDmU37l1sxbjqF6dI0T tYT4D0H4UV7rZA2owHo/QydPyL7Nz5hwbDkjclR/Q+iI4wkuB9xhvrBLKM4C/vvkBAyA GNLOjtVkdgzXD3UDcniZnLNzsiNHw3MZHQyk87yRoGsCz3s0qv/ieUPiMWMYNpDCZr+W Hj5CcZ9sC/8IslQEIf7VVAqsBAfFSYBGX93fGmYps7TSva6pe1yyOdj4NG4yGyUXqypt qT5L0TxZuuGQhOFbJ1ZG23bpInlvwWm3ueaFaYg8gCCWuDZhUe4ud79WprvjdTUmYV4e nXKQ== X-Gm-Message-State: AOJu0YyL4H9Nsb4UgrFgnCBHwadoQ//pjUj9VnraPKxVy1Mdq6swRlYn brhCLTChAaEs84UQthKUxe43dIKM69GQzeQbyC9Kbu4HOB7VhmHtNmKFW9AJ/6NdWbh4ajADzuA 5OjfVVo8BjFznhHotuQAguJvV3iTq0ffVVwgxNIM2PEh4uOfubFxIw996ZUGr X-Gm-Gg: ASbGncs75M+SEjSxRPnQ5/wBgA7LaxKmcFJYJmmT9cQ5tiKcY4Zl48AaBr7ceSdjmLc CfYXMb6kS4EyO9tATOZkiaxGcJct0EsCP7mvwMqpjVwOChRfaJmo0n5S6uNAj7oc7mHH3D4NLD8 QN3ryKYeubCPVgRHH1gFtGEjly3LGSGiAyErtR9Iry13Mk0ryCeyujCZXXgvTPunqWNotwIo+7A +fNLqMGgZJc5RiCI5BSH4zsPBUPq9PW/qOH6ihBaEqPfDYGWySuC+3ATJlgAThcmA64/DY2gLa0 EF0WRAtnEgTJseL7v6ou7uKEkHzab6tnbhutyasyp31yZeLsuhEfxEcloD6pLayUUXvcRkshahF vidv0GlCi X-Google-Smtp-Source: AGHT+IGt/5udKEXQpTrrJj2ZsXmJe4BIfkxQcZcgt6ZT1jZ+tKSggGKFbK/er3y6XQOF8nHgaIlQEEitI1Dd X-Received: by 2002:a05:6102:548b:b0:5a5:57f0:f426 with SMTP id ada2fe7eead31-5ddf3d449dcmr1045538137.5.1762864739852; Tue, 11 Nov 2025 04:38:59 -0800 (PST) Received: from postal.iol.unh.edu (postal.iol.unh.edu. [2606:4100:3880:1234::84]) by smtp-relay.gmail.com with ESMTPS id a1e0cc1a2514c-937446bdc1fsm46725241.7.2025.11.11.04.38.59 (version=TLS1_2 cipher=ECDHE-ECDSA-AES128-GCM-SHA256 bits=128/128); Tue, 11 Nov 2025 04:38:59 -0800 (PST) X-Relaying-Domain: iol.unh.edu Date: Tue, 11 Nov 2025 04:38:59 -0800 (PST) Message-ID: <69132e63.050a0220.9760d.239bSMTPIN_ADDED_MISSING@mx.google.com> Received: from [172.21.0.7] (unknown [172.18.0.240]) by postal.iol.unh.edu (Postfix) with ESMTP id 815376051835; Tue, 11 Nov 2025 07:38:59 -0500 (EST) Subject: |SUCCESS| pw158648-158652 [PATCH] [v4,5/5] vhost_user: Increase numb From: dpdklab@iol.unh.edu To: Test Report Cc: dpdk-test-reports@iol.unh.edu, Chenbo Xia , Maxime Coquelin In-Reply-To: <20251111111235.2902146-6-pravin.bathija@dell.com> References: <20251111111235.2902146-6-pravin.bathija@dell.com> Content-Type: text/plain X-BeenThere: test-report@dpdk.org X-Mailman-Version: 2.1.29 Precedence: list List-Id: automatic DPDK test reports List-Unsubscribe: , List-Archive: List-Post: List-Help: List-Subscribe: , Errors-To: test-report-bounces@dpdk.org Test-Label: iol-compile-amd64-testing Test-Status: SUCCESS http://dpdk.org/patch/158652 _Testing PASS_ Submitter: Pravin M Bathija Date: Tuesday, November 11 2025 11:12:35 DPDK git baseline: Repo:dpdk-next-virtio Branch: master CommitID:6b37c26a95388aa41bb5267c7c42f604fd571a38 158648-158652 --> testing pass Upstream job id: Generic-DPDK-Compile-Meson#442910 Test environment and result as below: +-------------------------------+--------------------+------------------+ | Environment | dpdk_meson_compile | dpdk_compile_ovs | +===============================+====================+==================+ | CentOS Stream 9 | PASS | SKIPPED | +-------------------------------+--------------------+------------------+ | Fedora Linux 42 | PASS | PASS | +-------------------------------+--------------------+------------------+ | CentOS Stream 10 | PASS | SKIPPED | +-------------------------------+--------------------+------------------+ | Debian GNU/Linux 12 | PASS | SKIPPED | +-------------------------------+--------------------+------------------+ | Ubuntu 20.04 | PASS | SKIPPED | +-------------------------------+--------------------+------------------+ | Red Hat Enterprise Linux 8.10 | PASS | SKIPPED | +-------------------------------+--------------------+------------------+ | Alpine Linux 3.22.0 | PASS | SKIPPED | +-------------------------------+--------------------+------------------+ | Ubuntu 24.04 | PASS | PASS | +-------------------------------+--------------------+------------------+ | openSUSE Leap 15.6 | PASS | SKIPPED | +-------------------------------+--------------------+------------------+ | FreeBSD 14.2 | PASS | SKIPPED | +-------------------------------+--------------------+------------------+ | Ubuntu 22.04 | PASS | SKIPPED | +-------------------------------+--------------------+------------------+ | Red Hat Enterprise Linux 9.5 | PASS | SKIPPED | +-------------------------------+--------------------+------------------+ CentOS Stream 9 Kernel: 5.15 Compiler: gcc gcc (GCC) 11.5.0 20240719 (Red Hat 11.5.0-11) Fedora Linux 42 Kernel: 5.15 Compiler: clang gcc (GCC) 15.2.1 20250808 (Red Hat 15.2.1-1) CentOS Stream 10 Kernel: 5.15 Compiler: gcc gcc (GCC) 14.2.1 20250110 (Red Hat 14.2.1-8) Debian GNU/Linux 12 Kernel: 5.15 Compiler: gcc gcc (Debian 12.2.0-14+deb12u1) 12.2.0 Ubuntu 20.04 Kernel: 5.15 Compiler: gcc gcc (Ubuntu 9.4.0-1ubuntu1~20.04.2) 9.4.0 Red Hat Enterprise Linux 8.10 Kernel: 5.15 Compiler: gcc gcc (GCC) 8.5.0 20210514 (Red Hat 8.5.0-22) Alpine Linux 3.22.0 Kernel: 5.15 Compiler: gcc gcc (Alpine 14.2.0) 14.2.0 Ubuntu 24.04 Kernel: 5.15 Compiler: gcc gcc (Ubuntu 13.3.0-6ubuntu2~24.04) 13.3.0 openSUSE Leap 15.6 Kernel: 5.15 Compiler: gcc gcc (SUSE Linux) 7.5.0 FreeBSD 14.2 Kernel: 14.2-RELEASE Compiler: clang 18.1.6 Ubuntu 22.04 Kernel: 5.15 Compiler: gcc gcc (Ubuntu 11.4.0-1ubuntu1~22.04) 11.4.0 Red Hat Enterprise Linux 9.5 Kernel: 5.15 Compiler: gcc gcc (GCC) 11.5.0 20240719 (Red Hat 11.5.0-2) To view detailed results, visit: https://lab.dpdk.org/results/dashboard/patchsets/34530/ UNH-IOL DPDK Community Lab To manage your email subscriptions, visit: https://lab.dpdk.org/results/dashboard/preferences/subscriptions/