From mboxrd@z Thu Jan 1 00:00:00 1970 Return-Path: Received: from mails.dpdk.org (mails.dpdk.org [217.70.189.124]) by inbox.dpdk.org (Postfix) with ESMTP id 7F3E948ACF for ; Tue, 11 Nov 2025 13:39:21 +0100 (CET) Received: from mails.dpdk.org (localhost [127.0.0.1]) by mails.dpdk.org (Postfix) with ESMTP id 77B4D40144; Tue, 11 Nov 2025 13:39:21 +0100 (CET) Received: from mail-qv1-f100.google.com (mail-qv1-f100.google.com [209.85.219.100]) by mails.dpdk.org (Postfix) with ESMTP id 5B3A240144 for ; Tue, 11 Nov 2025 13:39:19 +0100 (CET) Received: by mail-qv1-f100.google.com with SMTP id 6a1803df08f44-88242fc32c9so30384156d6.1 for ; Tue, 11 Nov 2025 04:39:19 -0800 (PST) DKIM-Signature: v=1; a=rsa-sha256; c=relaxed/relaxed; d=iol.unh.edu; s=unh-iol; t=1762864759; x=1763469559; darn=dpdk.org; h=references:in-reply-to:cc:to:from:subject:message-id:date:from:to :cc:subject:date:message-id:reply-to; bh=LoQ3iY/w/yj5nhwGh3son+FaeoL0Dc09Q89xbTZdJQE=; b=eroBWbR+6t+4SW1JMY2Q68Ok13N87PoMTlc0Ua+Pn238dVv6PYB7ATfnlgBluuk3Z8 Y6g8EpCLzLFaxCpXkT1kSXwNGhQ9EiriHc+IWR7CBKUQC0eIf6fB5HRmE0GYZdowaTev /XqclqT+fmAptfFLod71YIaiwCLIk4al7bCq4= X-Google-DKIM-Signature: v=1; a=rsa-sha256; c=relaxed/relaxed; d=1e100.net; s=20230601; t=1762864759; x=1763469559; h=references:in-reply-to:cc:to:from:subject:message-id:date:x-gm-gg :x-gm-message-state:from:to:cc:subject:date:message-id:reply-to; bh=LoQ3iY/w/yj5nhwGh3son+FaeoL0Dc09Q89xbTZdJQE=; b=jFpd9zVaVjCUKr9iUmNiGY2KkKLsz4/k6bjox5sY6LCseYS63cjVqLU0izNr1Ymbll yQ/W8P+RXpUbhFMYPC3Rl9bAGc9M6LBKQRcCO+5wC8b6xSDhscvZiv7olpau4wAL5SHl Ma2iJ6K/IJq+5Li/IhMyikFoTddALxaZufhNWa+ZSuhTgBfXnsIHio5OBtUruenC0OgH ViuMHXLDJLwn0Yn6KrU/ILBBZtFKPk9bf7ZtGrr+koSbP0Cr+rh2+jumJsxTY9t+f0VY ZnSuSsOIpeFtaKDtmKs0aLUpkTERLapu8cl3OUUx/uY0fG394wLQzJMTmf4Yprtyh9eq S4pQ== X-Gm-Message-State: AOJu0YyqRchAbkQnUTP1NUQ+8a3C/wn1AqMO0lJ/hkaqkRnbLsy/Tvnp Dcoek2RidoOtXhjY24NLLO+zx+zxqdAAipqOeVAgipAamu3dp9FVRtKpYt1n98QyffZQHnz0Yue iELzqGLr1ZhRHgdZlKg4Kz5F56Tc89X5fPzJGtnf8cUWyop7X5099lR4SYSb/ X-Gm-Gg: ASbGncsUyh8wnAnL2UKV5UBQjrT3zOGfVzvvTjyfUo5nrxFuK3I/BKFd5I+EN3GsZrc B+LPqFl/dZ23cu31FEsViXKme8nhkXGSIntup4AWjugztuUnKhOUUpNIOItTVvCVGgoeSKT6Pve jKxaORLghV1b6OatPir1AXnbXcxNbXwVWGgZFf4uBzna+5/6jCW+szUIY7bdqBKRvINz+ORTTlA hZgjWzDjfp7uez0DNZTv1Y/VBILIoFv03zW2L/naJf7irdY1w6q34JnApn2X2VKTOR5SPMW8UM+ IgpsBUcw6kQmujTPs0HJ9AnMoQzzU7gnVyT3hks6PEBQITLzGNLDDP9YhIR6thDiiXt2z3n6iWB mgL7d6ZHs X-Google-Smtp-Source: AGHT+IHmfwoACmEeV2vs4Tmvn1ctAdt4aCfK6mQUd+fhSsXKQnteL6O+7rRUQP6aUrOTf0KQVtM+kV36vwbk X-Received: by 2002:a05:6214:cc4:b0:880:57b3:cd0e with SMTP id 6a1803df08f44-8823871da99mr165754496d6.32.1762864758688; Tue, 11 Nov 2025 04:39:18 -0800 (PST) Received: from postal.iol.unh.edu (postal.iol.unh.edu. [2606:4100:3880:1234::84]) by smtp-relay.gmail.com with ESMTPS id 6a1803df08f44-88238b62784sm12076616d6.27.2025.11.11.04.39.18 (version=TLS1_2 cipher=ECDHE-ECDSA-AES128-GCM-SHA256 bits=128/128); Tue, 11 Nov 2025 04:39:18 -0800 (PST) X-Relaying-Domain: iol.unh.edu Date: Tue, 11 Nov 2025 04:39:18 -0800 (PST) Message-ID: <69132e76.050a0220.2080f2.d790SMTPIN_ADDED_MISSING@mx.google.com> Received: from [172.21.0.2] (unknown [172.18.0.240]) by postal.iol.unh.edu (Postfix) with ESMTP id 6FCB86051830; Tue, 11 Nov 2025 07:39:18 -0500 (EST) Subject: |SUCCESS| pw158648-158652 [PATCH] [v4,5/5] vhost_user: Increase numb From: dpdklab@iol.unh.edu To: Test Report Cc: dpdk-test-reports@iol.unh.edu, Chenbo Xia , Maxime Coquelin In-Reply-To: <20251111111235.2902146-6-pravin.bathija@dell.com> References: <20251111111235.2902146-6-pravin.bathija@dell.com> Content-Type: text/plain X-BeenThere: test-report@dpdk.org X-Mailman-Version: 2.1.29 Precedence: list List-Id: automatic DPDK test reports List-Unsubscribe: , List-Archive: List-Post: List-Help: List-Subscribe: , Errors-To: test-report-bounces@dpdk.org Test-Label: iol-unit-amd64-testing Test-Status: SUCCESS http://dpdk.org/patch/158652 _Testing PASS_ Submitter: Pravin M Bathija Date: Tuesday, November 11 2025 11:12:35 DPDK git baseline: Repo:dpdk-next-virtio Branch: master CommitID:6b37c26a95388aa41bb5267c7c42f604fd571a38 158648-158652 --> testing pass Upstream job id: Generic-Unit-Test-DPDK#390934 Test environment and result as below: +-------------------------------+----------------+ | Environment | dpdk_unit_test | +===============================+================+ | CentOS Stream 10 | PASS | +-------------------------------+----------------+ | Debian GNU/Linux 12 | PASS | +-------------------------------+----------------+ | Fedora Linux 40 | PASS | +-------------------------------+----------------+ | CentOS Stream 9 | PASS | +-------------------------------+----------------+ | Fedora Linux 41 | PASS | +-------------------------------+----------------+ | Red Hat Enterprise Linux 9.5 | PASS | +-------------------------------+----------------+ | Ubuntu 22.04 | PASS | +-------------------------------+----------------+ | Fedora Linux 42 | PASS | +-------------------------------+----------------+ | Red Hat Enterprise Linux 8.10 | PASS | +-------------------------------+----------------+ | Ubuntu 24.04 | PASS | +-------------------------------+----------------+ | Ubuntu 20.04 | PASS | +-------------------------------+----------------+ CentOS Stream 10 Kernel: 5.15 Compiler: gcc gcc (GCC) 14.2.1 20250110 (Red Hat 14.2.1-8) Debian GNU/Linux 12 Kernel: 5.15 Compiler: gcc gcc (Debian 12.2.0-14+deb12u1) 12.2.0 Fedora Linux 40 Kernel: 5.15 Compiler: gcc gcc (GCC) 14.2.1 20240912 (Red Hat 14.2.1-3) CentOS Stream 9 Kernel: 5.15 Compiler: gcc gcc (GCC) 11.5.0 20240719 (Red Hat 11.5.0-11) Fedora Linux 41 Kernel: 5.15 Compiler: gcc gcc (GCC) 14.3.1 20250523 (Red Hat 14.3.1-1) Red Hat Enterprise Linux 9.5 Kernel: 5.15 Compiler: gcc gcc (GCC) 11.5.0 20240719 (Red Hat 11.5.0-2) Ubuntu 22.04 Kernel: 5.15 Compiler: gcc gcc (Ubuntu 11.4.0-1ubuntu1~22.04) 11.4.0 Fedora Linux 42 Kernel: 5.15 Compiler: gcc gcc (GCC) 15.2.1 20250808 (Red Hat 15.2.1-1) Red Hat Enterprise Linux 8.10 Kernel: 5.15 Compiler: gcc gcc (GCC) 8.5.0 20210514 (Red Hat 8.5.0-22) Ubuntu 24.04 Kernel: 5.15 Compiler: gcc gcc (Ubuntu 13.3.0-6ubuntu2~24.04) 13.3.0 Ubuntu 20.04 Kernel: 5.15 Compiler: gcc gcc (Ubuntu 9.4.0-1ubuntu1~20.04.2) 9.4.0 To view detailed results, visit: https://lab.dpdk.org/results/dashboard/patchsets/34530/ UNH-IOL DPDK Community Lab To manage your email subscriptions, visit: https://lab.dpdk.org/results/dashboard/preferences/subscriptions/