From mboxrd@z Thu Jan 1 00:00:00 1970 Return-Path: Received: from mails.dpdk.org (mails.dpdk.org [217.70.189.124]) by inbox.dpdk.org (Postfix) with ESMTP id 90E9B48ADB for ; Tue, 11 Nov 2025 13:56:03 +0100 (CET) Received: from mails.dpdk.org (localhost [127.0.0.1]) by mails.dpdk.org (Postfix) with ESMTP id 6DFE740144; Tue, 11 Nov 2025 13:56:03 +0100 (CET) Received: from mail-pg1-f225.google.com (mail-pg1-f225.google.com [209.85.215.225]) by mails.dpdk.org (Postfix) with ESMTP id C35CA40144 for ; Tue, 11 Nov 2025 13:56:01 +0100 (CET) Received: by mail-pg1-f225.google.com with SMTP id 41be03b00d2f7-b67684e2904so2582447a12.2 for ; Tue, 11 Nov 2025 04:56:01 -0800 (PST) DKIM-Signature: v=1; a=rsa-sha256; c=relaxed/relaxed; d=iol.unh.edu; s=unh-iol; t=1762865761; x=1763470561; darn=dpdk.org; h=references:in-reply-to:cc:to:from:subject:message-id:date:from:to :cc:subject:date:message-id:reply-to; bh=R/HCrHEZ5hzVxJgmLrzaOB0Uj9jSqdn8iyCYwFKF7+U=; b=SFUBa61AoZY/SbnriRuy7J0lx5Jhxt2BsBeKltlnfKAIZ4lESSL0AJocebRy1EaWGY i6pSjH84WU8C7j/EOGRPtwsyRMYwm0uODvm9txSGM2r+XdptzjuumV7VEpS+NGjgA5ij +MS5/K7sEkfHtGiivsC/S3XBfLKViGgtqAm1M= X-Google-DKIM-Signature: v=1; a=rsa-sha256; c=relaxed/relaxed; d=1e100.net; s=20230601; t=1762865761; x=1763470561; h=references:in-reply-to:cc:to:from:subject:message-id:date:x-gm-gg :x-gm-message-state:from:to:cc:subject:date:message-id:reply-to; bh=R/HCrHEZ5hzVxJgmLrzaOB0Uj9jSqdn8iyCYwFKF7+U=; b=LQU/37jOwPb6R5vq4gm/IT81UPF9hg15L7p8Jg1kxKwtLT23+hXVe2z5PZenFd6e+d l3Loj0a0Kxjj9ZJSDBETvAwodvYEo6Herpg2NfOsWx699lPSbFkuHz2vCiUCRLuYt8D8 iJYhhB91mVtjzlZhTxlUZ2utXmJtJa+PxUeGuG3yXM1wR+lLUlwvt5Yq9EnZov4E5ON4 PXo6PJnV4H4Rs1bzcyE+hpYJTHXZP4F6tZQjCsDf2Dgvx2Ftr/sGMYzs5r9Q67UX5Be/ wqNC14i97iX+VAHzPWjzQ8EXZT4LJCRE8xu0qUnKvN3PsMsGrRHw0VoyQTtiIgdO4o1U rL+Q== X-Gm-Message-State: AOJu0YyIzrcMUOUXIc9+gNBpTy0l9HWRsf03WPpgnfdqsVXiiK/nG39v jPZgqxWqJHjrJBVH5c3+OH/vFaPXlCR3fPLIcEKp2RpVPeR19l1Ur8TKhWCYO0jRO4xT3mmFBO5 2rrWJNTc/jnolwUwTu04F+7DJdkv2InOIbippXK/uE26f X-Gm-Gg: ASbGncuyDc3viu4R6phX67ABXrK2oBYgQw/3sMIKdvkbrNBQXsXkS6QveKCDnHytswP dRbHQA4HitY8uZgRpsGptbxuvTl5sC99VJmyToT1LntkjW8U4V4KbGgQ0gPilCRwSDuR3ixX3Sk JLW9yZYJvs0dIhYDYTs5HCaiQfA85dK/b1QpV1T2CG7BsIjy8vFdsbj4WBY8iQseooJZMCfm2r7 y/FDFMwmc+mVEnZWdb4UW/cBIlagMxRVsw+hYSeXksmcNri1DE3i6RhSq4MZlwCpF/MQok16GsW sVMNiyucOsDCL5ep2WPvxp0ZsT9ZcxzpW38FjlhGrWu3hVIOUW45Loi+k8dIofheHqDOYVRiHvT 6uqA8RguGhqJAIyq244ojo353RDF0SNU= X-Google-Smtp-Source: AGHT+IHdF1G6wRc+vhibh89uUYpRgxIJ6+nZSrnScKUIOapCdA8b65a7BYjtElwG8vAhV/FBPUmVtyHvHSzz X-Received: by 2002:a17:902:e80e:b0:271:479d:3de2 with SMTP id d9443c01a7336-297e5624c9fmr171204945ad.13.1762865760827; Tue, 11 Nov 2025 04:56:00 -0800 (PST) Received: from postal.iol.unh.edu (postal.iol.unh.edu. [132.177.123.84]) by smtp-relay.gmail.com with ESMTPS id d9443c01a7336-29651c8f4basm17301535ad.51.2025.11.11.04.56.00 (version=TLS1_2 cipher=ECDHE-ECDSA-AES128-GCM-SHA256 bits=128/128); Tue, 11 Nov 2025 04:56:00 -0800 (PST) X-Relaying-Domain: iol.unh.edu Date: Tue, 11 Nov 2025 04:56:00 -0800 (PST) Message-ID: <69133260.170a0220.1b6bcf.74adSMTPIN_ADDED_MISSING@mx.google.com> Received: from [172.21.0.2] (unknown [172.18.0.240]) by postal.iol.unh.edu (Postfix) with ESMTP id F40CF6051830; Tue, 11 Nov 2025 07:55:59 -0500 (EST) Subject: |SUCCESS| pw158646-158647 [PATCH] [v7,2/2] app/testpmd: support mult From: dpdklab@iol.unh.edu To: Test Report Cc: dpdk-test-reports@iol.unh.edu, Stephen Hemminger In-Reply-To: <20251111091303.39491-3-fengchengwen@huawei.com> References: <20251111091303.39491-3-fengchengwen@huawei.com> Content-Type: text/plain X-BeenThere: test-report@dpdk.org X-Mailman-Version: 2.1.29 Precedence: list List-Id: automatic DPDK test reports List-Unsubscribe: , List-Archive: List-Post: List-Help: List-Subscribe: , Errors-To: test-report-bounces@dpdk.org Test-Label: iol-unit-amd64-testing Test-Status: SUCCESS http://dpdk.org/patch/158647 _Testing PASS_ Submitter: Chengwen Feng Date: Tuesday, November 11 2025 09:13:03 DPDK git baseline: Repo:dpdk-next-net Branch: master CommitID:591ee7f468aebec30d68d30afa8d5e4dcfc897dc 158646-158647 --> testing pass Upstream job id: Generic-Unit-Test-DPDK#390981 Test environment and result as below: +-------------------------------+----------------+ | Environment | dpdk_unit_test | +===============================+================+ | CentOS Stream 9 | PASS | +-------------------------------+----------------+ | Debian GNU/Linux 12 | PASS | +-------------------------------+----------------+ | CentOS Stream 10 | PASS | +-------------------------------+----------------+ | Fedora Linux 40 | PASS | +-------------------------------+----------------+ | Fedora Linux 42 | PASS | +-------------------------------+----------------+ | Fedora Linux 41 | PASS | +-------------------------------+----------------+ | Red Hat Enterprise Linux 8.10 | PASS | +-------------------------------+----------------+ | Ubuntu 24.04 | PASS | +-------------------------------+----------------+ | Ubuntu 22.04 | PASS | +-------------------------------+----------------+ | Red Hat Enterprise Linux 9.5 | PASS | +-------------------------------+----------------+ | Ubuntu 20.04 | PASS | +-------------------------------+----------------+ CentOS Stream 9 Kernel: 5.15 Compiler: gcc gcc (GCC) 11.5.0 20240719 (Red Hat 11.5.0-11) Debian GNU/Linux 12 Kernel: 5.15 Compiler: gcc gcc (Debian 12.2.0-14+deb12u1) 12.2.0 CentOS Stream 10 Kernel: 5.15 Compiler: gcc gcc (GCC) 14.2.1 20250110 (Red Hat 14.2.1-8) Fedora Linux 40 Kernel: 5.15 Compiler: clang gcc (GCC) 14.2.1 20240912 (Red Hat 14.2.1-3) Fedora Linux 42 Kernel: 5.15 Compiler: clang gcc (GCC) 15.2.1 20250808 (Red Hat 15.2.1-1) Fedora Linux 41 Kernel: 5.15 Compiler: gcc gcc (GCC) 14.3.1 20250523 (Red Hat 14.3.1-1) Red Hat Enterprise Linux 8.10 Kernel: 5.15 Compiler: gcc gcc (GCC) 8.5.0 20210514 (Red Hat 8.5.0-22) Ubuntu 24.04 Kernel: 5.15 Compiler: gcc gcc (Ubuntu 13.3.0-6ubuntu2~24.04) 13.3.0 Ubuntu 22.04 Kernel: 5.15 Compiler: gcc gcc (Ubuntu 11.4.0-1ubuntu1~22.04) 11.4.0 Red Hat Enterprise Linux 9.5 Kernel: 5.15 Compiler: gcc gcc (GCC) 11.5.0 20240719 (Red Hat 11.5.0-2) Ubuntu 20.04 Kernel: 5.15 Compiler: gcc gcc (Ubuntu 9.4.0-1ubuntu1~20.04.2) 9.4.0 To view detailed results, visit: https://lab.dpdk.org/results/dashboard/patchsets/34531/ UNH-IOL DPDK Community Lab To manage your email subscriptions, visit: https://lab.dpdk.org/results/dashboard/preferences/subscriptions/