From mboxrd@z Thu Jan 1 00:00:00 1970 Return-Path: Received: from mails.dpdk.org (mails.dpdk.org [217.70.189.124]) by inbox.dpdk.org (Postfix) with ESMTP id 8713748ADC for ; Tue, 11 Nov 2025 14:04:21 +0100 (CET) Received: from mails.dpdk.org (localhost [127.0.0.1]) by mails.dpdk.org (Postfix) with ESMTP id 81D1A40144; Tue, 11 Nov 2025 14:04:21 +0100 (CET) Received: from mail-pj1-f100.google.com (mail-pj1-f100.google.com [209.85.216.100]) by mails.dpdk.org (Postfix) with ESMTP id BA39A40144 for ; Tue, 11 Nov 2025 14:04:19 +0100 (CET) Received: by mail-pj1-f100.google.com with SMTP id 98e67ed59e1d1-3436a97f092so4037025a91.3 for ; Tue, 11 Nov 2025 05:04:19 -0800 (PST) DKIM-Signature: v=1; a=rsa-sha256; c=relaxed/relaxed; d=iol.unh.edu; s=unh-iol; t=1762866259; x=1763471059; darn=dpdk.org; h=references:in-reply-to:cc:to:from:subject:message-id:date:from:to :cc:subject:date:message-id:reply-to; bh=g7MJ632sG/5p69AnNjKXq1iew47kUwA/9GWOO86RanQ=; b=RXzUVp5OmTipct3I/j5Zpdyrhjv1iotS1z8MkBJDD8cyGr6WBsOTw31QGrUi/QyLNR mH1f2BQsOTGoP2XDW8w1IBfTdtDZp6YHaryGLst2O3Oi+qoXDvxSH7v4hAhEYkiBDCsl +JMkKOZVBJTLWf2+Rzl5rigfD6jza1o6OMx34= X-Google-DKIM-Signature: v=1; a=rsa-sha256; c=relaxed/relaxed; d=1e100.net; s=20230601; t=1762866259; x=1763471059; h=references:in-reply-to:cc:to:from:subject:message-id:date:x-gm-gg :x-gm-message-state:from:to:cc:subject:date:message-id:reply-to; bh=g7MJ632sG/5p69AnNjKXq1iew47kUwA/9GWOO86RanQ=; b=q36gcEge92Ie2YPzFJcQRRy1/F88fE6LPxJRpjxVV/0yNU/kSY5p4INF9Pfrs3qgkQ eND2OuLoaJLoGBxNGRra+dY7nAk9UZaUJ0IG1TAynA4toPJxeMD9a513Gi4dKH6T4apr Obo2J11Bjr+0qglgAvl8YzYuY4hvX0xODiu0pAy48+Ku/l10qQsO80REpCJg9KYyXEkq 8O4u/CWX8PUfP5qRBNFg70/YcW2y+JCyNlfiC5mLcNnO6mxgonxJZjAEUYH5gRP71YKS SkWCw0U61s/T0mXS3mjmVBFXuVJBdOqrHvxn9kBwp+Gocg0PDaPA4ZGMh3Ozb8NAdQWJ Tlgw== X-Gm-Message-State: AOJu0Yx0dsJc1iwwvTjWVIdUK3BmBP7w+OBbbYSLFQd0EQlfL94CC/tu eJ1uMiOmEfZLqRfMQsZrhbNSs0xXMI9eQ6GcxY+U/vpyrptPr3/ycwXuNcL0L2uFJ9tHglywHUh wx5H/Tlxj4wqwNhmLRZ2M/4AscSvXuxC2GGtLIoqoVG9I//B52WFamf8VjG6J X-Gm-Gg: ASbGnctz7dtXIb/t24tchWmb3W+SaLa9rBCYJm+skI0rVQPffwtVr4JIZiebZv9dFU8 MpiLH9NP3kaaTxeQnguGSLzP34DON+LfxxW+KXLfsUqjg9UBX9M5rl37eSIcYXhzM9XBzifz3F8 zMHTOZAXBcDPqpv6OesrqK+zZFsuiC46pqtK57im9C2tcoG1i0Y+nTijS5aPsigGqg1Q/DHLy0g 6GRTzHrabM1ydrPgahk9Ev8oO80KI0m3uXmxDGIrERI/mbcXBdIucJXclcEVg1j3E3vNwb3m2Qe qH3J7B1qVze3j3UArdfMW5TUt3uyRJI3Prndfl0p3FbUIl0suWqw9XwZHGIszhClq8oeEWkRd3U lfvpx2X86 X-Google-Smtp-Source: AGHT+IE3F2H9Pcln+V5erx5FlhJwEzToE3o5yM8wo/kTNR/ktCgi/Ka1BVkJ9mDQzG2RMLtVH19qxhKcK3fw X-Received: by 2002:a17:90b:4b04:b0:340:d81d:7874 with SMTP id 98e67ed59e1d1-3436cbc9436mr15818944a91.26.1762866258747; Tue, 11 Nov 2025 05:04:18 -0800 (PST) Received: from postal.iol.unh.edu (postal.iol.unh.edu. [2606:4100:3880:1234::84]) by smtp-relay.gmail.com with ESMTPS id 98e67ed59e1d1-341a697fd52sm2084331a91.8.2025.11.11.05.04.18 (version=TLS1_2 cipher=ECDHE-ECDSA-AES128-GCM-SHA256 bits=128/128); Tue, 11 Nov 2025 05:04:18 -0800 (PST) X-Relaying-Domain: iol.unh.edu Date: Tue, 11 Nov 2025 05:04:18 -0800 (PST) Message-ID: <69133452.170a0220.2582ae.c825SMTPIN_ADDED_MISSING@mx.google.com> Received: from [172.21.0.2] (unknown [172.18.0.240]) by postal.iol.unh.edu (Postfix) with ESMTP id 072986051830; Tue, 11 Nov 2025 08:04:18 -0500 (EST) Subject: |SUCCESS| pw158653 [PATCH] crypto/cnxk: add CPT CQ support for cn20k From: dpdklab@iol.unh.edu To: Test Report Cc: dpdk-test-reports@iol.unh.edu, Akhil Goyal In-Reply-To: <20251111111643.2279586-1-ktejasree@marvell.com> References: <20251111111643.2279586-1-ktejasree@marvell.com> Content-Type: text/plain X-BeenThere: test-report@dpdk.org X-Mailman-Version: 2.1.29 Precedence: list List-Id: automatic DPDK test reports List-Unsubscribe: , List-Archive: List-Post: List-Help: List-Subscribe: , Errors-To: test-report-bounces@dpdk.org Test-Label: iol-compile-amd64-testing Test-Status: SUCCESS http://dpdk.org/patch/158653 _Testing PASS_ Submitter: Tejasree Kondoj Date: Tuesday, November 11 2025 11:16:43 DPDK git baseline: Repo:dpdk-next-crypto Branch: master CommitID:8ae4f1d511226fd65a979e9f8a1e51835281a59b 158653 --> testing pass Upstream job id: Generic-DPDK-Compile-Meson#442950 Test environment and result as below: +-------------------------------+--------------------+------------------+ | Environment | dpdk_meson_compile | dpdk_compile_ovs | +===============================+====================+==================+ | FreeBSD 14.2 | PASS | SKIPPED | +-------------------------------+--------------------+------------------+ | Ubuntu 20.04 | PASS | SKIPPED | +-------------------------------+--------------------+------------------+ | CentOS Stream 9 | PASS | SKIPPED | +-------------------------------+--------------------+------------------+ | Fedora Linux 42 | PASS | PASS | +-------------------------------+--------------------+------------------+ | Debian GNU/Linux 12 | PASS | SKIPPED | +-------------------------------+--------------------+------------------+ | openSUSE Leap 15.6 | PASS | SKIPPED | +-------------------------------+--------------------+------------------+ | Red Hat Enterprise Linux 8.10 | PASS | SKIPPED | +-------------------------------+--------------------+------------------+ | Red Hat Enterprise Linux 9.5 | PASS | SKIPPED | +-------------------------------+--------------------+------------------+ | CentOS Stream 10 | PASS | SKIPPED | +-------------------------------+--------------------+------------------+ | Ubuntu 22.04 | PASS | SKIPPED | +-------------------------------+--------------------+------------------+ | Ubuntu 24.04 | PASS | PASS | +-------------------------------+--------------------+------------------+ | Alpine Linux 3.22.0 | PASS | SKIPPED | +-------------------------------+--------------------+------------------+ FreeBSD 14.2 Kernel: 14.2-RELEASE Compiler: clang 18.1.6 Ubuntu 20.04 Kernel: 4.19 Compiler: gcc gcc (Ubuntu 9.4.0-1ubuntu1~20.04.2) 9.4.0 CentOS Stream 9 Kernel: 5.15 Compiler: gcc gcc (GCC) 11.5.0 20240719 (Red Hat 11.5.0-11) Fedora Linux 42 Kernel: 5.15 Compiler: gcc gcc (GCC) 15.2.1 20250808 (Red Hat 15.2.1-1) Debian GNU/Linux 12 Kernel: 5.15 Compiler: gcc gcc (Debian 12.2.0-14+deb12u1) 12.2.0 openSUSE Leap 15.6 Kernel: 5.15 Compiler: gcc gcc (SUSE Linux) 7.5.0 Red Hat Enterprise Linux 8.10 Kernel: 5.15 Compiler: gcc gcc (GCC) 8.5.0 20210514 (Red Hat 8.5.0-22) Red Hat Enterprise Linux 9.5 Kernel: 5.15 Compiler: gcc gcc (GCC) 11.5.0 20240719 (Red Hat 11.5.0-2) CentOS Stream 10 Kernel: 5.15 Compiler: gcc gcc (GCC) 14.2.1 20250110 (Red Hat 14.2.1-8) Ubuntu 22.04 Kernel: 5.15 Compiler: gcc gcc (Ubuntu 11.4.0-1ubuntu1~22.04) 11.4.0 Ubuntu 24.04 Kernel: 5.15 Compiler: gcc gcc (Ubuntu 13.3.0-6ubuntu2~24.04) 13.3.0 Alpine Linux 3.22.0 Kernel: 5.15 Compiler: gcc gcc (Alpine 14.2.0) 14.2.0 To view detailed results, visit: https://lab.dpdk.org/results/dashboard/patchsets/34532/ UNH-IOL DPDK Community Lab To manage your email subscriptions, visit: https://lab.dpdk.org/results/dashboard/preferences/subscriptions/