From mboxrd@z Thu Jan 1 00:00:00 1970 Return-Path: Received: from mails.dpdk.org (mails.dpdk.org [217.70.189.124]) by inbox.dpdk.org (Postfix) with ESMTP id BB5B748ADC for ; Tue, 11 Nov 2025 14:05:15 +0100 (CET) Received: from mails.dpdk.org (localhost [127.0.0.1]) by mails.dpdk.org (Postfix) with ESMTP id B720C40144; Tue, 11 Nov 2025 14:05:15 +0100 (CET) Received: from mail-qk1-f228.google.com (mail-qk1-f228.google.com [209.85.222.228]) by mails.dpdk.org (Postfix) with ESMTP id 92AC640144 for ; Tue, 11 Nov 2025 14:05:14 +0100 (CET) Received: by mail-qk1-f228.google.com with SMTP id af79cd13be357-88e51cf965dso516696085a.2 for ; Tue, 11 Nov 2025 05:05:14 -0800 (PST) DKIM-Signature: v=1; a=rsa-sha256; c=relaxed/relaxed; d=iol.unh.edu; s=unh-iol; t=1762866314; x=1763471114; darn=dpdk.org; h=references:in-reply-to:cc:to:from:subject:message-id:date:from:to :cc:subject:date:message-id:reply-to; bh=aOMYaoFRxd7/Nb4leJizHndLwzCNqevFGm5jlKh6lu8=; b=D1Lg4edAVJpuQz4LIHo713TGKanDETIE/FJM8hKfso8corHqvFQvAIYPTROYhirShO 4W1YREqBuusvuNUt3ey2SuqBM7RhbeVmJdm7cBIFUHJ9atT79Zv2+8BooT04HF3YK/Ej SDukzdKKOxvhHmjb+wgDpCHS33x2E05qW31dE= X-Google-DKIM-Signature: v=1; a=rsa-sha256; c=relaxed/relaxed; d=1e100.net; s=20230601; t=1762866314; x=1763471114; h=references:in-reply-to:cc:to:from:subject:message-id:date:x-gm-gg :x-gm-message-state:from:to:cc:subject:date:message-id:reply-to; bh=aOMYaoFRxd7/Nb4leJizHndLwzCNqevFGm5jlKh6lu8=; b=jtlfVJsvyJy5d16loP5GFRS2fEprq236CkXl8WYPnEZS7W8OXG2l5IQIIFSqlH+C3o kG4S6YnOfcUhVrvc6t3+AjVFSKGJLHtdyYTQ5YDcjMxXelm41cs6aavYSpkpmIxdZ9pg 5WZa4aoub+WITd6yvm7NbbaKuOZ2p2ZslzH6bmRKm+efvYx7I5wAs3JJYTBpMe1JNAKu SdXvwxBLtf6cM5WrNt1YOWPw76M1pVzJhweM785/7ofQ7vLqqhv1fKlgjW0btzy0+zbp 8GMdw8HPxuJwZoXpqirQVlAlacbVxXgjKjxYxEQp7THAgtzX8W7+Db1NLHRHRPZQHze7 Jg/g== X-Gm-Message-State: AOJu0YwoBFEhX1b4FmRqme601nQiSB3D6lLNlHEDm0Bb1xR0w7AMrwhV LnGoNa9cJ5yoHVZouEwZ96zDGL2hX9T9fVrpD7rbejqrC+sDxDJZ2POwCLkruYjAvMQ7TfsMJi9 10/mqBOTyOE4uNvq0CvqzLz8eDGP3ATjyEr3+JBBgU6b9LxjsdHqSfoHVccFm X-Gm-Gg: ASbGnctHvvfTGxNFCPFpGFryGI4+0yVAEpVhXBo49V4KCF9iEbIHO9aN6JVYVTylRjp 4pzKOkfCreIUToNEBgqFmnT5qeBfT7aQSXLlowoP0ODc+HbaFPhkp+4oe5iR1TRPtq2exWs3mDE yE9ztWTIU5s9GTpBpRVHtPpCqZ+ogXv/lUf8OfISOcyJIfFUbL/XTwNt79OL1800rPw+P21v3hp 7nWciL92OxXBOcRRInJ5pByvwZuTWyh03pL7zVh0pYimRr3u3mXsIPtzPHc5qqkv3NAcbPEDidJ 6+7N/e9PbrOgLJXf/v+ot6Ntx1f9Nt8sND5deYCyERI/5Px4OriTKmb/r+Z7wcKHTvwdiPgOghE CKOZktR1r X-Google-Smtp-Source: AGHT+IHVMklX11j2pyvFuoDO9Bvsie06Y62vCxdbG2jOUcR9jN7MdXbSga0yWGXnO7KCp0U5jo613SrI7/TL X-Received: by 2002:a05:622a:1b91:b0:4ed:181c:297c with SMTP id d75a77b69052e-4eda4fed12dmr150605721cf.76.1762866313720; Tue, 11 Nov 2025 05:05:13 -0800 (PST) Received: from postal.iol.unh.edu (postal.iol.unh.edu. [2606:4100:3880:1234::84]) by smtp-relay.gmail.com with ESMTPS id af79cd13be357-8b235383220sm138770385a.0.2025.11.11.05.05.13 (version=TLS1_2 cipher=ECDHE-ECDSA-AES128-GCM-SHA256 bits=128/128); Tue, 11 Nov 2025 05:05:13 -0800 (PST) X-Relaying-Domain: iol.unh.edu Date: Tue, 11 Nov 2025 05:05:13 -0800 (PST) Message-ID: <69133489.050a0220.268c54.68bfSMTPIN_ADDED_MISSING@mx.google.com> Received: from [172.21.0.2] (unknown [172.18.0.240]) by postal.iol.unh.edu (Postfix) with ESMTP id 64E4D6051830; Tue, 11 Nov 2025 08:05:13 -0500 (EST) Subject: |SUCCESS| pw158658-158662 [PATCH] [v4,5/5] vhost_user: Increase numb From: dpdklab@iol.unh.edu To: Test Report Cc: dpdk-test-reports@iol.unh.edu, Chenbo Xia , Maxime Coquelin In-Reply-To: <20251111114002.2902696-6-pravin.bathija@dell.com> References: <20251111114002.2902696-6-pravin.bathija@dell.com> Content-Type: text/plain X-BeenThere: test-report@dpdk.org X-Mailman-Version: 2.1.29 Precedence: list List-Id: automatic DPDK test reports List-Unsubscribe: , List-Archive: List-Post: List-Help: List-Subscribe: , Errors-To: test-report-bounces@dpdk.org Test-Label: iol-compile-amd64-testing Test-Status: SUCCESS http://dpdk.org/patch/158662 _Testing PASS_ Submitter: Pravin M Bathija Date: Tuesday, November 11 2025 11:40:02 DPDK git baseline: Repo:dpdk-next-virtio Branch: master CommitID:6b37c26a95388aa41bb5267c7c42f604fd571a38 158658-158662 --> testing pass Upstream job id: Generic-DPDK-Compile-Meson#442975 Test environment and result as below: +------------------+--------------------+ | Environment | dpdk_meson_compile | +==================+====================+ | Ubuntu 20.04 | PASS | +------------------+--------------------+ | FreeBSD 14.2 | PASS | +------------------+--------------------+ | CentOS Stream 9 | PASS | +------------------+--------------------+ | CentOS Stream 10 | PASS | +------------------+--------------------+ Ubuntu 20.04 Kernel: 4.19 Compiler: gcc gcc (Ubuntu 9.4.0-1ubuntu1~20.04.2) 9.4.0 FreeBSD 14.2 Kernel: 14.2-RELEASE Compiler: clang 18.1.6 CentOS Stream 9 Kernel: 5.15 Compiler: gcc gcc (GCC) 11.5.0 20240719 (Red Hat 11.5.0-11) CentOS Stream 10 Kernel: 5.15 Compiler: gcc gcc (GCC) 14.2.1 20250110 (Red Hat 14.2.1-8) To view detailed results, visit: https://lab.dpdk.org/results/dashboard/patchsets/34533/ UNH-IOL DPDK Community Lab To manage your email subscriptions, visit: https://lab.dpdk.org/results/dashboard/preferences/subscriptions/