From mboxrd@z Thu Jan 1 00:00:00 1970 Return-Path: Received: from mails.dpdk.org (mails.dpdk.org [217.70.189.124]) by inbox.dpdk.org (Postfix) with ESMTP id ECF5B48ADC for ; Tue, 11 Nov 2025 14:16:49 +0100 (CET) Received: from mails.dpdk.org (localhost [127.0.0.1]) by mails.dpdk.org (Postfix) with ESMTP id E803C40144; Tue, 11 Nov 2025 14:16:49 +0100 (CET) Received: from mail-yx1-f97.google.com (mail-yx1-f97.google.com [74.125.224.97]) by mails.dpdk.org (Postfix) with ESMTP id 6F82940144 for ; Tue, 11 Nov 2025 14:16:49 +0100 (CET) Received: by mail-yx1-f97.google.com with SMTP id 956f58d0204a3-63f97ab5cfcso3246098d50.0 for ; Tue, 11 Nov 2025 05:16:49 -0800 (PST) DKIM-Signature: v=1; a=rsa-sha256; c=relaxed/relaxed; d=iol.unh.edu; s=unh-iol; t=1762867009; x=1763471809; darn=dpdk.org; h=references:in-reply-to:cc:to:from:subject:message-id:date:from:to :cc:subject:date:message-id:reply-to; bh=4fzJEW2r+FGYhsVqBBC6yn9F0yScTZgsklGxrrXPSDk=; b=O0J6db4zwzCGiaOFhBW4vsWvsHeoJA7bjpnc4ugQgApI10C+7VF6rjPmMfTd5mz+dy Lr1IDGkM+H79SvjeIumyKu27D/IVLrrKA3TWiotrFPqojNEeAmBkekzh2IwmmB5U/3hB fz5FZChqDAtzhUDhJ6Bjg/DLeUH3YJOs9G5No= X-Google-DKIM-Signature: v=1; a=rsa-sha256; c=relaxed/relaxed; d=1e100.net; s=20230601; t=1762867009; x=1763471809; h=references:in-reply-to:cc:to:from:subject:message-id:date:x-gm-gg :x-gm-message-state:from:to:cc:subject:date:message-id:reply-to; bh=4fzJEW2r+FGYhsVqBBC6yn9F0yScTZgsklGxrrXPSDk=; b=C80QQtV2TYX34f6jEoT74xLI++xIhovs9sTph85ymhvohw/hSznUh4GWwpWv1Apm5G PXhRVJgvHRy3YPe04qCt9Ad6K9kCrEwMmwl5o+5+9TdAsCrnm2WPidPwGXxmby2lFPB2 kv19Xxrfalkf3SO0FnpTV7uYlOR90+vQBnJNtYIzojW/5eYhaygOXZuXXV5wTiBfuJQ1 CTPYdkPqByF69z71Iv8tLHrtQg8Y5ee/GKfhRHJISb2UaJBfvJOaafw9Naf0pn+Ujclg IQ/1PYuyVapOVzyeKPfZaKNDdtz1jaoRdUBeo+DZA1FhyFrFgWPcesQbYrH4D+K3JVXG TpQg== X-Gm-Message-State: AOJu0YxSxOcUqddVyK4/4rWHq+h29AqCVhswKI2lRWFHSzCWh/O4zspk +l6067PDdYM8vn87QN9RJydm2M+wyvoXYiL1R/B2z4WlJrIE2Kl+n4euHfJGQwmxhhvhuYJEGSy 7JRiT0cJAC8nvk0YH0jZWbsCcRNdfz/uhCgsLhGcc9T18NqV6/cE1WAjTPuAA X-Gm-Gg: ASbGncuBIEb6Vt2alW4d5UDJ2Oh5t+B1cYxz2kHVlpxzDCvGTXmvr3th74+OmB1ijJ3 yAHgvv/nnDDcxAl9Z8mPHyQ290dglEaC4rWHnHOxUhiUxB/G84+GNO1hqdu0+RKC4HxbJEUyAIm b4hVvFLLHIfqOA8S2suTK05ir95K3MYq62y0dPWz6rsO4Ko1toehMMjhLp+pSbCI/OD5Rjb7DTD oOs4uflC4eUlaAG5THe+nnTIE+z/b8KfiQlXxeCaXAqFGDBbsTrp43011EWM4W68ejVfcUkKTTO yQhz2+XTBRN6cvpmyDig07OWLYPLww/3Y/jTNOJ5ECurZPNhYqz2vM1KgQElQf0ffQNhetZfVwu K898dxsy8 X-Google-Smtp-Source: AGHT+IFjZHj4djzbGHSXS021Sh8NswyyyaYuKEZrr99nNMb3YDuiBtyX0M0kQBXN1al//2djdn6CsiIXr+to X-Received: by 2002:a05:690e:15db:b0:63f:ab4c:9603 with SMTP id 956f58d0204a3-640d45b65abmr8413083d50.45.1762867008803; Tue, 11 Nov 2025 05:16:48 -0800 (PST) Received: from postal.iol.unh.edu (postal.iol.unh.edu. [2606:4100:3880:1234::84]) by smtp-relay.gmail.com with ESMTPS id 956f58d0204a3-640b5d9a8fbsm1011586d50.11.2025.11.11.05.16.48 (version=TLS1_2 cipher=ECDHE-ECDSA-AES128-GCM-SHA256 bits=128/128); Tue, 11 Nov 2025 05:16:48 -0800 (PST) X-Relaying-Domain: iol.unh.edu Date: Tue, 11 Nov 2025 05:16:48 -0800 (PST) Message-ID: <69133740.050a0220.2135ae.381fSMTPIN_ADDED_MISSING@mx.google.com> Received: from [172.21.0.4] (unknown [172.18.0.240]) by postal.iol.unh.edu (Postfix) with ESMTP id 505506051830; Tue, 11 Nov 2025 08:16:48 -0500 (EST) Subject: |SUCCESS| pw158653 [PATCH] crypto/cnxk: add CPT CQ support for cn20k From: dpdklab@iol.unh.edu To: Test Report Cc: dpdk-test-reports@iol.unh.edu, Akhil Goyal In-Reply-To: <20251111111643.2279586-1-ktejasree@marvell.com> References: <20251111111643.2279586-1-ktejasree@marvell.com> Content-Type: text/plain X-BeenThere: test-report@dpdk.org X-Mailman-Version: 2.1.29 Precedence: list List-Id: automatic DPDK test reports List-Unsubscribe: , List-Archive: List-Post: List-Help: List-Subscribe: , Errors-To: test-report-bounces@dpdk.org Test-Label: iol-unit-amd64-testing Test-Status: SUCCESS http://dpdk.org/patch/158653 _Testing PASS_ Submitter: Tejasree Kondoj Date: Tuesday, November 11 2025 11:16:43 DPDK git baseline: Repo:dpdk-next-crypto Branch: master CommitID:8ae4f1d511226fd65a979e9f8a1e51835281a59b 158653 --> testing pass Upstream job id: Generic-Unit-Test-DPDK#390993 Test environment and result as below: +-------------------------------+----------------+ | Environment | dpdk_unit_test | +===============================+================+ | Debian GNU/Linux 12 | PASS | +-------------------------------+----------------+ | CentOS Stream 9 | PASS | +-------------------------------+----------------+ | Red Hat Enterprise Linux 8.10 | PASS | +-------------------------------+----------------+ | Fedora Linux 40 | PASS | +-------------------------------+----------------+ | Fedora Linux 42 | PASS | +-------------------------------+----------------+ | Red Hat Enterprise Linux 9.5 | PASS | +-------------------------------+----------------+ | Fedora Linux 41 | PASS | +-------------------------------+----------------+ | CentOS Stream 10 | PASS | +-------------------------------+----------------+ | Ubuntu 24.04 | PASS | +-------------------------------+----------------+ | Ubuntu 20.04 | PASS | +-------------------------------+----------------+ | Ubuntu 22.04 | PASS | +-------------------------------+----------------+ Debian GNU/Linux 12 Kernel: 5.15 Compiler: gcc gcc (Debian 12.2.0-14+deb12u1) 12.2.0 CentOS Stream 9 Kernel: 5.15 Compiler: gcc gcc (GCC) 11.5.0 20240719 (Red Hat 11.5.0-11) Red Hat Enterprise Linux 8.10 Kernel: 5.15 Compiler: gcc gcc (GCC) 8.5.0 20210514 (Red Hat 8.5.0-22) Fedora Linux 40 Kernel: 5.15 Compiler: gcc gcc (GCC) 14.2.1 20240912 (Red Hat 14.2.1-3) Fedora Linux 42 Kernel: 5.15 Compiler: clang gcc (GCC) 15.2.1 20250808 (Red Hat 15.2.1-1) Red Hat Enterprise Linux 9.5 Kernel: 5.15 Compiler: gcc gcc (GCC) 11.5.0 20240719 (Red Hat 11.5.0-2) Fedora Linux 41 Kernel: 5.15 Compiler: gcc gcc (GCC) 14.3.1 20250523 (Red Hat 14.3.1-1) CentOS Stream 10 Kernel: 5.15 Compiler: gcc gcc (GCC) 14.2.1 20250110 (Red Hat 14.2.1-8) Ubuntu 24.04 Kernel: 5.15 Compiler: gcc gcc (Ubuntu 13.3.0-6ubuntu2~24.04) 13.3.0 Ubuntu 20.04 Kernel: 5.15 Compiler: gcc gcc (Ubuntu 9.4.0-1ubuntu1~20.04.2) 9.4.0 Ubuntu 22.04 Kernel: 5.15 Compiler: gcc gcc (Ubuntu 11.4.0-1ubuntu1~22.04) 11.4.0 To view detailed results, visit: https://lab.dpdk.org/results/dashboard/patchsets/34532/ UNH-IOL DPDK Community Lab To manage your email subscriptions, visit: https://lab.dpdk.org/results/dashboard/preferences/subscriptions/