From mboxrd@z Thu Jan 1 00:00:00 1970 Return-Path: Received: from mails.dpdk.org (mails.dpdk.org [217.70.189.124]) by inbox.dpdk.org (Postfix) with ESMTP id 4AABF48ADC for ; Tue, 11 Nov 2025 14:49:57 +0100 (CET) Received: from mails.dpdk.org (localhost [127.0.0.1]) by mails.dpdk.org (Postfix) with ESMTP id 2AF5F40144; Tue, 11 Nov 2025 14:49:57 +0100 (CET) Received: from mail-pg1-f225.google.com (mail-pg1-f225.google.com [209.85.215.225]) by mails.dpdk.org (Postfix) with ESMTP id 8D02540144 for ; Tue, 11 Nov 2025 14:49:55 +0100 (CET) Received: by mail-pg1-f225.google.com with SMTP id 41be03b00d2f7-b9a5b5b47bfso2357543a12.1 for ; Tue, 11 Nov 2025 05:49:55 -0800 (PST) DKIM-Signature: v=1; a=rsa-sha256; c=relaxed/relaxed; d=iol.unh.edu; s=unh-iol; t=1762868994; x=1763473794; darn=dpdk.org; h=references:in-reply-to:cc:to:from:subject:message-id:date:from:to :cc:subject:date:message-id:reply-to; bh=BPX/kXzigY1AnxINui7O/VI4EwEXwPdeRgelRQGt6O4=; b=B+Sm11p90HHN0TToZE4Hl4fzEwK/l9mB+XjU+adYb50ksTrXWDT6eGocplu7AfiGPK CRE0eoBZvZ41tTklG2fkKB68hm8A64sU0hZizHFccFSkBvpLWkiAU6vGBOiq8zC4Ysyz lQjISZe7gyPVitLCOSJr2VWjor9WK04ETxa3g= X-Google-DKIM-Signature: v=1; a=rsa-sha256; c=relaxed/relaxed; d=1e100.net; s=20230601; t=1762868994; x=1763473794; h=references:in-reply-to:cc:to:from:subject:message-id:date:x-gm-gg :x-gm-message-state:from:to:cc:subject:date:message-id:reply-to; bh=BPX/kXzigY1AnxINui7O/VI4EwEXwPdeRgelRQGt6O4=; b=ROgOAekngkSiB4puFz+f0ME0yxm0wZvY1zq9F2xh+jxJdNOarQ6tAFWuWdMsiD7EM4 blohY1DtJhPhGBZ0cSvD3Qw2zCJhY5ppjsFsR1cUj0gZwfJK6d+RD0vgeD8/Fm3YeZi1 FxRp/nhp7REc8ffqKTdwqAkGsmsGpuXZgSS3nc5NU+BNunSBN6E4etjWQ2kM32WjQwn3 kJwqwRhKD4sJCskavPs2cDC6/BdStCLGx+VEFJ7z4n124CNNCwlAW20ZWsZgB0LaRsWJ nS22OFPRzYWhbwiE3R4HHq4p6rrXeZzr/KQe+1Lp7X5IHygvLSdVjvRa12ShzKMVTz4B x0zA== X-Gm-Message-State: AOJu0YyZcIE81BgZc2omoXWlV2sEoSad0DPSLGmLBZ1uSYORq3vejZ1k X4xA1GgIxq6yf1FBb3cic2R58k1B6YQfFSixeLo/8EzC33nllG0uMf8Ru8PwgIbgWbStrSmfswK 51gL2/3WdixtigvShzgVdj2CDas1+u7A2Peo5RnfCps2o X-Gm-Gg: ASbGncvUIDXNuBNq7wndH2EPIYRNw2qHOv6SX7Xqu1W7tHmXKWO96ouwhhR8GQAWydv T1+6enP6gV1ltKQp6uC44sebK7EWB8Vlb+pxMkvBKd02lmfjMFLpkY8VTyqi40rPb/Ep3mukSz+ Tr8BsmPZR3hY+jLuWLxF+T/8pWmTMv8wbfyn6GpVRWHOsRvHoi3l1zlWqMRIbJHlQDV+N/ZUxEA NgPZYACmFYlhoBl1zpz2km5XF7UgFFsDxnxlgz2Augbr7SGvbfLn09JJQTkpqFxxPgTGGINddGU hS1L9HJC/PR7/5CBMpLeZThn1MNXtX8y31FJIh67G3FHgdcznAtgyYc+2wKVGCWj/DFLKg2Tp5B rX3pv6IFGAcxby1pmh9L645BYv8V7Seo= X-Google-Smtp-Source: AGHT+IG0Ryo9lJvNqRqK6XMXdk7C9lfFLEBSd+422TvfvTB1sZUb57uhbPV5bA5law6G9s2fXV9AEGdsB5e1 X-Received: by 2002:a17:903:2b04:b0:298:43f4:cc4b with SMTP id d9443c01a7336-29843f4d14amr29004215ad.26.1762868994616; Tue, 11 Nov 2025 05:49:54 -0800 (PST) Received: from postal.iol.unh.edu (postal.iol.unh.edu. [132.177.123.84]) by smtp-relay.gmail.com with ESMTPS id d9443c01a7336-29651c8f840sm17464215ad.55.2025.11.11.05.49.54 (version=TLS1_2 cipher=ECDHE-ECDSA-AES128-GCM-SHA256 bits=128/128); Tue, 11 Nov 2025 05:49:54 -0800 (PST) X-Relaying-Domain: iol.unh.edu Date: Tue, 11 Nov 2025 05:49:54 -0800 (PST) Message-ID: <69133f02.170a0220.173b7b.b443SMTPIN_ADDED_MISSING@mx.google.com> Received: from [172.21.0.3] (unknown [172.18.0.240]) by postal.iol.unh.edu (Postfix) with ESMTP id 0F1A16051830; Tue, 11 Nov 2025 08:49:54 -0500 (EST) Subject: |SUCCESS| pw158658-158662 [PATCH] [v4,5/5] vhost_user: Increase numb From: dpdklab@iol.unh.edu To: Test Report Cc: dpdk-test-reports@iol.unh.edu, Chenbo Xia , Maxime Coquelin In-Reply-To: <20251111114002.2902696-6-pravin.bathija@dell.com> References: <20251111114002.2902696-6-pravin.bathija@dell.com> Content-Type: text/plain X-BeenThere: test-report@dpdk.org X-Mailman-Version: 2.1.29 Precedence: list List-Id: automatic DPDK test reports List-Unsubscribe: , List-Archive: List-Post: List-Help: List-Subscribe: , Errors-To: test-report-bounces@dpdk.org Test-Label: iol-unit-amd64-testing Test-Status: SUCCESS http://dpdk.org/patch/158662 _Testing PASS_ Submitter: Pravin M Bathija Date: Tuesday, November 11 2025 11:40:02 DPDK git baseline: Repo:dpdk-next-virtio Branch: master CommitID:6b37c26a95388aa41bb5267c7c42f604fd571a38 158658-158662 --> testing pass Upstream job id: Generic-Unit-Test-DPDK#391032 Test environment and result as below: +-------------------------------+----------------+ | Environment | dpdk_unit_test | +===============================+================+ | Fedora Linux 40 | PASS | +-------------------------------+----------------+ | Debian GNU/Linux 12 | PASS | +-------------------------------+----------------+ | Fedora Linux 41 | PASS | +-------------------------------+----------------+ | Fedora Linux 42 | PASS | +-------------------------------+----------------+ | CentOS Stream 9 | PASS | +-------------------------------+----------------+ | CentOS Stream 10 | PASS | +-------------------------------+----------------+ | Red Hat Enterprise Linux 8.10 | PASS | +-------------------------------+----------------+ | Ubuntu 22.04 | PASS | +-------------------------------+----------------+ | Ubuntu 24.04 | PASS | +-------------------------------+----------------+ | Red Hat Enterprise Linux 9.5 | PASS | +-------------------------------+----------------+ | Ubuntu 20.04 | PASS | +-------------------------------+----------------+ Fedora Linux 40 Kernel: 5.15 Compiler: clang gcc (GCC) 14.2.1 20240912 (Red Hat 14.2.1-3) Debian GNU/Linux 12 Kernel: 5.15 Compiler: gcc gcc (Debian 12.2.0-14+deb12u1) 12.2.0 Fedora Linux 41 Kernel: 5.15 Compiler: gcc gcc (GCC) 14.3.1 20250523 (Red Hat 14.3.1-1) Fedora Linux 42 Kernel: 5.15 Compiler: clang gcc (GCC) 15.2.1 20250808 (Red Hat 15.2.1-1) CentOS Stream 9 Kernel: 5.15 Compiler: gcc gcc (GCC) 11.5.0 20240719 (Red Hat 11.5.0-11) CentOS Stream 10 Kernel: 5.15 Compiler: gcc gcc (GCC) 14.2.1 20250110 (Red Hat 14.2.1-8) Red Hat Enterprise Linux 8.10 Kernel: 5.15 Compiler: gcc gcc (GCC) 8.5.0 20210514 (Red Hat 8.5.0-22) Ubuntu 22.04 Kernel: 5.15 Compiler: gcc gcc (Ubuntu 11.4.0-1ubuntu1~22.04) 11.4.0 Ubuntu 24.04 Kernel: 5.15 Compiler: gcc gcc (Ubuntu 13.3.0-6ubuntu2~24.04) 13.3.0 Red Hat Enterprise Linux 9.5 Kernel: 5.15 Compiler: gcc gcc (GCC) 11.5.0 20240719 (Red Hat 11.5.0-2) Ubuntu 20.04 Kernel: 5.15 Compiler: gcc gcc (Ubuntu 9.4.0-1ubuntu1~20.04.2) 9.4.0 To view detailed results, visit: https://lab.dpdk.org/results/dashboard/patchsets/34533/ UNH-IOL DPDK Community Lab To manage your email subscriptions, visit: https://lab.dpdk.org/results/dashboard/preferences/subscriptions/