From mboxrd@z Thu Jan 1 00:00:00 1970 Return-Path: Received: from mails.dpdk.org (mails.dpdk.org [217.70.189.124]) by inbox.dpdk.org (Postfix) with ESMTP id B7E6748ADC for ; Tue, 11 Nov 2025 14:54:35 +0100 (CET) Received: from mails.dpdk.org (localhost [127.0.0.1]) by mails.dpdk.org (Postfix) with ESMTP id B232940144; Tue, 11 Nov 2025 14:54:35 +0100 (CET) Received: from mail-pf1-f226.google.com (mail-pf1-f226.google.com [209.85.210.226]) by mails.dpdk.org (Postfix) with ESMTP id B809240144 for ; Tue, 11 Nov 2025 14:54:34 +0100 (CET) Received: by mail-pf1-f226.google.com with SMTP id d2e1a72fcca58-7b22ffa2a88so2117070b3a.1 for ; Tue, 11 Nov 2025 05:54:34 -0800 (PST) DKIM-Signature: v=1; a=rsa-sha256; c=relaxed/relaxed; d=iol.unh.edu; s=unh-iol; t=1762869274; x=1763474074; darn=dpdk.org; h=references:in-reply-to:cc:to:from:subject:message-id:date:from:to :cc:subject:date:message-id:reply-to; bh=IoJCB1eoGJ/mZPRhli6WpH56oBLMT2o2FoW28AtEx64=; b=dBcpAqsgz6dLcb8NMd4LDWDFevKoCLFrkyFCkkqBr9hOVsNOg8TETnL/zexK0S4f7d Pa4T7i1uIsYWCwvWK5rbyqG7ZSJA76UV7zXbxl6FomxQnwvDthX9Mf49nH+nrz4eTwCy u0exbeqYYBCprMcSiAdT9oWUHjmipm1rQ55T0= X-Google-DKIM-Signature: v=1; a=rsa-sha256; c=relaxed/relaxed; d=1e100.net; s=20230601; t=1762869274; x=1763474074; h=references:in-reply-to:cc:to:from:subject:message-id:date:x-gm-gg :x-gm-message-state:from:to:cc:subject:date:message-id:reply-to; bh=IoJCB1eoGJ/mZPRhli6WpH56oBLMT2o2FoW28AtEx64=; b=s54fWfLMYvxETaqkvHxtQ02Hc+5FFLf3Oh3Oj46SIQL8JzmHA9Y5eI7ElFIKYDNRW4 CvwB5AZkrrXDEQKJRFgYgF1l9xBko4ICwbCacDpZt2FErxiwx7Qcaspqv6zhCCObSDU2 WNz8LgfGfi9/djdhpDoQn1u5zJpNwjwCIy8iurxgLmu8DRCEFYvmpaz99tyO9gRPtbRb ym83/H9vpe7kzazSLfFT6Kb3NsMAathFNGv98IzJzsdMc9jPrwT1bOIzIvdO2CIPPC1W XiPLiUaExcUhufFAfA3QMR3KdN4aobz/Ox0w+BRfrQSyCuIDT6XOgQoERlsnSg8m6Tdi jL2A== X-Gm-Message-State: AOJu0YzzrJ8iIRlprl10v6pglvsuQPqJG8OG6FYx/zGx4a8y+dOlg7u2 UZ06vm4hwevswq4mjYd+h7zBP5YKAk77BAmzWR0ZIS/lRP1NWhFVquyPK3B5by44n+53jAiwCKY H/sWj+VxzYd3P7wawgXMg6a3SknfZ/a24WtR/t6WgcUws X-Gm-Gg: ASbGncsT81sVp/2ruNAUJ/HZzH64/jGbJL3TSmfy57e6wjfbwrnIMLXNXmTkENY1BtO 2x7n24ZiBH+jRX3avKeiaXJQlasZjYPGmhnqe687Oab/QhLzRTgOQUO7dSGCa+Qu3oQAy2ihUqr DsUCNZbQ3mGNxS2CZakd3LgMo6L1KXouhMsjs9/+5CqnCclAWKaXy4mS/a44Awf6YJGGDCTUuOY rBExzlP1/lEmRVd8XYD02ZQ1tTUM68te4ue8IT70UVAv9LOWKGyuKg8mcQYkmxhOg8sc0YwgPsu 25uyN2EvKHtfEA+WXKnmZGyhMdzw242downMS/mdojgS9onXaioTRP1+X33edu+gf6ZEIrWQeSE 2gu2oAUNMyMFmIvAxDMgPDQRqbhYz/Sc= X-Google-Smtp-Source: AGHT+IEfDOsBFi+A6jgmPFZ0gy1ZRurtOjhiCj9ibsbaAD+7bI1STGq1+jD4TRAMq9Uvpd4610J2L0NEVOuK X-Received: by 2002:a17:902:d4cd:b0:295:6d30:e268 with SMTP id d9443c01a7336-297e57101f6mr184510985ad.59.1762869273890; Tue, 11 Nov 2025 05:54:33 -0800 (PST) Received: from postal.iol.unh.edu (postal.iol.unh.edu. [132.177.123.84]) by smtp-relay.gmail.com with ESMTPS id d9443c01a7336-29651cc5d00sm16568535ad.63.2025.11.11.05.54.33 (version=TLS1_2 cipher=ECDHE-ECDSA-AES128-GCM-SHA256 bits=128/128); Tue, 11 Nov 2025 05:54:33 -0800 (PST) X-Relaying-Domain: iol.unh.edu Date: Tue, 11 Nov 2025 05:54:33 -0800 (PST) Message-ID: <69134019.170a0220.31670c.556cSMTPIN_ADDED_MISSING@mx.google.com> Received: from [172.21.0.3] (unknown [172.18.0.240]) by postal.iol.unh.edu (Postfix) with ESMTP id 2D30D6051830; Tue, 11 Nov 2025 08:54:33 -0500 (EST) Subject: |SUCCESS| pw158655-158657 [PATCH] [v2,4/4] net/nbl: add IOVA mode ch From: dpdklab@iol.unh.edu To: Test Report Cc: dpdk-test-reports@iol.unh.edu, Stephen Hemminger In-Reply-To: <20251111113144.3567291-5-dimon.zhao@nebula-matrix.com> References: <20251111113144.3567291-5-dimon.zhao@nebula-matrix.com> Content-Type: text/plain X-BeenThere: test-report@dpdk.org X-Mailman-Version: 2.1.29 Precedence: list List-Id: automatic DPDK test reports List-Unsubscribe: , List-Archive: List-Post: List-Help: List-Subscribe: , Errors-To: test-report-bounces@dpdk.org Test-Label: iol-unit-amd64-testing Test-Status: SUCCESS http://dpdk.org/patch/158657 _Testing PASS_ Submitter: Dimon Zhao Date: Tuesday, November 11 2025 11:31:43 DPDK git baseline: Repo:dpdk-next-net Branch: master CommitID:591ee7f468aebec30d68d30afa8d5e4dcfc897dc 158655-158657 --> testing pass Upstream job id: Generic-Unit-Test-DPDK#391066 Test environment and result as below: +-------------------------------+----------------+ | Environment | dpdk_unit_test | +===============================+================+ | CentOS Stream 9 | PASS | +-------------------------------+----------------+ | CentOS Stream 10 | PASS | +-------------------------------+----------------+ | Debian GNU/Linux 12 | PASS | +-------------------------------+----------------+ | Fedora Linux 40 | PASS | +-------------------------------+----------------+ | Fedora Linux 41 | PASS | +-------------------------------+----------------+ | Fedora Linux 42 | PASS | +-------------------------------+----------------+ | Ubuntu 24.04 | PASS | +-------------------------------+----------------+ | Red Hat Enterprise Linux 9.5 | PASS | +-------------------------------+----------------+ | Red Hat Enterprise Linux 8.10 | PASS | +-------------------------------+----------------+ | Ubuntu 22.04 | PASS | +-------------------------------+----------------+ | Ubuntu 20.04 | PASS | +-------------------------------+----------------+ CentOS Stream 9 Kernel: 5.15 Compiler: gcc gcc (GCC) 11.5.0 20240719 (Red Hat 11.5.0-11) CentOS Stream 10 Kernel: 5.15 Compiler: gcc gcc (GCC) 14.2.1 20250110 (Red Hat 14.2.1-8) Debian GNU/Linux 12 Kernel: 5.15 Compiler: gcc gcc (Debian 12.2.0-14+deb12u1) 12.2.0 Fedora Linux 40 Kernel: 5.15 Compiler: gcc gcc (GCC) 14.2.1 20240912 (Red Hat 14.2.1-3) Fedora Linux 41 Kernel: 5.15 Compiler: clang gcc (GCC) 14.3.1 20250523 (Red Hat 14.3.1-1) Fedora Linux 42 Kernel: 5.15 Compiler: clang gcc (GCC) 15.2.1 20250808 (Red Hat 15.2.1-1) Ubuntu 24.04 Kernel: 5.15 Compiler: gcc gcc (Ubuntu 13.3.0-6ubuntu2~24.04) 13.3.0 Red Hat Enterprise Linux 9.5 Kernel: 5.15 Compiler: gcc gcc (GCC) 11.5.0 20240719 (Red Hat 11.5.0-2) Red Hat Enterprise Linux 8.10 Kernel: 5.15 Compiler: gcc gcc (GCC) 8.5.0 20210514 (Red Hat 8.5.0-22) Ubuntu 22.04 Kernel: 5.15 Compiler: gcc gcc (Ubuntu 11.4.0-1ubuntu1~22.04) 11.4.0 Ubuntu 20.04 Kernel: 5.15 Compiler: gcc gcc (Ubuntu 9.4.0-1ubuntu1~20.04.2) 9.4.0 To view detailed results, visit: https://lab.dpdk.org/results/dashboard/patchsets/34534/ UNH-IOL DPDK Community Lab To manage your email subscriptions, visit: https://lab.dpdk.org/results/dashboard/preferences/subscriptions/