From mboxrd@z Thu Jan 1 00:00:00 1970 Return-Path: Received: from mails.dpdk.org (mails.dpdk.org [217.70.189.124]) by inbox.dpdk.org (Postfix) with ESMTP id 8772A48ADC for ; Tue, 11 Nov 2025 15:12:05 +0100 (CET) Received: from mails.dpdk.org (localhost [127.0.0.1]) by mails.dpdk.org (Postfix) with ESMTP id 66E4F40144; Tue, 11 Nov 2025 15:12:05 +0100 (CET) Received: from mail-pf1-f228.google.com (mail-pf1-f228.google.com [209.85.210.228]) by mails.dpdk.org (Postfix) with ESMTP id 2EF1C40144 for ; Tue, 11 Nov 2025 15:12:04 +0100 (CET) Received: by mail-pf1-f228.google.com with SMTP id d2e1a72fcca58-7b75e366866so8979b3a.2 for ; Tue, 11 Nov 2025 06:12:04 -0800 (PST) DKIM-Signature: v=1; a=rsa-sha256; c=relaxed/relaxed; d=iol.unh.edu; s=unh-iol; t=1762870323; x=1763475123; darn=dpdk.org; h=references:in-reply-to:cc:to:from:subject:message-id:date:from:to :cc:subject:date:message-id:reply-to; bh=wPto0+ZkL/J0l9aKtGy78MxNdsiodc9/xPoon22CNEc=; b=PlOJrRbDCJJAqMGIcF/LEhpGVu3Mcx1pYf9hIEpikMEM1a/O0NC0rhGvkFkfa82GB7 IpSfJBNsAaqU23mu1uI7eGm7ETOQw0rE6wsmD7dtU5BjK1lk5Qe1Evno6XOGbqdhF07d Sw02llKQ7GZpu/ggs8G/tZSXXvVBpaOQfZS0M= X-Google-DKIM-Signature: v=1; a=rsa-sha256; c=relaxed/relaxed; d=1e100.net; s=20230601; t=1762870323; x=1763475123; h=references:in-reply-to:cc:to:from:subject:message-id:date:x-gm-gg :x-gm-message-state:from:to:cc:subject:date:message-id:reply-to; bh=wPto0+ZkL/J0l9aKtGy78MxNdsiodc9/xPoon22CNEc=; b=TSdRAcVzzGgxlVJAcYi7HuBHPZA5lRqGYT+wxNppL2flUyARA+e76rLFf/09oh6TBI GWJrNt006c3vVD1HWRpzbIwTshuydjOY+98fUm3HNksfB040tpD9Kqr8Xp5NEBLxnBPN bHNDsxXFq5BkbkDyTIowcE0N9t6eHexYhyD+eATNvIp291CxQwXB8B444BwxtgUV7B+h zX8jFFNM5UrDRhv4l6EU/Vjm1Wa+bxvGkEwv/3f5Zs3jRoETZHxqQhRC9ht1NAQNkMUO VUvAsPlK8C6fWIzKYkGCbTzUPa+PYKuU964V+CSKydKKWrxIyVXPDdcJ+ZlWW2sdepOJ q+og== X-Gm-Message-State: AOJu0Yy27TD9dRXaHk4I03XD+kj6DUpBoKeqtH46hJKiVoCqT8sykmu5 OWq6T7h9JFgfj9nxzlucS152UOJN6jyFxOFVmtuvnfGJa3/n/bf6ZxdYq2wIachuh94egryhJJ9 oqotLGli6rpk9F4/6MPUrSwHd5hQBBA8w5Mbg0I4ai14uYjlTm0CW/RFiogRY X-Gm-Gg: ASbGnctCGMZBxXB4flnDw/t1W3RXhzD7lERxot3GM2KCoXc0pqsyApDguAjcLlosgZb 9OZ0TQG2ApLBmYF3vey1FluXfFoiMlMtumeG3oCXAcUMuQcXbXgXqPUH+3lQoWZnWzrvtxw490v XjVHa9XeyqxBiJUjRXx5KwS/DBWgCL7zPawBNRVHyXNozUX3NdpRiviyNM+boa/E2u01pgSD1oz Gcqh0YB4PF92LcgNC6prGzRDlJOK0SaYCjdIo+tjrak1KOEdd4JsYSoIUbArqBdNbASsPr3GKt5 NhPvKS4eHH2vESeHoCX/5yU+IkAh/ynfUI7sKQlHZbv/aNfVqU05w0HqDIxjTxBv+5dScpYkB9+ RtJUpeZdY X-Google-Smtp-Source: AGHT+IGfSe59gluhZmzKOlGCeXM8oiVC0FaIReqOrclN5V+knh0B4yvxLJ57hA+c6IKuXe1+Vi1Fl+rZhn6K X-Received: by 2002:a17:902:e891:b0:297:e252:9e50 with SMTP id d9443c01a7336-297e56ca1abmr167783435ad.42.1762870323108; Tue, 11 Nov 2025 06:12:03 -0800 (PST) Received: from postal.iol.unh.edu (postal.iol.unh.edu. [2606:4100:3880:1234::84]) by smtp-relay.gmail.com with ESMTPS id d9443c01a7336-2965096e4a5sm17023025ad.11.2025.11.11.06.12.02 (version=TLS1_2 cipher=ECDHE-ECDSA-AES128-GCM-SHA256 bits=128/128); Tue, 11 Nov 2025 06:12:03 -0800 (PST) X-Relaying-Domain: iol.unh.edu Date: Tue, 11 Nov 2025 06:12:03 -0800 (PST) Message-ID: <69134433.170a0220.1660c8.6aedSMTPIN_ADDED_MISSING@mx.google.com> Received: from [172.21.0.2] (unknown [172.18.0.240]) by postal.iol.unh.edu (Postfix) with ESMTP id 49F956051830; Tue, 11 Nov 2025 09:12:02 -0500 (EST) Subject: |SUCCESS| pw158658-158662 [PATCH] [v4,5/5] vhost_user: Increase numb From: dpdklab@iol.unh.edu To: Test Report Cc: dpdk-test-reports@iol.unh.edu, Chenbo Xia , Maxime Coquelin In-Reply-To: <20251111114002.2902696-6-pravin.bathija@dell.com> References: <20251111114002.2902696-6-pravin.bathija@dell.com> Content-Type: text/plain X-BeenThere: test-report@dpdk.org X-Mailman-Version: 2.1.29 Precedence: list List-Id: automatic DPDK test reports List-Unsubscribe: , List-Archive: List-Post: List-Help: List-Subscribe: , Errors-To: test-report-bounces@dpdk.org Test-Label: iol-compile-amd64-testing Test-Status: SUCCESS http://dpdk.org/patch/158662 _Testing PASS_ Submitter: Pravin M Bathija Date: Tuesday, November 11 2025 11:40:02 DPDK git baseline: Repo:dpdk-next-virtio Branch: master CommitID:6b37c26a95388aa41bb5267c7c42f604fd571a38 158658-158662 --> testing pass Upstream job id: Generic-DPDK-Compile-Meson#442977 Test environment and result as below: +-------------------------------+--------------------+------------------+ | Environment | dpdk_meson_compile | dpdk_compile_ovs | +===============================+====================+==================+ | Ubuntu 20.04 | PASS | SKIPPED | +-------------------------------+--------------------+------------------+ | FreeBSD 14.2 | PASS | SKIPPED | +-------------------------------+--------------------+------------------+ | CentOS Stream 9 | PASS | SKIPPED | +-------------------------------+--------------------+------------------+ | CentOS Stream 10 | PASS | SKIPPED | +-------------------------------+--------------------+------------------+ | Debian GNU/Linux 12 | PASS | SKIPPED | +-------------------------------+--------------------+------------------+ | Fedora Linux 42 | PASS | PASS | +-------------------------------+--------------------+------------------+ | openSUSE Leap 15.6 | PASS | SKIPPED | +-------------------------------+--------------------+------------------+ | Red Hat Enterprise Linux 8.10 | PASS | SKIPPED | +-------------------------------+--------------------+------------------+ | Red Hat Enterprise Linux 9.5 | PASS | SKIPPED | +-------------------------------+--------------------+------------------+ | Ubuntu 22.04 | PASS | SKIPPED | +-------------------------------+--------------------+------------------+ | Ubuntu 24.04 | PASS | PASS | +-------------------------------+--------------------+------------------+ | Alpine Linux 3.22.0 | PASS | SKIPPED | +-------------------------------+--------------------+------------------+ Ubuntu 20.04 Kernel: 4.19 Compiler: gcc gcc (Ubuntu 9.4.0-1ubuntu1~20.04.2) 9.4.0 FreeBSD 14.2 Kernel: 14.2-RELEASE Compiler: clang 18.1.6 CentOS Stream 9 Kernel: 5.15 Compiler: gcc gcc (GCC) 11.5.0 20240719 (Red Hat 11.5.0-11) CentOS Stream 10 Kernel: 5.15 Compiler: gcc gcc (GCC) 14.2.1 20250110 (Red Hat 14.2.1-8) Debian GNU/Linux 12 Kernel: 5.15 Compiler: gcc gcc (Debian 12.2.0-14+deb12u1) 12.2.0 Fedora Linux 42 Kernel: 5.15 Compiler: clang gcc (GCC) 15.2.1 20250808 (Red Hat 15.2.1-1) openSUSE Leap 15.6 Kernel: 5.15 Compiler: gcc gcc (SUSE Linux) 7.5.0 Red Hat Enterprise Linux 8.10 Kernel: 5.15 Compiler: gcc gcc (GCC) 8.5.0 20210514 (Red Hat 8.5.0-22) Red Hat Enterprise Linux 9.5 Kernel: 5.15 Compiler: gcc gcc (GCC) 11.5.0 20240719 (Red Hat 11.5.0-2) Ubuntu 22.04 Kernel: 5.15 Compiler: gcc gcc (Ubuntu 11.4.0-1ubuntu1~22.04) 11.4.0 Ubuntu 24.04 Kernel: 5.15 Compiler: gcc gcc (Ubuntu 13.3.0-6ubuntu2~24.04) 13.3.0 Alpine Linux 3.22.0 Kernel: 5.15 Compiler: gcc gcc (Alpine 14.2.0) 14.2.0 To view detailed results, visit: https://lab.dpdk.org/results/dashboard/patchsets/34533/ UNH-IOL DPDK Community Lab To manage your email subscriptions, visit: https://lab.dpdk.org/results/dashboard/preferences/subscriptions/