From mboxrd@z Thu Jan 1 00:00:00 1970 Return-Path: Received: from mails.dpdk.org (mails.dpdk.org [217.70.189.124]) by inbox.dpdk.org (Postfix) with ESMTP id 279B148ADC for ; Tue, 11 Nov 2025 15:17:55 +0100 (CET) Received: from mails.dpdk.org (localhost [127.0.0.1]) by mails.dpdk.org (Postfix) with ESMTP id 1F70A40144; Tue, 11 Nov 2025 15:17:55 +0100 (CET) Received: from mail-yx1-f98.google.com (mail-yx1-f98.google.com [74.125.224.98]) by mails.dpdk.org (Postfix) with ESMTP id 6607F40144 for ; Tue, 11 Nov 2025 15:17:53 +0100 (CET) Received: by mail-yx1-f98.google.com with SMTP id 956f58d0204a3-640c857ce02so3688192d50.0 for ; Tue, 11 Nov 2025 06:17:53 -0800 (PST) DKIM-Signature: v=1; a=rsa-sha256; c=relaxed/relaxed; d=iol.unh.edu; s=unh-iol; t=1762870673; x=1763475473; darn=dpdk.org; h=references:in-reply-to:cc:to:from:subject:message-id:date:from:to :cc:subject:date:message-id:reply-to; bh=9CNVXJWDPoWaXCrjZ7IPdGFfNaGG7lmiuwMHG0nZFHI=; b=CZTArenIs04SzFhisAoFp4MOlyfHEqLJ6dkewSi7RftaqmnablXPYQBK2Zouwt/KJ6 gKygBFNEZxA72TgwKuPPikDvnZN4gs/dQed2oGdI2DhLm11gwcYCr3jiYQVCzpyO71Hd oIecIiOk7/rnfBRIfo9ptt0z2N5trHXGmp/tU= X-Google-DKIM-Signature: v=1; a=rsa-sha256; c=relaxed/relaxed; d=1e100.net; s=20230601; t=1762870673; x=1763475473; h=references:in-reply-to:cc:to:from:subject:message-id:date:x-gm-gg :x-gm-message-state:from:to:cc:subject:date:message-id:reply-to; bh=9CNVXJWDPoWaXCrjZ7IPdGFfNaGG7lmiuwMHG0nZFHI=; b=Kc7kHUDxf8/lyrXLZQf/csvUUhz3e6QpEecPovPomm3+3JHyKGQB+6r/Ir1/thg7/Q uA+5RubMtyu1UccQWG6YCj86xsEPvFLZy84EHoqfB0M11IfHvvPPilCEaTU2IvKPgbNE ZiJJU7jGaDOVinE6OI9NhoYN3GYnmbUvpsBiT6N8K905JsuWlR1pJV4fl5gt1AI+keYP RlXfW1EV1LQ6lXEHYuw5v44GF6/Zpdqk5KNlabNPqXQovhOB6B6nzL4Fv8BK6JXESJpo sauMOdbB/8B6246bz2iyPMz7TuvNo1yKvQtZaF07am8C7VU4k2TQ0+mPTSI/FKS9MG6y 0QtA== X-Gm-Message-State: AOJu0YyMaA+oY2ovSV6rhCa/83tPa3MQ++yA+M+ROluJDVY7//q6a2R1 pX1cxvPttNL/UDpmu0NWbSQRjYLCrBRveEx9NHkDTcUzNSEoD/7BTATTlpd88Xxk1as5H8APiwt 6Td/MaCIRsPrHAseZ0pVqQqIucTeWW16VsH+Wp589xWnbSgA7QgJajZfEFd3B X-Gm-Gg: ASbGncuF3ouLCfkSl8NvUbcvu1I5JL+CXztPYg1u8RcFVbpq5voWP3O3HYUsgJN8M6F Aj8X+LLJ8Nfu2cRp8Cv6OsJ0tcaMHVFi+gDMEHWdeRW0zqLMOQfvAUvFzj0I2ohj2TGV2+iVdPA nHgxVX4zir6FpzhvfW/ZmKxKT/BB6yjEbJRMtLGOlJvGx44tmCNkj37XqEt7ZkTZpFH9/NGt6Pe 7C2Hg9mlzvLGf0ovGTFxdkY6hTGOcznsJyyumVx9K9Q/j4+fpBbT0bhsRnNfjd/HRWwMRdKxd9x lEyztHn0jYakEPFOtxf2JMkH5eMBUi7FxIPaWBGDRv13IyMuYn533TD3vMz+/KowWMxSg1gX9cS QsT0U8STK X-Google-Smtp-Source: AGHT+IEd0bqMXXCGTW+/i/qyibV4DnhfVxrbGR+1ka8qsIBnOuKCfOXT1R97x/0/T2RsqxyI28/iQv5toHo5 X-Received: by 2002:a05:690e:158f:20b0:63e:3099:e305 with SMTP id 956f58d0204a3-640d45873b5mr9023314d50.28.1762870672719; Tue, 11 Nov 2025 06:17:52 -0800 (PST) Received: from postal.iol.unh.edu (postal.iol.unh.edu. [2606:4100:3880:1234::84]) by smtp-relay.gmail.com with ESMTPS id 956f58d0204a3-640d473798fsm814132d50.14.2025.11.11.06.17.52 (version=TLS1_2 cipher=ECDHE-ECDSA-AES128-GCM-SHA256 bits=128/128); Tue, 11 Nov 2025 06:17:52 -0800 (PST) X-Relaying-Domain: iol.unh.edu Date: Tue, 11 Nov 2025 06:17:52 -0800 (PST) Message-ID: <69134590.530a0220.205bd.c110SMTPIN_ADDED_MISSING@mx.google.com> Received: from [172.21.0.2] (unknown [172.18.0.240]) by postal.iol.unh.edu (Postfix) with ESMTP id 61CF66051830; Tue, 11 Nov 2025 09:17:52 -0500 (EST) Subject: |SUCCESS| pw158663-158667 [PATCH] [v4,5/5] vhost_user: Increase numb From: dpdklab@iol.unh.edu To: Test Report Cc: dpdk-test-reports@iol.unh.edu, Chenbo Xia , Maxime Coquelin In-Reply-To: <20251111114521.2902867-6-pravin.bathija@dell.com> References: <20251111114521.2902867-6-pravin.bathija@dell.com> Content-Type: text/plain X-BeenThere: test-report@dpdk.org X-Mailman-Version: 2.1.29 Precedence: list List-Id: automatic DPDK test reports List-Unsubscribe: , List-Archive: List-Post: List-Help: List-Subscribe: , Errors-To: test-report-bounces@dpdk.org Test-Label: iol-unit-amd64-testing Test-Status: SUCCESS http://dpdk.org/patch/158667 _Testing PASS_ Submitter: Pravin M Bathija Date: Tuesday, November 11 2025 11:45:21 DPDK git baseline: Repo:dpdk-next-virtio Branch: master CommitID:6b37c26a95388aa41bb5267c7c42f604fd571a38 158663-158667 --> testing pass Upstream job id: Generic-Unit-Test-DPDK#391094 Test environment and result as below: +-------------------------------+----------------+ | Environment | dpdk_unit_test | +===============================+================+ | CentOS Stream 9 | PASS | +-------------------------------+----------------+ | CentOS Stream 10 | PASS | +-------------------------------+----------------+ | Debian GNU/Linux 12 | PASS | +-------------------------------+----------------+ | Fedora Linux 40 | PASS | +-------------------------------+----------------+ | Fedora Linux 42 | PASS | +-------------------------------+----------------+ | Fedora Linux 41 | PASS | +-------------------------------+----------------+ | Red Hat Enterprise Linux 8.10 | PASS | +-------------------------------+----------------+ | Red Hat Enterprise Linux 9.5 | PASS | +-------------------------------+----------------+ | Ubuntu 22.04 | PASS | +-------------------------------+----------------+ | Ubuntu 24.04 | PASS | +-------------------------------+----------------+ | Ubuntu 20.04 | PASS | +-------------------------------+----------------+ CentOS Stream 9 Kernel: 5.15 Compiler: gcc gcc (GCC) 11.5.0 20240719 (Red Hat 11.5.0-11) CentOS Stream 10 Kernel: 5.15 Compiler: gcc gcc (GCC) 14.2.1 20250110 (Red Hat 14.2.1-8) Debian GNU/Linux 12 Kernel: 5.15 Compiler: gcc gcc (Debian 12.2.0-14+deb12u1) 12.2.0 Fedora Linux 40 Kernel: 5.15 Compiler: gcc gcc (GCC) 14.2.1 20240912 (Red Hat 14.2.1-3) Fedora Linux 42 Kernel: 5.15 Compiler: gcc gcc (GCC) 15.2.1 20250808 (Red Hat 15.2.1-1) Fedora Linux 41 Kernel: 5.15 Compiler: gcc gcc (GCC) 14.3.1 20250523 (Red Hat 14.3.1-1) Red Hat Enterprise Linux 8.10 Kernel: 5.15 Compiler: gcc gcc (GCC) 8.5.0 20210514 (Red Hat 8.5.0-22) Red Hat Enterprise Linux 9.5 Kernel: 5.15 Compiler: gcc gcc (GCC) 11.5.0 20240719 (Red Hat 11.5.0-2) Ubuntu 22.04 Kernel: 5.15 Compiler: gcc gcc (Ubuntu 11.4.0-1ubuntu1~22.04) 11.4.0 Ubuntu 24.04 Kernel: 5.15 Compiler: gcc gcc (Ubuntu 13.3.0-6ubuntu2~24.04) 13.3.0 Ubuntu 20.04 Kernel: 5.15 Compiler: gcc gcc (Ubuntu 9.4.0-1ubuntu1~20.04.2) 9.4.0 To view detailed results, visit: https://lab.dpdk.org/results/dashboard/patchsets/34535/ UNH-IOL DPDK Community Lab To manage your email subscriptions, visit: https://lab.dpdk.org/results/dashboard/preferences/subscriptions/